BEGIN:VCALENDAR
VERSION:2.0
PRODID:-//Famille à Coeur - ECPv6.2.2//NONSGML v1.0//EN
CALSCALE:GREGORIAN
METHOD:PUBLISH
X-WR-CALNAME:Famille à Coeur
X-ORIGINAL-URL:https://familleacoeur.qc.ca
X-WR-CALDESC:évènements pour Famille à Coeur
REFRESH-INTERVAL;VALUE=DURATION:PT1H
X-Robots-Tag:noindex
X-PUBLISHED-TTL:PT1H
BEGIN:VTIMEZONE
TZID:America/Toronto
BEGIN:DAYLIGHT
TZOFFSETFROM:-0500
TZOFFSETTO:-0400
TZNAME:EDT
DTSTART:20230312T070000
END:DAYLIGHT
BEGIN:STANDARD
TZOFFSETFROM:-0400
TZOFFSETTO:-0500
TZNAME:EST
DTSTART:20231105T060000
END:STANDARD
END:VTIMEZONE
BEGIN:VEVENT
DTSTART;TZID=America/Toronto:20231031T090000
DTEND;TZID=America/Toronto:20231031T130000
DTSTAMP:20260422T184447
CREATED:20231005T153601Z
LAST-MODIFIED:20231005T154304Z
UID:10000393-1698742800-1698757200@familleacoeur.qc.ca
SUMMARY:On fête l'Halloween !
DESCRIPTION:On fête l’Halloween à Famille à Coeur !| \n\nTu as entre 2 et 7 ans ? Viens nous voir le 31 octobre… Nous avons une mission pour toi et une récompense !\n\n\n(Cliquez pour agrandir l’image)\n\n \nSi vous acceptez la mission\, ouvrez l’invitation ci-dessous (en cliquant dessus) et réservez votre plage horaire !
URL:https://familleacoeur.qc.ca/evenement/on-fete-lhalloween/
CATEGORIES:Activités
END:VEVENT
END:VCALENDAR