BEGIN:VCALENDAR
VERSION:2.0
PRODID:-//Famille à Coeur - ECPv6.2.2//NONSGML v1.0//EN
CALSCALE:GREGORIAN
METHOD:PUBLISH
X-ORIGINAL-URL:https://familleacoeur.qc.ca
X-WR-CALDESC:évènements pour Famille à Coeur
REFRESH-INTERVAL;VALUE=DURATION:PT1H
X-Robots-Tag:noindex
X-PUBLISHED-TTL:PT1H
BEGIN:VTIMEZONE
TZID:America/Toronto
BEGIN:DAYLIGHT
TZOFFSETFROM:-0500
TZOFFSETTO:-0400
TZNAME:EDT
DTSTART:20230312T070000
END:DAYLIGHT
BEGIN:STANDARD
TZOFFSETFROM:-0400
TZOFFSETTO:-0500
TZNAME:EST
DTSTART:20231105T060000
END:STANDARD
END:VTIMEZONE
BEGIN:VEVENT
DTSTART;TZID=America/Toronto:20231107T190000
DTEND;TZID=America/Toronto:20231107T203000
DTSTAMP:20260422T183822
CREATED:20230615T181808Z
LAST-MODIFIED:20230824T164955Z
UID:10000266-1699383600-1699389000@familleacoeur.qc.ca
SUMMARY:Atelier-conférence - « Compliment et estime de soi  »
DESCRIPTION:Les ateliers-conférences « Parler pour que les enfants écoutent et écouter pour que les enfants parlent » sont offerts à la carte pour tous les parents qui souhaitent s’inscrire à un ou plusieurs thèmes abordés. \nLe programme est conçu pour permettre à votre famille de vivre des relations plus harmonieuses. \nCALENDRIER des ateliers-conférences (le mardi de 19 h à 20 h 30): \n\n3 octobre 2023 : Accueillir les sentiments pénibles\n10 octobre 2023 : Susciter la coopération\n17 octobre 2023 : Remplacer la punition\n24 octobre 2023 : Encourager l’autonomie\n7 novembre 2023 : Compliments et estime de soi\n14 novembre 2023 : Aider les enfants à se dégager des rôles\n\n(inscription obligatoire : 450 346-1734)
URL:https://familleacoeur.qc.ca/evenement/atelier-conference-compliment-et-estime-de-soi/
CATEGORIES:Ateliers
ATTACH;FMTTYPE=image/jpeg:https://familleacoeur.qc.ca/wp-content/uploads/2021/02/parler-ecouter2.jpg
END:VEVENT
BEGIN:VEVENT
DTSTART;TZID=America/Toronto:20231107T190000
DTEND;TZID=America/Toronto:20231107T210000
DTSTAMP:20260422T183822
CREATED:20230619T170106Z
LAST-MODIFIED:20230830T163905Z
UID:10000070-1699383600-1699390800@familleacoeur.qc.ca
SUMMARY:Groupe de soutien au deuil périnatal - automne
DESCRIPTION:Que ce soit en début de grossesse\, durant la grossesse\, à l’accouchement ou dans les premiers mois de vie de votre enfant\, le décès d’un petit être est toujours un moment difficile à traverser. Vous vivez un deuil périnatal\, vous vous sentez seul(e)\, incompris(e) et perdu(e). C’est vraiment normal et vous n’êtes pas seul(e) à vivre toute cette vague d’émotions. \nGratuit pour les membres. \n\n\nRéservation obligatoire auprès de Geneviève Boileau\n\n\n\n\n\nPar courriel : crp@familleacoeur.qc.ca\nPar téléphone : 450 346-1734\, poste 233
URL:https://familleacoeur.qc.ca/evenement/groupe-de-soutien-au-deuil-perinatal-automne/2023-11-07/
CATEGORIES:Services
ATTACH;FMTTYPE=image/jpeg:https://familleacoeur.qc.ca/wp-content/uploads/2021/02/deuil-perinatal-1.jpg
END:VEVENT
END:VCALENDAR