BEGIN:VCALENDAR
VERSION:2.0
PRODID:-//Famille à Coeur - ECPv6.2.2//NONSGML v1.0//EN
CALSCALE:GREGORIAN
METHOD:PUBLISH
X-WR-CALNAME:Famille à Coeur
X-ORIGINAL-URL:https://familleacoeur.qc.ca
X-WR-CALDESC:évènements pour Famille à Coeur
REFRESH-INTERVAL;VALUE=DURATION:PT1H
X-Robots-Tag:noindex
X-PUBLISHED-TTL:PT1H
BEGIN:VTIMEZONE
TZID:America/Toronto
BEGIN:DAYLIGHT
TZOFFSETFROM:-0500
TZOFFSETTO:-0400
TZNAME:EDT
DTSTART:20250309T070000
END:DAYLIGHT
BEGIN:STANDARD
TZOFFSETFROM:-0400
TZOFFSETTO:-0500
TZNAME:EST
DTSTART:20251102T060000
END:STANDARD
END:VTIMEZONE
BEGIN:VEVENT
DTSTART;TZID=America/Toronto:20250207T090000
DTEND;TZID=America/Toronto:20250207T120000
DTSTAMP:20260421T191923
CREATED:20250114T190424Z
LAST-MODIFIED:20250114T190424Z
UID:10001657-1738918800-1738929600@familleacoeur.qc.ca
SUMMARY:1/2 pédago (6-12 ans) – Amour sucré
DESCRIPTION:Journée Pédagogique Spéciale Saint-Valentin pour Enfants de 6 à 12 Ans ! \n  \nPour célébrer la Saint-Valentin\, nous avons préparé une journée pleine de créativité et de douceur pour vos petits artistes ! Voici le programme amoureux qui les attend : \n  \n\nCréation de Carte de Saint-Valentin : Les enfants réaliseront leurs propres cartes de Saint-Valentin avec des dessins et des photos de leur visage et des messages personnels!\n\n  \n\nDécoration Peinture Cœur Spin-Spin : Place à l’art avec la décoration de cœurs Spin-Spin ! Les enfants utiliseront des peintures et des paillettes pour personnaliser leurs cœurs de manière originale et amusante.\n\n  \n\nCréation Monstre d’Amour : Les petits créateurs auront la chance de fabriquer leur propre “monstre d’amour” en utilisant divers matériaux pour créer des personnages rigolos et attendrissants.\n\n  \n\nCréation de Petite Douceur (Cake-Pop) : Pour clôturer la journée en beauté\, les enfants prépareront des cake-pops délicieux qu’ils pourront décorer avec des glaçages et des paillettes comestibles.\n\n  \nInscrivez vos enfants pour une journée pleine de créativité\, de rires et de douceurs ! Ils repartiront avec des souvenirs précieux et des créations qu’ils seront fiers de montrer. \nPour plus d’informations ou pour inscrire vos enfants\, n’hésitez pas à nous contacter. Nous avons hâte de célébrer la Saint-Valentin avec eux !
URL:https://familleacoeur.qc.ca/evenement/1-2-pedago-6-12-ans-amour-sucre/
CATEGORIES:Activités
ATTACH;FMTTYPE=image/png:https://familleacoeur.qc.ca/wp-content/uploads/2024/11/hearts-5947464_1280.png
END:VEVENT
BEGIN:VEVENT
DTSTART;TZID=America/Toronto:20250207T100000
DTEND;TZID=America/Toronto:20250207T110000
DTSTAMP:20260421T191923
CREATED:20241114T173228Z
LAST-MODIFIED:20241114T173456Z
UID:10000945-1738922400-1738926000@familleacoeur.qc.ca
SUMMARY:Jeux et exercices pour enfants et parents (JEEP)
DESCRIPTION:Jeux Exercices Enfants Parents est une activité pour les parents et les enfants âgés de 0-12 mois\, qui désirent se remettre en forme tout en s’amusant. Chacun des exercices est adapté aux groupes d’âges des enfants et à la forme physique du parent. Le but de l’activité ? Se remettre en forme en utilisant des matériaux à notre disposition\, tout en profitant de ce moment pour passer un temps privilégié avec les enfants. \nMatériel requis : vêtements de sport\, souliers de course et gourde d’eau \nVenez bouger avec nous ! \nContre-indications : Limitations physiques tels que blessures et douleurs aux jambes\, épaules\, dos\, etc. \n\n\n\n\n\n\nDevenir membre : 20.00 $ par famille pour une année.
URL:https://familleacoeur.qc.ca/evenement/jeux-et-exercices-pour-enfants-et-parents-jeep-printemps-2/2025-02-07/
CATEGORIES:Activités
ATTACH;FMTTYPE=image/jpeg:https://familleacoeur.qc.ca/wp-content/uploads/2021/02/jeep-2.jpg
END:VEVENT
END:VCALENDAR