BEGIN:VCALENDAR
VERSION:2.0
PRODID:-//Famille à Coeur - ECPv6.2.2//NONSGML v1.0//EN
CALSCALE:GREGORIAN
METHOD:PUBLISH
X-WR-CALNAME:Famille à Coeur
X-ORIGINAL-URL:https://familleacoeur.qc.ca
X-WR-CALDESC:évènements pour Famille à Coeur
REFRESH-INTERVAL;VALUE=DURATION:PT1H
X-Robots-Tag:noindex
X-PUBLISHED-TTL:PT1H
BEGIN:VTIMEZONE
TZID:America/Toronto
BEGIN:DAYLIGHT
TZOFFSETFROM:-0500
TZOFFSETTO:-0400
TZNAME:EDT
DTSTART:20250309T070000
END:DAYLIGHT
BEGIN:STANDARD
TZOFFSETFROM:-0400
TZOFFSETTO:-0500
TZNAME:EST
DTSTART:20251102T060000
END:STANDARD
END:VTIMEZONE
BEGIN:VEVENT
DTSTART;TZID=America/Toronto:20250408T190000
DTEND;TZID=America/Toronto:20250408T210000
DTSTAMP:20260422T231459
CREATED:20250214T151427Z
LAST-MODIFIED:20250214T161127Z
UID:10001850-1744138800-1744146000@familleacoeur.qc.ca
SUMMARY:Coéquipiers père-mère - automne
DESCRIPTION:Cet atelier s’adresse à tous les parents qui désirent échanger sur l’importance de faire équipe pour leurs enfants\, ainsi que de prendre conscience de ce qu’ils vivent comme parents\, qu’ils soient en couple ou séparés\, dans le respect de la place de chacun.
URL:https://familleacoeur.qc.ca/evenement/coequipiers-pere-mere-2/2025-04-08/
CATEGORIES:Ateliers
ATTACH;FMTTYPE=image/jpeg:https://familleacoeur.qc.ca/wp-content/uploads/2021/01/apropos-titre.jpg
END:VEVENT
END:VCALENDAR