BEGIN:VCALENDAR
VERSION:2.0
PRODID:-//Famille à Coeur - ECPv6.2.2//NONSGML v1.0//EN
CALSCALE:GREGORIAN
METHOD:PUBLISH
X-ORIGINAL-URL:https://familleacoeur.qc.ca
X-WR-CALDESC:évènements pour Famille à Coeur
REFRESH-INTERVAL;VALUE=DURATION:PT1H
X-Robots-Tag:noindex
X-PUBLISHED-TTL:PT1H
BEGIN:VTIMEZONE
TZID:America/Toronto
BEGIN:DAYLIGHT
TZOFFSETFROM:-0500
TZOFFSETTO:-0400
TZNAME:EDT
DTSTART:20250309T070000
END:DAYLIGHT
BEGIN:STANDARD
TZOFFSETFROM:-0400
TZOFFSETTO:-0500
TZNAME:EST
DTSTART:20251102T060000
END:STANDARD
END:VTIMEZONE
BEGIN:VEVENT
DTSTART;TZID=America/Toronto:20250524T093000
DTEND;TZID=America/Toronto:20250524T113000
DTSTAMP:20260421T143043
CREATED:20250319T145544Z
LAST-MODIFIED:20250319T150052Z
UID:10001888-1748079000-1748086200@familleacoeur.qc.ca
SUMMARY:Groupe de soutien « L'Éveil en douceur »
DESCRIPTION:Ce groupe de soutien et de prévention de la dépression post-partum s’adresse aux mères qui vivent des difficultés émotionnelles et/ou une dépression post-partum. \nIl y aura aussi une rencontre en couple un samedi durant la session. \nGratuit pour les membres
URL:https://familleacoeur.qc.ca/evenement/groupe-de-soutien-leveil-en-douceur/2025-05-24/
CATEGORIES:Activités
ATTACH;FMTTYPE=image/jpeg:https://familleacoeur.qc.ca/wp-content/uploads/2025/03/hand-5961660_1280.jpg
END:VEVENT
END:VCALENDAR