BEGIN:VCALENDAR
VERSION:2.0
PRODID:-//Famille à Coeur - ECPv6.2.2//NONSGML v1.0//EN
CALSCALE:GREGORIAN
METHOD:PUBLISH
X-WR-CALNAME:Famille à Coeur
X-ORIGINAL-URL:https://familleacoeur.qc.ca
X-WR-CALDESC:évènements pour Famille à Coeur
REFRESH-INTERVAL;VALUE=DURATION:PT1H
X-Robots-Tag:noindex
X-PUBLISHED-TTL:PT1H
BEGIN:VTIMEZONE
TZID:America/Toronto
BEGIN:DAYLIGHT
TZOFFSETFROM:-0500
TZOFFSETTO:-0400
TZNAME:EDT
DTSTART:20250309T070000
END:DAYLIGHT
BEGIN:STANDARD
TZOFFSETFROM:-0400
TZOFFSETTO:-0500
TZNAME:EST
DTSTART:20251102T060000
END:STANDARD
END:VTIMEZONE
BEGIN:VEVENT
DTSTART;TZID=America/Toronto:20250625T130000
DTEND;TZID=America/Toronto:20250625T160000
DTSTAMP:20260421T013227
CREATED:20250521T160834Z
LAST-MODIFIED:20250530T153515Z
UID:10001952-1750856400-1750867200@familleacoeur.qc.ca
SUMMARY:Activités pour les 6-12 ans - SPLISH-SPLASH
DESCRIPTION:De 13h à 16h\, les participants profiteront des jeux d’eau dans le parc Alphonse Lorrain\, en face de Famille à Coeur. \nCoût 15$ \nMatériel requis : Maillot de bain \, serviette \, casquette \, crème solaire \, soulier d’eau ou crocs \, bouteille d’eau \, collations \, vêtements de rechange.
URL:https://familleacoeur.qc.ca/evenement/activites-pour-les-6-12-ans-splish-splash/
CATEGORIES:Activités
ATTACH;FMTTYPE=image/jpeg:https://familleacoeur.qc.ca/wp-content/uploads/2025/05/post-atelier--e1747408456321.jpg
END:VEVENT
END:VCALENDAR