BEGIN:VCALENDAR
VERSION:2.0
PRODID:-//Famille à Coeur - ECPv6.2.2//NONSGML v1.0//EN
CALSCALE:GREGORIAN
METHOD:PUBLISH
X-ORIGINAL-URL:https://familleacoeur.qc.ca
X-WR-CALDESC:évènements pour Famille à Coeur
REFRESH-INTERVAL;VALUE=DURATION:PT1H
X-Robots-Tag:noindex
X-PUBLISHED-TTL:PT1H
BEGIN:VTIMEZONE
TZID:America/Toronto
BEGIN:DAYLIGHT
TZOFFSETFROM:-0500
TZOFFSETTO:-0400
TZNAME:EDT
DTSTART:20250309T070000
END:DAYLIGHT
BEGIN:STANDARD
TZOFFSETFROM:-0400
TZOFFSETTO:-0500
TZNAME:EST
DTSTART:20251102T060000
END:STANDARD
END:VTIMEZONE
BEGIN:VEVENT
DTSTART;TZID=America/Toronto:20250718T093000
DTEND;TZID=America/Toronto:20250718T120000
DTSTAMP:20260420T030550
CREATED:20250613T135818Z
LAST-MODIFIED:20250613T141212Z
UID:10001974-1752831000-1752840000@familleacoeur.qc.ca
SUMMARY:Activités SPLISH-SPLASH - pères-enfants
DESCRIPTION:De 9h30-12h\, les participants (pères et enfants) profiteront des jeux d’eau et des activités animées\, dans le parc Ronald Beauregard \nCoût : 5$ pour les pères et gratuit pour les enfants \nMatériel requis : Maillot de bain (ou vêtement de sport qui sèche rapidement)\, vêtements de sports\, serviette \, crème solaire \, bouteille d’eau \, sandales ou soulier d’eau \, collations. \nAnnulé en cas de pluie
URL:https://familleacoeur.qc.ca/evenement/activites-splish-splash-peres-enfants/
CATEGORIES:Activités
ATTACH;FMTTYPE=image/png:https://familleacoeur.qc.ca/wp-content/uploads/2025/06/Un-pere-nest-pas-celui-qui-donne-la-vie-cest-celui-qui-montre-comment-la-vivre.-1-e1749823919581.png
END:VEVENT
END:VCALENDAR