BEGIN:VCALENDAR
VERSION:2.0
PRODID:-//Famille à Coeur - ECPv6.2.2//NONSGML v1.0//EN
CALSCALE:GREGORIAN
METHOD:PUBLISH
X-WR-CALNAME:Famille à Coeur
X-ORIGINAL-URL:https://familleacoeur.qc.ca
X-WR-CALDESC:évènements pour Famille à Coeur
REFRESH-INTERVAL;VALUE=DURATION:PT1H
X-Robots-Tag:noindex
X-PUBLISHED-TTL:PT1H
BEGIN:VTIMEZONE
TZID:America/Toronto
BEGIN:DAYLIGHT
TZOFFSETFROM:-0500
TZOFFSETTO:-0400
TZNAME:EDT
DTSTART:20250309T070000
END:DAYLIGHT
BEGIN:STANDARD
TZOFFSETFROM:-0400
TZOFFSETTO:-0500
TZNAME:EST
DTSTART:20251102T060000
END:STANDARD
END:VTIMEZONE
BEGIN:VEVENT
DTSTART;TZID=America/Toronto:20251105T093000
DTEND;TZID=America/Toronto:20251105T113000
DTSTAMP:20260420T031927
CREATED:20250820T153220Z
LAST-MODIFIED:20250820T153751Z
UID:10002084-1762335000-1762342200@familleacoeur.qc.ca
SUMMARY:Café-jasette «Les Galipettes» pour parents et enfants de 2 à 5 ans
DESCRIPTION:Pour parents et enfants âgés de 2 à 5 ans. \nPour connaître les prochaines dates de rencontres pour la session à venir\, consultez la page Facebook de Famille à Cœur ou notre calendrier.
URL:https://familleacoeur.qc.ca/evenement/cafe-jasette-les-galipettes-pour-parents-et-enfants-de-2-a-5-ans-2-2-2-2/2025-11-05/
CATEGORIES:Activités
ATTACH;FMTTYPE=image/jpeg:https://familleacoeur.qc.ca/wp-content/uploads/2021/02/galipettes2.jpg
END:VEVENT
BEGIN:VEVENT
DTSTART;TZID=America/Toronto:20251105T180000
DTEND;TZID=America/Toronto:20251105T200000
DTSTAMP:20260420T031927
CREATED:20250919T135825Z
LAST-MODIFIED:20250919T135933Z
UID:10001797-1762365600-1762372800@familleacoeur.qc.ca
SUMMARY:Parler pour que les enfants écoutent\, écouter pour que les enfants parlent
DESCRIPTION:Description : Ce programme est conçu pour permettre à votre famille de vivre des relations plus harmonieuses. Échelonné sur 8 rencontres\, il sera question de présence\, de leadership\, de communication\, d’écoute\, d’attention et de beauté du moment présent. Ces ateliers ont pour objectif d’aider les parents à développer divers outils en passant par six thèmes : \n1. Accueillir les sentiments pénibles \n2. Susciter la coopération \n3. Remplacer la punition \n4. Encourager l’autonomie \n5. Compliments et estime de soi \n6. Aider les enfants à se dégager des rôles
URL:https://familleacoeur.qc.ca/evenement/parler-pour-que-les-enfants-ecoutent-ecouter-pour-que-les-enfants-parlent-2-2/2025-11-05/
CATEGORIES:Ateliers
ATTACH;FMTTYPE=image/jpeg:https://familleacoeur.qc.ca/wp-content/uploads/2021/02/parler-ecouter2.jpg
END:VEVENT
END:VCALENDAR