BEGIN:VCALENDAR
VERSION:2.0
PRODID:-//Famille à Coeur - ECPv6.2.2//NONSGML v1.0//EN
CALSCALE:GREGORIAN
METHOD:PUBLISH
X-WR-CALNAME:Famille à Coeur
X-ORIGINAL-URL:https://familleacoeur.qc.ca
X-WR-CALDESC:évènements pour Famille à Coeur
REFRESH-INTERVAL;VALUE=DURATION:PT1H
X-Robots-Tag:noindex
X-PUBLISHED-TTL:PT1H
BEGIN:VTIMEZONE
TZID:America/Toronto
BEGIN:DAYLIGHT
TZOFFSETFROM:-0500
TZOFFSETTO:-0400
TZNAME:EDT
DTSTART:20250309T070000
END:DAYLIGHT
BEGIN:STANDARD
TZOFFSETFROM:-0400
TZOFFSETTO:-0500
TZNAME:EST
DTSTART:20251102T060000
END:STANDARD
END:VTIMEZONE
BEGIN:VEVENT
DTSTART;TZID=America/Toronto:20251121T130000
DTEND;TZID=America/Toronto:20251121T160000
DTSTAMP:20260421T001257
CREATED:20250919T135141Z
LAST-MODIFIED:20250919T135235Z
UID:10002190-1763730000-1763740800@familleacoeur.qc.ca
SUMMARY:1/2 pédago (6-12 ans) - "Glow in the dark"
DESCRIPTION:Un après-midi d’activités réservé aux enfants de 6 à 12 ans \n\nPeinture dans le noir avec lumière black lights\nCréation d’une balle rebondissante\nEt +\n\n  \n10 $ par enfant \n  \n  \n 
URL:https://familleacoeur.qc.ca/evenement/1-2-pedago-6-12-ans-glow-in-the-dark/
CATEGORIES:Activités
ATTACH;FMTTYPE=image/jpeg:https://familleacoeur.qc.ca/wp-content/uploads/2025/05/pexels-roseleon-3231775.jpg
END:VEVENT
END:VCALENDAR