BEGIN:VCALENDAR
VERSION:2.0
PRODID:-//Famille à Coeur - ECPv6.2.2//NONSGML v1.0//EN
CALSCALE:GREGORIAN
METHOD:PUBLISH
X-ORIGINAL-URL:https://familleacoeur.qc.ca
X-WR-CALDESC:évènements pour Famille à Coeur
REFRESH-INTERVAL;VALUE=DURATION:PT1H
X-Robots-Tag:noindex
X-PUBLISHED-TTL:PT1H
BEGIN:VTIMEZONE
TZID:America/Toronto
BEGIN:DAYLIGHT
TZOFFSETFROM:-0500
TZOFFSETTO:-0400
TZNAME:EDT
DTSTART:20230312T070000
END:DAYLIGHT
BEGIN:STANDARD
TZOFFSETFROM:-0400
TZOFFSETTO:-0500
TZNAME:EST
DTSTART:20231105T060000
END:STANDARD
END:VTIMEZONE
BEGIN:VEVENT
DTSTART;TZID=America/Toronto:20230501T140000
DTEND;TZID=America/Toronto:20230501T150000
DTSTAMP:20260423T024327
CREATED:20210203T185616Z
LAST-MODIFIED:20230424T141215Z
UID:10000094-1682949600-1682953200@familleacoeur.qc.ca
SUMMARY:Jeux et exercices pour enfants et parents (JEEP)
DESCRIPTION:Jeux Exercices Enfants Parents est une activité pour les parents et les enfants âgés de 0-12 mois\, qui désirent se remettre en forme tout en s’amusant. Chacun des exercices est adapté aux groupes d’âges des enfants et à la forme physique du parent. Le but de l’activité ? Se remettre en forme en utilisant des matériaux à notre disposition\, tout en profitant de ce moment pour passer un temps privilégié avec les enfants. \nMatériel requis : vêtements de sport\, souliers de course et gourde d’eau \nVenez bouger avec nous ! \nContre-indications : Limitations physiques tels que blessures et douleurs aux jambes\, épaules\, dos\, etc. \n\n\n\n\n\n\nDevenir membre : 20.00 $ par famille pour une année.
URL:https://familleacoeur.qc.ca/evenement/jeux-et-exercices-pour-enfants-et-parents-jeep/2023-05-01/
CATEGORIES:Activités
ATTACH;FMTTYPE=image/jpeg:https://familleacoeur.qc.ca/wp-content/uploads/2021/02/jeep-2.jpg
END:VEVENT
BEGIN:VEVENT
DTSTART;TZID=America/Toronto:20230504T183000
DTEND;TZID=America/Toronto:20230504T200000
DTSTAMP:20260423T024327
CREATED:20230131T194455Z
LAST-MODIFIED:20230131T194742Z
UID:10000016-1683225000-1683230400@familleacoeur.qc.ca
SUMMARY:SNAP (Stop N'agis pas Analyse et Planifie)
DESCRIPTION:SNAP (Stop N‘agis pas Analyse et Planifie) est un programme offert pour les enfants de 6 à 11 ans\, étant aux prises avec des troubles de comportements\, des difficultés à gérer ses émotions et/ou rencontrant des difficultés avec l’autorité. \nPendant 13 semaines\, les enfants travaillent à acquérir et à consolider des habiletés tant au niveau social que de la gestion des émotions. \nLes parents\, quant à eux\, travaillent à acquérir de nouvelles habiletés parentales et développent des outils quant à la gestion de leurs propres émotions. \nSNAP est un programme cliniquement éprouvé dans le Canada anglais depuis plusieurs décennies. Les familles participant au programme SNAP se voit offrir un suivi hebdomadaire et peuvent bénéficier d’un soutien individualisé et / ou familial à long terme au besoin.
URL:https://familleacoeur.qc.ca/evenement/snap-stop-nagis-pas-analyse-et-planifie/2023-05-04/
CATEGORIES:Activités,Ateliers
ATTACH;FMTTYPE=image/jpeg:https://familleacoeur.qc.ca/wp-content/uploads/2023/01/woman-gd9480165d_1920.jpg
END:VEVENT
BEGIN:VEVENT
DTSTART;TZID=America/Toronto:20230508T140000
DTEND;TZID=America/Toronto:20230508T150000
DTSTAMP:20260423T024327
CREATED:20210203T185616Z
LAST-MODIFIED:20230424T141215Z
UID:10000095-1683554400-1683558000@familleacoeur.qc.ca
SUMMARY:Jeux et exercices pour enfants et parents (JEEP)
DESCRIPTION:Jeux Exercices Enfants Parents est une activité pour les parents et les enfants âgés de 0-12 mois\, qui désirent se remettre en forme tout en s’amusant. Chacun des exercices est adapté aux groupes d’âges des enfants et à la forme physique du parent. Le but de l’activité ? Se remettre en forme en utilisant des matériaux à notre disposition\, tout en profitant de ce moment pour passer un temps privilégié avec les enfants. \nMatériel requis : vêtements de sport\, souliers de course et gourde d’eau \nVenez bouger avec nous ! \nContre-indications : Limitations physiques tels que blessures et douleurs aux jambes\, épaules\, dos\, etc. \n\n\n\n\n\n\nDevenir membre : 20.00 $ par famille pour une année.
URL:https://familleacoeur.qc.ca/evenement/jeux-et-exercices-pour-enfants-et-parents-jeep/2023-05-08/
CATEGORIES:Activités
ATTACH;FMTTYPE=image/jpeg:https://familleacoeur.qc.ca/wp-content/uploads/2021/02/jeep-2.jpg
END:VEVENT
BEGIN:VEVENT
DTSTART;TZID=America/Toronto:20230511T183000
DTEND;TZID=America/Toronto:20230511T200000
DTSTAMP:20260423T024327
CREATED:20230131T194455Z
LAST-MODIFIED:20230131T194742Z
UID:10000017-1683829800-1683835200@familleacoeur.qc.ca
SUMMARY:SNAP (Stop N'agis pas Analyse et Planifie)
DESCRIPTION:SNAP (Stop N‘agis pas Analyse et Planifie) est un programme offert pour les enfants de 6 à 11 ans\, étant aux prises avec des troubles de comportements\, des difficultés à gérer ses émotions et/ou rencontrant des difficultés avec l’autorité. \nPendant 13 semaines\, les enfants travaillent à acquérir et à consolider des habiletés tant au niveau social que de la gestion des émotions. \nLes parents\, quant à eux\, travaillent à acquérir de nouvelles habiletés parentales et développent des outils quant à la gestion de leurs propres émotions. \nSNAP est un programme cliniquement éprouvé dans le Canada anglais depuis plusieurs décennies. Les familles participant au programme SNAP se voit offrir un suivi hebdomadaire et peuvent bénéficier d’un soutien individualisé et / ou familial à long terme au besoin.
URL:https://familleacoeur.qc.ca/evenement/snap-stop-nagis-pas-analyse-et-planifie/2023-05-11/
CATEGORIES:Activités,Ateliers
ATTACH;FMTTYPE=image/jpeg:https://familleacoeur.qc.ca/wp-content/uploads/2023/01/woman-gd9480165d_1920.jpg
END:VEVENT
BEGIN:VEVENT
DTSTART;TZID=America/Toronto:20230518T183000
DTEND;TZID=America/Toronto:20230518T200000
DTSTAMP:20260423T024327
CREATED:20230131T194455Z
LAST-MODIFIED:20230131T194742Z
UID:10000018-1684434600-1684440000@familleacoeur.qc.ca
SUMMARY:SNAP (Stop N'agis pas Analyse et Planifie)
DESCRIPTION:SNAP (Stop N‘agis pas Analyse et Planifie) est un programme offert pour les enfants de 6 à 11 ans\, étant aux prises avec des troubles de comportements\, des difficultés à gérer ses émotions et/ou rencontrant des difficultés avec l’autorité. \nPendant 13 semaines\, les enfants travaillent à acquérir et à consolider des habiletés tant au niveau social que de la gestion des émotions. \nLes parents\, quant à eux\, travaillent à acquérir de nouvelles habiletés parentales et développent des outils quant à la gestion de leurs propres émotions. \nSNAP est un programme cliniquement éprouvé dans le Canada anglais depuis plusieurs décennies. Les familles participant au programme SNAP se voit offrir un suivi hebdomadaire et peuvent bénéficier d’un soutien individualisé et / ou familial à long terme au besoin.
URL:https://familleacoeur.qc.ca/evenement/snap-stop-nagis-pas-analyse-et-planifie/2023-05-18/
CATEGORIES:Activités,Ateliers
ATTACH;FMTTYPE=image/jpeg:https://familleacoeur.qc.ca/wp-content/uploads/2023/01/woman-gd9480165d_1920.jpg
END:VEVENT
BEGIN:VEVENT
DTSTART;TZID=America/Toronto:20230519T110000
DTEND;TZID=America/Toronto:20230519T120000
DTSTAMP:20260423T024327
CREATED:20210203T165424Z
LAST-MODIFIED:20230515T185643Z
UID:10000075-1684494000-1684497600@familleacoeur.qc.ca
SUMMARY:Massage bébé
DESCRIPTION:Avec enfants âgés de 0 à 12 mois. \nCet atelier permet de créer ou renforcer le lien d’attachement parent-enfant\, de se détendre et se relaxer\, diminuer le stress (masseur et massé)\, favoriser le développement psychomoteur de bébé\, rencontrer et échanger avec d’autres parents. \nVous apprendrez une routine complète pour masser votre bébé\, quelques petits exercices adaptés et d’autres petits trucs afin d’aider à soulager certains maux (gaz\, coliques\, congestion\, poussée dentaire\, etc.). Vous pourrez comprendre les bienfaits du massage chez votre enfant\, les moments favorables au massage pour vous et lui. Merveilleux moment pour apprendre à connaître le langage du corps de votre bébé et de créer de solides liens ! \nMatériel requis : piqué\, couverture\, petite serviette\, jouet préféré de votre bébé \nHabillement suggéré : vêtements confortables
URL:https://familleacoeur.qc.ca/evenement/massage-bebe/2023-05-19/
CATEGORIES:Activités
ATTACH;FMTTYPE=image/jpeg:https://familleacoeur.qc.ca/wp-content/uploads/2021/02/massage-bebe1.jpg
END:VEVENT
BEGIN:VEVENT
DTSTART;TZID=America/Toronto:20230525T093000
DTEND;TZID=America/Toronto:20230525T113000
DTSTAMP:20260423T024327
CREATED:20230619T170717Z
LAST-MODIFIED:20230619T171147Z
UID:10000038-1685007000-1685014200@familleacoeur.qc.ca
SUMMARY:Les p’tits matins bedons poupons - été
DESCRIPTION:Cette activité s’adresse aux parents d’enfants de 0 (grossesse) à 2 ans. Les p’tits matins bedons poupons se déroulent de 9 h 30 à 11 h 30 à tous les jeudis. Le but est de permettre à ces parents de rencontrer d’autres parents\, afin d’échanger et d’en apprendre sur des sujets en lien direct avec leur réalité commune\, accompagnés de leur poupon. À l’occasion nous avons des invités qui viennent discuter de différents sujets tels que la nutrition (DME)\, ostéopathie\, massothérapie pour bébé\, etc. \nGratuit pour les membres.
URL:https://familleacoeur.qc.ca/evenement/les-ptits-matins-bedons-poupons-ete/2023-05-25/
CATEGORIES:Activités,Services
ATTACH;FMTTYPE=image/jpeg:https://familleacoeur.qc.ca/wp-content/uploads/2021/02/bedons-poupons.jpg
END:VEVENT
BEGIN:VEVENT
DTSTART;TZID=America/Toronto:20230526T110000
DTEND;TZID=America/Toronto:20230526T120000
DTSTAMP:20260423T024327
CREATED:20210203T165424Z
LAST-MODIFIED:20230515T185643Z
UID:10000076-1685098800-1685102400@familleacoeur.qc.ca
SUMMARY:Massage bébé
DESCRIPTION:Avec enfants âgés de 0 à 12 mois. \nCet atelier permet de créer ou renforcer le lien d’attachement parent-enfant\, de se détendre et se relaxer\, diminuer le stress (masseur et massé)\, favoriser le développement psychomoteur de bébé\, rencontrer et échanger avec d’autres parents. \nVous apprendrez une routine complète pour masser votre bébé\, quelques petits exercices adaptés et d’autres petits trucs afin d’aider à soulager certains maux (gaz\, coliques\, congestion\, poussée dentaire\, etc.). Vous pourrez comprendre les bienfaits du massage chez votre enfant\, les moments favorables au massage pour vous et lui. Merveilleux moment pour apprendre à connaître le langage du corps de votre bébé et de créer de solides liens ! \nMatériel requis : piqué\, couverture\, petite serviette\, jouet préféré de votre bébé \nHabillement suggéré : vêtements confortables
URL:https://familleacoeur.qc.ca/evenement/massage-bebe/2023-05-26/
CATEGORIES:Activités
ATTACH;FMTTYPE=image/jpeg:https://familleacoeur.qc.ca/wp-content/uploads/2021/02/massage-bebe1.jpg
END:VEVENT
END:VCALENDAR