BEGIN:VCALENDAR
VERSION:2.0
PRODID:-//Famille à Coeur - ECPv6.2.2//NONSGML v1.0//EN
CALSCALE:GREGORIAN
METHOD:PUBLISH
X-ORIGINAL-URL:https://familleacoeur.qc.ca
X-WR-CALDESC:évènements pour Famille à Coeur
REFRESH-INTERVAL;VALUE=DURATION:PT1H
X-Robots-Tag:noindex
X-PUBLISHED-TTL:PT1H
BEGIN:VTIMEZONE
TZID:America/Toronto
BEGIN:DAYLIGHT
TZOFFSETFROM:-0500
TZOFFSETTO:-0400
TZNAME:EDT
DTSTART:20230312T070000
END:DAYLIGHT
BEGIN:STANDARD
TZOFFSETFROM:-0400
TZOFFSETTO:-0500
TZNAME:EST
DTSTART:20231105T060000
END:STANDARD
END:VTIMEZONE
BEGIN:VEVENT
DTSTART;TZID=America/Toronto:20230810T093000
DTEND;TZID=America/Toronto:20230810T113000
DTSTAMP:20260422T222112
CREATED:20210203T170030Z
LAST-MODIFIED:20230619T152232Z
UID:10000119-1691659800-1691667000@familleacoeur.qc.ca
SUMMARY:Les p'tits matins bedons poupons
DESCRIPTION:Cette activité s’adresse aux parents d’enfants de 0 (grossesse) à 2 ans. Les p’tits matins bedons poupons se déroulent de 9 h 30 à 11 h 30 à tous les jeudis. Le but est de permettre à ces parents de rencontrer d’autres parents\, afin d’échanger et d’en apprendre sur des sujets en lien direct avec leur réalité commune\, accompagnés de leur poupon. À l’occasion nous avons des invités qui viennent discuter de différents sujets tels que la nutrition (DME)\, ostéopathie\, massothérapie pour bébé\, etc. \nGratuit pour les membres.
URL:https://familleacoeur.qc.ca/evenement/les-ptits-matins-bedons-poupons/2023-08-10/
CATEGORIES:Activités
ATTACH;FMTTYPE=image/jpeg:https://familleacoeur.qc.ca/wp-content/uploads/2021/02/bedons-poupons2.jpg
END:VEVENT
BEGIN:VEVENT
DTSTART;TZID=America/Toronto:20230817T093000
DTEND;TZID=America/Toronto:20230817T113000
DTSTAMP:20260422T222112
CREATED:20210203T170030Z
LAST-MODIFIED:20230619T152232Z
UID:10000120-1692264600-1692271800@familleacoeur.qc.ca
SUMMARY:Les p'tits matins bedons poupons
DESCRIPTION:Cette activité s’adresse aux parents d’enfants de 0 (grossesse) à 2 ans. Les p’tits matins bedons poupons se déroulent de 9 h 30 à 11 h 30 à tous les jeudis. Le but est de permettre à ces parents de rencontrer d’autres parents\, afin d’échanger et d’en apprendre sur des sujets en lien direct avec leur réalité commune\, accompagnés de leur poupon. À l’occasion nous avons des invités qui viennent discuter de différents sujets tels que la nutrition (DME)\, ostéopathie\, massothérapie pour bébé\, etc. \nGratuit pour les membres.
URL:https://familleacoeur.qc.ca/evenement/les-ptits-matins-bedons-poupons/2023-08-17/
CATEGORIES:Activités
ATTACH;FMTTYPE=image/jpeg:https://familleacoeur.qc.ca/wp-content/uploads/2021/02/bedons-poupons2.jpg
END:VEVENT
BEGIN:VEVENT
DTSTART;TZID=America/Toronto:20230824T093000
DTEND;TZID=America/Toronto:20230824T113000
DTSTAMP:20260422T222112
CREATED:20210203T170030Z
LAST-MODIFIED:20230619T152232Z
UID:10000121-1692869400-1692876600@familleacoeur.qc.ca
SUMMARY:Les p'tits matins bedons poupons
DESCRIPTION:Cette activité s’adresse aux parents d’enfants de 0 (grossesse) à 2 ans. Les p’tits matins bedons poupons se déroulent de 9 h 30 à 11 h 30 à tous les jeudis. Le but est de permettre à ces parents de rencontrer d’autres parents\, afin d’échanger et d’en apprendre sur des sujets en lien direct avec leur réalité commune\, accompagnés de leur poupon. À l’occasion nous avons des invités qui viennent discuter de différents sujets tels que la nutrition (DME)\, ostéopathie\, massothérapie pour bébé\, etc. \nGratuit pour les membres.
URL:https://familleacoeur.qc.ca/evenement/les-ptits-matins-bedons-poupons/2023-08-24/
CATEGORIES:Activités
ATTACH;FMTTYPE=image/jpeg:https://familleacoeur.qc.ca/wp-content/uploads/2021/02/bedons-poupons2.jpg
END:VEVENT
BEGIN:VEVENT
DTSTART;TZID=America/Toronto:20230824T183000
DTEND;TZID=America/Toronto:20230824T203000
DTSTAMP:20260422T222112
CREATED:20230828T154420Z
LAST-MODIFIED:20230828T154420Z
UID:10000272-1692901800-1692909000@familleacoeur.qc.ca
SUMMARY:Rencontres prénatales - automne - session 1
DESCRIPTION:Rencontres prénatales pour mieux se préparer à l’accouchement. \nPour connaître les prochaines dates de rencontres pour la session à venir\, consultez la page Facebook de Famille à Cœur ou notre calendrier.
URL:https://familleacoeur.qc.ca/evenement/rencontres-prenatales-2/2023-08-24/
CATEGORIES:Services
ATTACH;FMTTYPE=image/jpeg:https://familleacoeur.qc.ca/wp-content/uploads/2021/08/rencontres-prenatales-1.jpg
END:VEVENT
BEGIN:VEVENT
DTSTART;TZID=America/Toronto:20230824T190000
DTEND;TZID=America/Toronto:20230824T210000
DTSTAMP:20260422T222112
CREATED:20220810T164021Z
LAST-MODIFIED:20230731T164833Z
UID:10000092-1692903600-1692910800@familleacoeur.qc.ca
SUMMARY:Soirées de pères
DESCRIPTION:Groupe de soutien et discussions entre pères sur le sujet de la paternité. \nGratuit pour les membres \nUn service de garde est offert gratuitement aux participants\, sur réservation. \nPour connaître les prochaines dates\, consultez la page Facebook de Maison Oxygène Haut-Richelieu ou notre calendrier.
URL:https://familleacoeur.qc.ca/evenement/soirees-de-peres/
CATEGORIES:Activités
ATTACH;FMTTYPE=image/jpeg:https://familleacoeur.qc.ca/wp-content/uploads/2021/02/father-son-walking-field-sunset-time-boy-sitting-mans-shoulders-scaled-e1612372286721.jpg
END:VEVENT
BEGIN:VEVENT
DTSTART;TZID=America/Toronto:20230831T093000
DTEND;TZID=America/Toronto:20230831T113000
DTSTAMP:20260422T222112
CREATED:20210203T170030Z
LAST-MODIFIED:20230619T152232Z
UID:10000122-1693474200-1693481400@familleacoeur.qc.ca
SUMMARY:Les p'tits matins bedons poupons
DESCRIPTION:Cette activité s’adresse aux parents d’enfants de 0 (grossesse) à 2 ans. Les p’tits matins bedons poupons se déroulent de 9 h 30 à 11 h 30 à tous les jeudis. Le but est de permettre à ces parents de rencontrer d’autres parents\, afin d’échanger et d’en apprendre sur des sujets en lien direct avec leur réalité commune\, accompagnés de leur poupon. À l’occasion nous avons des invités qui viennent discuter de différents sujets tels que la nutrition (DME)\, ostéopathie\, massothérapie pour bébé\, etc. \nGratuit pour les membres.
URL:https://familleacoeur.qc.ca/evenement/les-ptits-matins-bedons-poupons/2023-08-31/
CATEGORIES:Activités
ATTACH;FMTTYPE=image/jpeg:https://familleacoeur.qc.ca/wp-content/uploads/2021/02/bedons-poupons2.jpg
END:VEVENT
BEGIN:VEVENT
DTSTART;TZID=America/Toronto:20230831T183000
DTEND;TZID=America/Toronto:20230831T203000
DTSTAMP:20260422T222112
CREATED:20230828T154420Z
LAST-MODIFIED:20230828T154420Z
UID:10000337-1693506600-1693513800@familleacoeur.qc.ca
SUMMARY:Rencontres prénatales - automne - session 1
DESCRIPTION:Rencontres prénatales pour mieux se préparer à l’accouchement. \nPour connaître les prochaines dates de rencontres pour la session à venir\, consultez la page Facebook de Famille à Cœur ou notre calendrier.
URL:https://familleacoeur.qc.ca/evenement/rencontres-prenatales-2/2023-08-31/
CATEGORIES:Services
ATTACH;FMTTYPE=image/jpeg:https://familleacoeur.qc.ca/wp-content/uploads/2021/08/rencontres-prenatales-1.jpg
END:VEVENT
END:VCALENDAR