BEGIN:VCALENDAR
VERSION:2.0
PRODID:-//Famille à Coeur - ECPv6.2.2//NONSGML v1.0//EN
CALSCALE:GREGORIAN
METHOD:PUBLISH
X-ORIGINAL-URL:https://familleacoeur.qc.ca
X-WR-CALDESC:évènements pour Famille à Coeur
REFRESH-INTERVAL;VALUE=DURATION:PT1H
X-Robots-Tag:noindex
X-PUBLISHED-TTL:PT1H
BEGIN:VTIMEZONE
TZID:America/Toronto
BEGIN:DAYLIGHT
TZOFFSETFROM:-0500
TZOFFSETTO:-0400
TZNAME:EDT
DTSTART:20230312T070000
END:DAYLIGHT
BEGIN:STANDARD
TZOFFSETFROM:-0400
TZOFFSETTO:-0500
TZNAME:EST
DTSTART:20231105T060000
END:STANDARD
END:VTIMEZONE
BEGIN:VEVENT
DTSTART;TZID=America/Toronto:20230905T190000
DTEND;TZID=America/Toronto:20230905T210000
DTSTAMP:20260422T203027
CREATED:20230619T170106Z
LAST-MODIFIED:20230830T163905Z
UID:10000068-1693940400-1693947600@familleacoeur.qc.ca
SUMMARY:Groupe de soutien au deuil périnatal - automne
DESCRIPTION:Que ce soit en début de grossesse\, durant la grossesse\, à l’accouchement ou dans les premiers mois de vie de votre enfant\, le décès d’un petit être est toujours un moment difficile à traverser. Vous vivez un deuil périnatal\, vous vous sentez seul(e)\, incompris(e) et perdu(e). C’est vraiment normal et vous n’êtes pas seul(e) à vivre toute cette vague d’émotions. \nGratuit pour les membres. \n\n\nRéservation obligatoire auprès de Geneviève Boileau\n\n\n\n\n\nPar courriel : crp@familleacoeur.qc.ca\nPar téléphone : 450 346-1734\, poste 233
URL:https://familleacoeur.qc.ca/evenement/groupe-de-soutien-au-deuil-perinatal-automne/2023-09-05/
CATEGORIES:Services
ATTACH;FMTTYPE=image/jpeg:https://familleacoeur.qc.ca/wp-content/uploads/2021/02/deuil-perinatal-1.jpg
END:VEVENT
BEGIN:VEVENT
DTSTART;TZID=America/Toronto:20230907T093000
DTEND;TZID=America/Toronto:20230907T113000
DTSTAMP:20260422T203027
CREATED:20210203T170030Z
LAST-MODIFIED:20230619T152232Z
UID:10000123-1694079000-1694086200@familleacoeur.qc.ca
SUMMARY:Les p'tits matins bedons poupons
DESCRIPTION:Cette activité s’adresse aux parents d’enfants de 0 (grossesse) à 2 ans. Les p’tits matins bedons poupons se déroulent de 9 h 30 à 11 h 30 à tous les jeudis. Le but est de permettre à ces parents de rencontrer d’autres parents\, afin d’échanger et d’en apprendre sur des sujets en lien direct avec leur réalité commune\, accompagnés de leur poupon. À l’occasion nous avons des invités qui viennent discuter de différents sujets tels que la nutrition (DME)\, ostéopathie\, massothérapie pour bébé\, etc. \nGratuit pour les membres.
URL:https://familleacoeur.qc.ca/evenement/les-ptits-matins-bedons-poupons/2023-09-07/
CATEGORIES:Activités
ATTACH;FMTTYPE=image/jpeg:https://familleacoeur.qc.ca/wp-content/uploads/2021/02/bedons-poupons2.jpg
END:VEVENT
BEGIN:VEVENT
DTSTART;TZID=America/Toronto:20230907T183000
DTEND;TZID=America/Toronto:20230907T203000
DTSTAMP:20260422T203027
CREATED:20230828T154420Z
LAST-MODIFIED:20230828T154420Z
UID:10000338-1694111400-1694118600@familleacoeur.qc.ca
SUMMARY:Rencontres prénatales - automne - session 1
DESCRIPTION:Rencontres prénatales pour mieux se préparer à l’accouchement. \nPour connaître les prochaines dates de rencontres pour la session à venir\, consultez la page Facebook de Famille à Cœur ou notre calendrier.
URL:https://familleacoeur.qc.ca/evenement/rencontres-prenatales-2/2023-09-07/
CATEGORIES:Services
ATTACH;FMTTYPE=image/jpeg:https://familleacoeur.qc.ca/wp-content/uploads/2021/08/rencontres-prenatales-1.jpg
END:VEVENT
BEGIN:VEVENT
DTSTART;TZID=America/Toronto:20230914T093000
DTEND;TZID=America/Toronto:20230914T113000
DTSTAMP:20260422T203027
CREATED:20210203T170030Z
LAST-MODIFIED:20230619T152232Z
UID:10000124-1694683800-1694691000@familleacoeur.qc.ca
SUMMARY:Les p'tits matins bedons poupons
DESCRIPTION:Cette activité s’adresse aux parents d’enfants de 0 (grossesse) à 2 ans. Les p’tits matins bedons poupons se déroulent de 9 h 30 à 11 h 30 à tous les jeudis. Le but est de permettre à ces parents de rencontrer d’autres parents\, afin d’échanger et d’en apprendre sur des sujets en lien direct avec leur réalité commune\, accompagnés de leur poupon. À l’occasion nous avons des invités qui viennent discuter de différents sujets tels que la nutrition (DME)\, ostéopathie\, massothérapie pour bébé\, etc. \nGratuit pour les membres.
URL:https://familleacoeur.qc.ca/evenement/les-ptits-matins-bedons-poupons/2023-09-14/
CATEGORIES:Activités
ATTACH;FMTTYPE=image/jpeg:https://familleacoeur.qc.ca/wp-content/uploads/2021/02/bedons-poupons2.jpg
END:VEVENT
BEGIN:VEVENT
DTSTART;TZID=America/Toronto:20230914T183000
DTEND;TZID=America/Toronto:20230914T203000
DTSTAMP:20260422T203027
CREATED:20230828T154420Z
LAST-MODIFIED:20230828T154420Z
UID:10000339-1694716200-1694723400@familleacoeur.qc.ca
SUMMARY:Rencontres prénatales - automne - session 1
DESCRIPTION:Rencontres prénatales pour mieux se préparer à l’accouchement. \nPour connaître les prochaines dates de rencontres pour la session à venir\, consultez la page Facebook de Famille à Cœur ou notre calendrier.
URL:https://familleacoeur.qc.ca/evenement/rencontres-prenatales-2/2023-09-14/
CATEGORIES:Services
ATTACH;FMTTYPE=image/jpeg:https://familleacoeur.qc.ca/wp-content/uploads/2021/08/rencontres-prenatales-1.jpg
END:VEVENT
BEGIN:VEVENT
DTSTART;TZID=America/Toronto:20230921T183000
DTEND;TZID=America/Toronto:20230921T203000
DTSTAMP:20260422T203027
CREATED:20230828T154420Z
LAST-MODIFIED:20230828T154420Z
UID:10000340-1695321000-1695328200@familleacoeur.qc.ca
SUMMARY:Rencontres prénatales - automne - session 1
DESCRIPTION:Rencontres prénatales pour mieux se préparer à l’accouchement. \nPour connaître les prochaines dates de rencontres pour la session à venir\, consultez la page Facebook de Famille à Cœur ou notre calendrier.
URL:https://familleacoeur.qc.ca/evenement/rencontres-prenatales-2/2023-09-21/
CATEGORIES:Services
ATTACH;FMTTYPE=image/jpeg:https://familleacoeur.qc.ca/wp-content/uploads/2021/08/rencontres-prenatales-1.jpg
END:VEVENT
END:VCALENDAR