BEGIN:VCALENDAR
VERSION:2.0
PRODID:-//Famille à Coeur - ECPv6.2.2//NONSGML v1.0//EN
CALSCALE:GREGORIAN
METHOD:PUBLISH
X-ORIGINAL-URL:https://familleacoeur.qc.ca
X-WR-CALDESC:évènements pour Famille à Coeur
REFRESH-INTERVAL;VALUE=DURATION:PT1H
X-Robots-Tag:noindex
X-PUBLISHED-TTL:PT1H
BEGIN:VTIMEZONE
TZID:America/Toronto
BEGIN:DAYLIGHT
TZOFFSETFROM:-0500
TZOFFSETTO:-0400
TZNAME:EDT
DTSTART:20240310T070000
END:DAYLIGHT
BEGIN:STANDARD
TZOFFSETFROM:-0400
TZOFFSETTO:-0500
TZNAME:EST
DTSTART:20241103T060000
END:STANDARD
END:VTIMEZONE
BEGIN:VEVENT
DTSTART;TZID=America/Toronto:20240302T153000
DTEND;TZID=America/Toronto:20240302T203000
DTSTAMP:20260422T103444
CREATED:20231109T180329Z
LAST-MODIFIED:20240213T200530Z
UID:10000778-1709393400-1709411400@familleacoeur.qc.ca
SUMMARY:Samedi d'sortir (pour enfants 0-12 ans)
DESCRIPTION:Besoin d’un répit ? D’une sortie ? \nNous offrons un service de répit\, les samedis\, de 15 h 30 à 20 h 30 pour les enfants de 0-12 ans\, afin que les parents profitent d’une belle soirée\, le temps d’une p’tite sortie ! \nAu menu de la soirée\, jeux extérieurs\, bricolages\, jeux actifs\, jeux calmes et film.
URL:https://familleacoeur.qc.ca/evenement/samedi-dsortir-pour-enfants-0-12-ans-2/2024-03-02/
CATEGORIES:Services
ATTACH;FMTTYPE=image/jpeg:https://familleacoeur.qc.ca/wp-content/uploads/2021/02/samedi-repit.jpg
END:VEVENT
BEGIN:VEVENT
DTSTART;TZID=America/Toronto:20240305T190000
DTEND;TZID=America/Toronto:20240305T203000
DTSTAMP:20260422T103444
CREATED:20220921T164833Z
LAST-MODIFIED:20240213T201038Z
UID:10000397-1709665200-1709670600@familleacoeur.qc.ca
SUMMARY:Groupe de soutien au deuil périnatal
DESCRIPTION:Que ce soit en début de grossesse\, durant la grossesse\, à l’accouchement ou dans les premiers mois de vie de votre enfant\, le décès d’un petit être est toujours un moment difficile à traverser. Vous vivez un deuil périnatal\, vous vous sentez seul(e)\, incompris(e) et perdu(e). C’est vraiment normal et vous n’êtes pas seul(e) à vivre toute cette vague d’émotions. \nGratuit pour les membres. \n\n\nRéservation obligatoire auprès de Geneviève Boileau\n\n\n\n\n\nPar courriel : crp@familleacoeur.qc.ca\nPar téléphone : 450 346-1734\, poste 233
URL:https://familleacoeur.qc.ca/evenement/groupe-de-soutien-au-deuil-perinatal-2/2024-03-05/
ATTACH;FMTTYPE=image/jpeg:https://familleacoeur.qc.ca/wp-content/uploads/2021/02/deuil-perinatal-1.jpg
END:VEVENT
BEGIN:VEVENT
DTSTART;TZID=America/Toronto:20240306T093000
DTEND;TZID=America/Toronto:20240306T113000
DTSTAMP:20260422T103444
CREATED:20231109T175255Z
LAST-MODIFIED:20240213T195506Z
UID:10000629-1709717400-1709724600@familleacoeur.qc.ca
SUMMARY:Café-jasette «Les Galipettes» pour parents et enfants de 2 à 5 ans
DESCRIPTION:Pour parents et enfants âgés de 2 à 5 ans. \nPour connaître les prochaines dates de rencontres pour la session à venir\, consultez la page Facebook de Famille à Cœur ou notre calendrier.
URL:https://familleacoeur.qc.ca/evenement/cafe-jasette-les-galipettes-pour-parents-et-enfants-de-2-a-5-ans-2/2024-03-06/
CATEGORIES:Activités
ATTACH;FMTTYPE=image/jpeg:https://familleacoeur.qc.ca/wp-content/uploads/2021/02/galipettes2.jpg
END:VEVENT
BEGIN:VEVENT
DTSTART;TZID=America/Toronto:20240307T093000
DTEND;TZID=America/Toronto:20240307T113000
DTSTAMP:20260422T103444
CREATED:20231109T173000Z
LAST-MODIFIED:20240213T192522Z
UID:10000410-1709803800-1709811000@familleacoeur.qc.ca
SUMMARY:Les p’tits matins bedons poupons
DESCRIPTION:Cette activité s’adresse aux parents d’enfants de 0 (grossesse) à 2 ans. Les p’tits matins bedons poupons se déroulent de 9 h 30 à 11 h 30 à tous les jeudis. Le but est de permettre à ces parents de rencontrer d’autres parents\, afin d’échanger et d’en apprendre sur des sujets en lien direct avec leur réalité commune\, accompagnés de leur poupon. À l’occasion nous avons des invités qui viennent discuter de différents sujets tels que la nutrition (DME)\, ostéopathie\, massothérapie pour bébé\, etc. \nGratuit pour les membres.
URL:https://familleacoeur.qc.ca/evenement/les-ptits-matins-bedons-poupons-ete-2/2024-03-07/
CATEGORIES:Activités,Services
ATTACH;FMTTYPE=image/jpeg:https://familleacoeur.qc.ca/wp-content/uploads/2021/02/bedons-poupons.jpg
END:VEVENT
BEGIN:VEVENT
DTSTART;TZID=America/Toronto:20240309T153000
DTEND;TZID=America/Toronto:20240309T203000
DTSTAMP:20260422T103444
CREATED:20231109T180329Z
LAST-MODIFIED:20240213T200530Z
UID:10000779-1709998200-1710016200@familleacoeur.qc.ca
SUMMARY:Samedi d'sortir (pour enfants 0-12 ans)
DESCRIPTION:Besoin d’un répit ? D’une sortie ? \nNous offrons un service de répit\, les samedis\, de 15 h 30 à 20 h 30 pour les enfants de 0-12 ans\, afin que les parents profitent d’une belle soirée\, le temps d’une p’tite sortie ! \nAu menu de la soirée\, jeux extérieurs\, bricolages\, jeux actifs\, jeux calmes et film.
URL:https://familleacoeur.qc.ca/evenement/samedi-dsortir-pour-enfants-0-12-ans-2/2024-03-09/
CATEGORIES:Services
ATTACH;FMTTYPE=image/jpeg:https://familleacoeur.qc.ca/wp-content/uploads/2021/02/samedi-repit.jpg
END:VEVENT
BEGIN:VEVENT
DTSTART;TZID=America/Toronto:20240313T093000
DTEND;TZID=America/Toronto:20240313T113000
DTSTAMP:20260422T103444
CREATED:20231109T175255Z
LAST-MODIFIED:20240213T195506Z
UID:10000630-1710322200-1710329400@familleacoeur.qc.ca
SUMMARY:Café-jasette «Les Galipettes» pour parents et enfants de 2 à 5 ans
DESCRIPTION:Pour parents et enfants âgés de 2 à 5 ans. \nPour connaître les prochaines dates de rencontres pour la session à venir\, consultez la page Facebook de Famille à Cœur ou notre calendrier.
URL:https://familleacoeur.qc.ca/evenement/cafe-jasette-les-galipettes-pour-parents-et-enfants-de-2-a-5-ans-2/2024-03-13/
CATEGORIES:Activités
ATTACH;FMTTYPE=image/jpeg:https://familleacoeur.qc.ca/wp-content/uploads/2021/02/galipettes2.jpg
END:VEVENT
BEGIN:VEVENT
DTSTART;TZID=America/Toronto:20240314T093000
DTEND;TZID=America/Toronto:20240314T113000
DTSTAMP:20260422T103444
CREATED:20231109T173000Z
LAST-MODIFIED:20240213T192522Z
UID:10000411-1710408600-1710415800@familleacoeur.qc.ca
SUMMARY:Les p’tits matins bedons poupons
DESCRIPTION:Cette activité s’adresse aux parents d’enfants de 0 (grossesse) à 2 ans. Les p’tits matins bedons poupons se déroulent de 9 h 30 à 11 h 30 à tous les jeudis. Le but est de permettre à ces parents de rencontrer d’autres parents\, afin d’échanger et d’en apprendre sur des sujets en lien direct avec leur réalité commune\, accompagnés de leur poupon. À l’occasion nous avons des invités qui viennent discuter de différents sujets tels que la nutrition (DME)\, ostéopathie\, massothérapie pour bébé\, etc. \nGratuit pour les membres.
URL:https://familleacoeur.qc.ca/evenement/les-ptits-matins-bedons-poupons-ete-2/2024-03-14/
CATEGORIES:Activités,Services
ATTACH;FMTTYPE=image/jpeg:https://familleacoeur.qc.ca/wp-content/uploads/2021/02/bedons-poupons.jpg
END:VEVENT
BEGIN:VEVENT
DTSTART;TZID=America/Toronto:20240316T153000
DTEND;TZID=America/Toronto:20240316T203000
DTSTAMP:20260422T103444
CREATED:20231109T180329Z
LAST-MODIFIED:20240213T200530Z
UID:10000780-1710603000-1710621000@familleacoeur.qc.ca
SUMMARY:Samedi d'sortir (pour enfants 0-12 ans)
DESCRIPTION:Besoin d’un répit ? D’une sortie ? \nNous offrons un service de répit\, les samedis\, de 15 h 30 à 20 h 30 pour les enfants de 0-12 ans\, afin que les parents profitent d’une belle soirée\, le temps d’une p’tite sortie ! \nAu menu de la soirée\, jeux extérieurs\, bricolages\, jeux actifs\, jeux calmes et film.
URL:https://familleacoeur.qc.ca/evenement/samedi-dsortir-pour-enfants-0-12-ans-2/2024-03-16/
CATEGORIES:Services
ATTACH;FMTTYPE=image/jpeg:https://familleacoeur.qc.ca/wp-content/uploads/2021/02/samedi-repit.jpg
END:VEVENT
BEGIN:VEVENT
DTSTART;TZID=America/Toronto:20240320T093000
DTEND;TZID=America/Toronto:20240320T113000
DTSTAMP:20260422T103444
CREATED:20231109T175255Z
LAST-MODIFIED:20240213T195506Z
UID:10000631-1710927000-1710934200@familleacoeur.qc.ca
SUMMARY:Café-jasette «Les Galipettes» pour parents et enfants de 2 à 5 ans
DESCRIPTION:Pour parents et enfants âgés de 2 à 5 ans. \nPour connaître les prochaines dates de rencontres pour la session à venir\, consultez la page Facebook de Famille à Cœur ou notre calendrier.
URL:https://familleacoeur.qc.ca/evenement/cafe-jasette-les-galipettes-pour-parents-et-enfants-de-2-a-5-ans-2/2024-03-20/
CATEGORIES:Activités
ATTACH;FMTTYPE=image/jpeg:https://familleacoeur.qc.ca/wp-content/uploads/2021/02/galipettes2.jpg
END:VEVENT
BEGIN:VEVENT
DTSTART;TZID=America/Toronto:20240321T093000
DTEND;TZID=America/Toronto:20240321T113000
DTSTAMP:20260422T103444
CREATED:20231109T173000Z
LAST-MODIFIED:20240213T192522Z
UID:10000412-1711013400-1711020600@familleacoeur.qc.ca
SUMMARY:Les p’tits matins bedons poupons
DESCRIPTION:Cette activité s’adresse aux parents d’enfants de 0 (grossesse) à 2 ans. Les p’tits matins bedons poupons se déroulent de 9 h 30 à 11 h 30 à tous les jeudis. Le but est de permettre à ces parents de rencontrer d’autres parents\, afin d’échanger et d’en apprendre sur des sujets en lien direct avec leur réalité commune\, accompagnés de leur poupon. À l’occasion nous avons des invités qui viennent discuter de différents sujets tels que la nutrition (DME)\, ostéopathie\, massothérapie pour bébé\, etc. \nGratuit pour les membres.
URL:https://familleacoeur.qc.ca/evenement/les-ptits-matins-bedons-poupons-ete-2/2024-03-21/
CATEGORIES:Activités,Services
ATTACH;FMTTYPE=image/jpeg:https://familleacoeur.qc.ca/wp-content/uploads/2021/02/bedons-poupons.jpg
END:VEVENT
BEGIN:VEVENT
DTSTART;TZID=America/Toronto:20240323T153000
DTEND;TZID=America/Toronto:20240323T203000
DTSTAMP:20260422T103444
CREATED:20231109T180329Z
LAST-MODIFIED:20240213T200530Z
UID:10000781-1711207800-1711225800@familleacoeur.qc.ca
SUMMARY:Samedi d'sortir (pour enfants 0-12 ans)
DESCRIPTION:Besoin d’un répit ? D’une sortie ? \nNous offrons un service de répit\, les samedis\, de 15 h 30 à 20 h 30 pour les enfants de 0-12 ans\, afin que les parents profitent d’une belle soirée\, le temps d’une p’tite sortie ! \nAu menu de la soirée\, jeux extérieurs\, bricolages\, jeux actifs\, jeux calmes et film.
URL:https://familleacoeur.qc.ca/evenement/samedi-dsortir-pour-enfants-0-12-ans-2/2024-03-23/
CATEGORIES:Services
ATTACH;FMTTYPE=image/jpeg:https://familleacoeur.qc.ca/wp-content/uploads/2021/02/samedi-repit.jpg
END:VEVENT
BEGIN:VEVENT
DTSTART;TZID=America/Toronto:20240327T093000
DTEND;TZID=America/Toronto:20240327T113000
DTSTAMP:20260422T103444
CREATED:20231109T175255Z
LAST-MODIFIED:20240213T195506Z
UID:10000632-1711531800-1711539000@familleacoeur.qc.ca
SUMMARY:Café-jasette «Les Galipettes» pour parents et enfants de 2 à 5 ans
DESCRIPTION:Pour parents et enfants âgés de 2 à 5 ans. \nPour connaître les prochaines dates de rencontres pour la session à venir\, consultez la page Facebook de Famille à Cœur ou notre calendrier.
URL:https://familleacoeur.qc.ca/evenement/cafe-jasette-les-galipettes-pour-parents-et-enfants-de-2-a-5-ans-2/2024-03-27/
CATEGORIES:Activités
ATTACH;FMTTYPE=image/jpeg:https://familleacoeur.qc.ca/wp-content/uploads/2021/02/galipettes2.jpg
END:VEVENT
BEGIN:VEVENT
DTSTART;TZID=America/Toronto:20240328T093000
DTEND;TZID=America/Toronto:20240328T113000
DTSTAMP:20260422T103444
CREATED:20231109T173000Z
LAST-MODIFIED:20240213T192522Z
UID:10000413-1711618200-1711625400@familleacoeur.qc.ca
SUMMARY:Les p’tits matins bedons poupons
DESCRIPTION:Cette activité s’adresse aux parents d’enfants de 0 (grossesse) à 2 ans. Les p’tits matins bedons poupons se déroulent de 9 h 30 à 11 h 30 à tous les jeudis. Le but est de permettre à ces parents de rencontrer d’autres parents\, afin d’échanger et d’en apprendre sur des sujets en lien direct avec leur réalité commune\, accompagnés de leur poupon. À l’occasion nous avons des invités qui viennent discuter de différents sujets tels que la nutrition (DME)\, ostéopathie\, massothérapie pour bébé\, etc. \nGratuit pour les membres.
URL:https://familleacoeur.qc.ca/evenement/les-ptits-matins-bedons-poupons-ete-2/2024-03-28/
CATEGORIES:Activités,Services
ATTACH;FMTTYPE=image/jpeg:https://familleacoeur.qc.ca/wp-content/uploads/2021/02/bedons-poupons.jpg
END:VEVENT
BEGIN:VEVENT
DTSTART;TZID=America/Toronto:20240330T153000
DTEND;TZID=America/Toronto:20240330T203000
DTSTAMP:20260422T103444
CREATED:20231109T180329Z
LAST-MODIFIED:20240213T200530Z
UID:10000782-1711812600-1711830600@familleacoeur.qc.ca
SUMMARY:Samedi d'sortir (pour enfants 0-12 ans)
DESCRIPTION:Besoin d’un répit ? D’une sortie ? \nNous offrons un service de répit\, les samedis\, de 15 h 30 à 20 h 30 pour les enfants de 0-12 ans\, afin que les parents profitent d’une belle soirée\, le temps d’une p’tite sortie ! \nAu menu de la soirée\, jeux extérieurs\, bricolages\, jeux actifs\, jeux calmes et film.
URL:https://familleacoeur.qc.ca/evenement/samedi-dsortir-pour-enfants-0-12-ans-2/2024-03-30/
CATEGORIES:Services
ATTACH;FMTTYPE=image/jpeg:https://familleacoeur.qc.ca/wp-content/uploads/2021/02/samedi-repit.jpg
END:VEVENT
END:VCALENDAR