BEGIN:VCALENDAR
VERSION:2.0
PRODID:-//Famille à Coeur - ECPv6.2.2//NONSGML v1.0//EN
CALSCALE:GREGORIAN
METHOD:PUBLISH
X-WR-CALNAME:Famille à Coeur
X-ORIGINAL-URL:https://familleacoeur.qc.ca
X-WR-CALDESC:évènements pour Famille à Coeur
REFRESH-INTERVAL;VALUE=DURATION:PT1H
X-Robots-Tag:noindex
X-PUBLISHED-TTL:PT1H
BEGIN:VTIMEZONE
TZID:America/Toronto
BEGIN:DAYLIGHT
TZOFFSETFROM:-0500
TZOFFSETTO:-0400
TZNAME:EDT
DTSTART:20240310T070000
END:DAYLIGHT
BEGIN:STANDARD
TZOFFSETFROM:-0400
TZOFFSETTO:-0500
TZNAME:EST
DTSTART:20241103T060000
END:STANDARD
END:VTIMEZONE
BEGIN:VEVENT
DTSTART;TZID=America/Toronto:20241001T100000
DTEND;TZID=America/Toronto:20241001T113000
DTSTAMP:20260421T054857
CREATED:20240807T182441Z
LAST-MODIFIED:20240807T182442Z
UID:10001185-1727776800-1727782200@familleacoeur.qc.ca
SUMMARY:Marche poussette
DESCRIPTION:Marche en poussette à l’extérieur \nAfin de briser l’isolement et profiter du beau temps ! \nPossibilité d’apporter un pique-nique et manger en famille sur place. \nAnnulé en cas de pluie.
URL:https://familleacoeur.qc.ca/evenement/marche-poussette-2/2024-10-01/
CATEGORIES:Activités
ATTACH;FMTTYPE=image/jpeg:https://familleacoeur.qc.ca/wp-content/uploads/2024/05/iStock-184299673-scaled.jpg
END:VEVENT
BEGIN:VEVENT
DTSTART;TZID=America/Toronto:20241001T180000
DTEND;TZID=America/Toronto:20241001T203000
DTSTAMP:20260421T054857
CREATED:20240808T152801Z
LAST-MODIFIED:20240821T153926Z
UID:10001461-1727805600-1727814600@familleacoeur.qc.ca
SUMMARY:Vie de famille\, de la discipline à l’amour
DESCRIPTION:D’une durée de 7 semaines\, à raison de 2h30 par rencontre\, le programme s’adresse à tout parent désirant harmoniser sa relation avec son ou ses enfants. \nCe programme vise à appuyer les parents dans l’encadrement de leurs enfants par une saine discipline\, dans l’établissement de règles de vie familiales justes et à favoriser entre eux l’entraide dans leurs responsabilités parentales tout en tenant compte de leur réalité familiale. \nCoût : 40$ par personne ou 60$ par couple
URL:https://familleacoeur.qc.ca/evenement/vie-de-famille-de-la-discipline-a-lamour/2024-10-01/
CATEGORIES:Ateliers
ATTACH;FMTTYPE=image/jpeg:https://familleacoeur.qc.ca/wp-content/uploads/2024/08/family-5412437_1280.jpg
END:VEVENT
BEGIN:VEVENT
DTSTART;TZID=America/Toronto:20241001T190000
DTEND;TZID=America/Toronto:20241001T203000
DTSTAMP:20260421T054857
CREATED:20220810T175031Z
LAST-MODIFIED:20240807T192623Z
UID:10001425-1727809200-1727814600@familleacoeur.qc.ca
SUMMARY:Groupe de soutien au deuil périnatal
DESCRIPTION:Que ce soit en début de grossesse\, durant la grossesse\, à l’accouchement ou dans les premiers mois de vie de votre enfant\, le décès d’un petit être est toujours un moment difficile à traverser. Vous vivez un deuil périnatal\, vous vous sentez seul(e)\, incompris(e) et perdu(e). C’est vraiment normal et vous n’êtes pas seul(e) à vivre toute cette vague d’émotions. \nGratuit pour les membres. \n\n\nRéservation obligatoire auprès de Geneviève Boileau\n\n\n\n\n\nPar courriel : crp@familleacoeur.qc.ca\nPar téléphone : 450 346-1734\, poste 233
URL:https://familleacoeur.qc.ca/evenement/groupe-de-soutien-au-deuil-perinatal/2024-10-01/
ATTACH;FMTTYPE=image/jpeg:https://familleacoeur.qc.ca/wp-content/uploads/2021/02/deuil-perinatal-1.jpg
END:VEVENT
BEGIN:VEVENT
DTSTART;TZID=America/Toronto:20241002T093000
DTEND;TZID=America/Toronto:20241002T113000
DTSTAMP:20260421T054857
CREATED:20240807T191132Z
LAST-MODIFIED:20240807T191227Z
UID:10001413-1727861400-1727868600@familleacoeur.qc.ca
SUMMARY:Café-jasette «Les Galipettes» pour parents et enfants de 2 à 5 ans
DESCRIPTION:Pour parents et enfants âgés de 2 à 5 ans. \nPour connaître les prochaines dates de rencontres pour la session à venir\, consultez la page Facebook de Famille à Cœur ou notre calendrier.
URL:https://familleacoeur.qc.ca/evenement/cafe-jasette-les-galipettes-pour-parents-et-enfants-de-2-a-5-ans-2-2/2024-10-02/
CATEGORIES:Activités
ATTACH;FMTTYPE=image/jpeg:https://familleacoeur.qc.ca/wp-content/uploads/2021/02/galipettes2.jpg
END:VEVENT
BEGIN:VEVENT
DTSTART;TZID=America/Toronto:20241003T093000
DTEND;TZID=America/Toronto:20241003T113000
DTSTAMP:20260421T054857
CREATED:20240807T190754Z
LAST-MODIFIED:20240807T190905Z
UID:10001400-1727947800-1727955000@familleacoeur.qc.ca
SUMMARY:Les p’tits matins bedons poupons
DESCRIPTION:Cette activité s’adresse aux parents d’enfants de 0 (grossesse) à 2 ans. Les p’tits matins bedons poupons se déroulent de 9 h 30 à 11 h 30 à tous les jeudis. Le but est de permettre à ces parents de rencontrer d’autres parents\, afin d’échanger et d’en apprendre sur des sujets en lien direct avec leur réalité commune\, accompagnés de leur poupon. À l’occasion nous avons des invités qui viennent discuter de différents sujets tels que la nutrition (DME)\, ostéopathie\, massothérapie pour bébé\, etc. \nGratuit pour les membres.
URL:https://familleacoeur.qc.ca/evenement/les-ptits-matins-bedons-poupons-ete-2-2/2024-10-03/
CATEGORIES:Activités,Services
ATTACH;FMTTYPE=image/jpeg:https://familleacoeur.qc.ca/wp-content/uploads/2021/02/bedons-poupons.jpg
END:VEVENT
BEGIN:VEVENT
DTSTART;TZID=America/Toronto:20241003T183000
DTEND;TZID=America/Toronto:20241003T203000
DTSTAMP:20260421T054857
CREATED:20240807T183558Z
LAST-MODIFIED:20240821T200620Z
UID:10001209-1727980200-1727987400@familleacoeur.qc.ca
SUMMARY:Préparation prénatale de groupe
DESCRIPTION:Préparation prénatale pour mieux se préparer à l’accouchement. \nPour connaître les prochaines dates de rencontres pour la session à venir\, consultez la page Facebook de Famille à Cœur ou notre calendrier.
URL:https://familleacoeur.qc.ca/evenement/preparation-prenatale-de-groupe-printemps-2/2024-10-03/
CATEGORIES:Services
ATTACH;FMTTYPE=image/jpeg:https://familleacoeur.qc.ca/wp-content/uploads/2021/08/rencontres-prenatales-1.jpg
END:VEVENT
BEGIN:VEVENT
DTSTART;TZID=America/Toronto:20241005T093000
DTEND;TZID=America/Toronto:20241005T113000
DTSTAMP:20260421T054857
CREATED:20240807T185953Z
LAST-MODIFIED:20240807T190124Z
UID:10001334-1728120600-1728127800@familleacoeur.qc.ca
SUMMARY:Langagibou
DESCRIPTION:L’atelier LANGAGIBOU invite le parent et son enfant à travailler le développement du langage. \nLe but est d’acquérir des stratégies langagières selon une approche personnalisée. \nLa rencontre est d’une durée de 2 heures assistée par deux accompagnatrices et divisée en quelques modules : causerie\, parcours dirigé\, activité de groupe structuré (thématique)\, collation et jeux libre(enfants) + causette (parents)\, histoire et départ. \nNote : Une pré-inscription est requise pour participer à l’atelier
URL:https://familleacoeur.qc.ca/evenement/langagibou-2/2024-10-05/
CATEGORIES:Activités
ATTACH;FMTTYPE=image/jpeg:https://familleacoeur.qc.ca/wp-content/uploads/2024/02/pexels-mart-production-7414905-scaled-e1708617596238.jpg
END:VEVENT
BEGIN:VEVENT
DTSTART;TZID=America/Toronto:20241005T153000
DTEND;TZID=America/Toronto:20241005T203000
DTSTAMP:20260421T054857
CREATED:20240912T133946Z
LAST-MODIFIED:20241114T163808Z
UID:10001500-1728142200-1728160200@familleacoeur.qc.ca
SUMMARY:Samedi d'sortir
DESCRIPTION:Besoin d’un répit ? D’une sortie ? \nNous offrons un service de répit\, les samedis\, de 15 h 30 à 20 h 30 pour les enfants de 0-12 ans\, afin que les parents profitent d’une belle soirée\, le temps d’une p’tite sortie ! \nAu menu de la soirée\, jeux extérieurs\, bricolages\, jeux actifs\, jeux calmes et film.
URL:https://familleacoeur.qc.ca/evenement/samedi-dsortir-pour-enfants-0-12-ans-2-2/2024-10-05/
CATEGORIES:Services
ATTACH;FMTTYPE=image/jpeg:https://familleacoeur.qc.ca/wp-content/uploads/2021/02/samedi-repit.jpg
END:VEVENT
BEGIN:VEVENT
DTSTART;TZID=America/Toronto:20241006T100000
DTEND;TZID=America/Toronto:20241006T160000
DTSTAMP:20260421T054857
CREATED:20240912T164555Z
LAST-MODIFIED:20241114T164151Z
UID:10001513-1728208800-1728230400@familleacoeur.qc.ca
SUMMARY:Dimanche détente
DESCRIPTION:Besoin d’un répit ? D’une sortie ? \nNous offrons un service de répit\, les dimanches\, de 10h à 16h pour les enfants de 0-12 ans\, afin que les parents profitent d’un moment entre eux ! \nAu menu pour les enfants : jeux extérieurs\, bricolages\, jeux actifs\, jeux calmes et film.
URL:https://familleacoeur.qc.ca/evenement/repit-du-dimanche/2024-10-06/
CATEGORIES:Services
ATTACH;FMTTYPE=image/jpeg:https://familleacoeur.qc.ca/wp-content/uploads/2023/10/pexels-ksenia-chernaya-8535230-scaled.jpg
END:VEVENT
BEGIN:VEVENT
DTSTART;TZID=America/Toronto:20241007T110000
DTEND;TZID=America/Toronto:20241007T120000
DTSTAMP:20260421T054857
CREATED:20240807T184006Z
LAST-MODIFIED:20240807T184108Z
UID:10001215-1728298800-1728302400@familleacoeur.qc.ca
SUMMARY:Massage bébé (session 1)
DESCRIPTION:Avec enfants âgés de 0 à 12 mois. \nCet atelier permet de créer ou renforcer le lien d’attachement parent-enfant\, de se détendre et se relaxer\, diminuer le stress (masseur et massé)\, favoriser le développement psychomoteur de bébé\, rencontrer et échanger avec d’autres parents. \nVous apprendrez une routine complète pour masser votre bébé\, quelques petits exercices adaptés et d’autres petits trucs afin d’aider à soulager certains maux (gaz\, coliques\, congestion\, poussée dentaire\, etc.). Vous pourrez comprendre les bienfaits du massage chez votre enfant\, les moments favorables au massage pour vous et lui. Merveilleux moment pour apprendre à connaître le langage du corps de votre bébé et de créer de solides liens ! \nMatériel requis : piqué\, couverture\, petite serviette\, jouet préféré de votre bébé \nHabillement suggéré : vêtements confortables
URL:https://familleacoeur.qc.ca/evenement/massage-bebe-3-2-2-2/2024-10-07/
CATEGORIES:Activités
ATTACH;FMTTYPE=image/jpeg:https://familleacoeur.qc.ca/wp-content/uploads/2021/02/massage-bebe1.jpg
END:VEVENT
BEGIN:VEVENT
DTSTART;TZID=America/Toronto:20241008T100000
DTEND;TZID=America/Toronto:20241008T113000
DTSTAMP:20260421T054857
CREATED:20240807T182441Z
LAST-MODIFIED:20240807T182442Z
UID:10001186-1728381600-1728387000@familleacoeur.qc.ca
SUMMARY:Marche poussette
DESCRIPTION:Marche en poussette à l’extérieur \nAfin de briser l’isolement et profiter du beau temps ! \nPossibilité d’apporter un pique-nique et manger en famille sur place. \nAnnulé en cas de pluie.
URL:https://familleacoeur.qc.ca/evenement/marche-poussette-2/2024-10-08/
CATEGORIES:Activités
ATTACH;FMTTYPE=image/jpeg:https://familleacoeur.qc.ca/wp-content/uploads/2024/05/iStock-184299673-scaled.jpg
END:VEVENT
BEGIN:VEVENT
DTSTART;TZID=America/Toronto:20241008T180000
DTEND;TZID=America/Toronto:20241008T203000
DTSTAMP:20260421T054857
CREATED:20240808T152801Z
LAST-MODIFIED:20240821T153926Z
UID:10001462-1728410400-1728419400@familleacoeur.qc.ca
SUMMARY:Vie de famille\, de la discipline à l’amour
DESCRIPTION:D’une durée de 7 semaines\, à raison de 2h30 par rencontre\, le programme s’adresse à tout parent désirant harmoniser sa relation avec son ou ses enfants. \nCe programme vise à appuyer les parents dans l’encadrement de leurs enfants par une saine discipline\, dans l’établissement de règles de vie familiales justes et à favoriser entre eux l’entraide dans leurs responsabilités parentales tout en tenant compte de leur réalité familiale. \nCoût : 40$ par personne ou 60$ par couple
URL:https://familleacoeur.qc.ca/evenement/vie-de-famille-de-la-discipline-a-lamour/2024-10-08/
CATEGORIES:Ateliers
ATTACH;FMTTYPE=image/jpeg:https://familleacoeur.qc.ca/wp-content/uploads/2024/08/family-5412437_1280.jpg
END:VEVENT
BEGIN:VEVENT
DTSTART;TZID=America/Toronto:20241009T093000
DTEND;TZID=America/Toronto:20241009T113000
DTSTAMP:20260421T054857
CREATED:20240807T191132Z
LAST-MODIFIED:20240807T191227Z
UID:10001414-1728466200-1728473400@familleacoeur.qc.ca
SUMMARY:Café-jasette «Les Galipettes» pour parents et enfants de 2 à 5 ans
DESCRIPTION:Pour parents et enfants âgés de 2 à 5 ans. \nPour connaître les prochaines dates de rencontres pour la session à venir\, consultez la page Facebook de Famille à Cœur ou notre calendrier.
URL:https://familleacoeur.qc.ca/evenement/cafe-jasette-les-galipettes-pour-parents-et-enfants-de-2-a-5-ans-2-2/2024-10-09/
CATEGORIES:Activités
ATTACH;FMTTYPE=image/jpeg:https://familleacoeur.qc.ca/wp-content/uploads/2021/02/galipettes2.jpg
END:VEVENT
BEGIN:VEVENT
DTSTART;TZID=America/Toronto:20241010T093000
DTEND;TZID=America/Toronto:20241010T113000
DTSTAMP:20260421T054857
CREATED:20240807T190754Z
LAST-MODIFIED:20240807T190905Z
UID:10001401-1728552600-1728559800@familleacoeur.qc.ca
SUMMARY:Les p’tits matins bedons poupons
DESCRIPTION:Cette activité s’adresse aux parents d’enfants de 0 (grossesse) à 2 ans. Les p’tits matins bedons poupons se déroulent de 9 h 30 à 11 h 30 à tous les jeudis. Le but est de permettre à ces parents de rencontrer d’autres parents\, afin d’échanger et d’en apprendre sur des sujets en lien direct avec leur réalité commune\, accompagnés de leur poupon. À l’occasion nous avons des invités qui viennent discuter de différents sujets tels que la nutrition (DME)\, ostéopathie\, massothérapie pour bébé\, etc. \nGratuit pour les membres.
URL:https://familleacoeur.qc.ca/evenement/les-ptits-matins-bedons-poupons-ete-2-2/2024-10-10/
CATEGORIES:Activités,Services
ATTACH;FMTTYPE=image/jpeg:https://familleacoeur.qc.ca/wp-content/uploads/2021/02/bedons-poupons.jpg
END:VEVENT
BEGIN:VEVENT
DTSTART;TZID=America/Toronto:20241010T183000
DTEND;TZID=America/Toronto:20241010T203000
DTSTAMP:20260421T054857
CREATED:20240807T183558Z
LAST-MODIFIED:20240821T200620Z
UID:10001210-1728585000-1728592200@familleacoeur.qc.ca
SUMMARY:Préparation prénatale de groupe
DESCRIPTION:Préparation prénatale pour mieux se préparer à l’accouchement. \nPour connaître les prochaines dates de rencontres pour la session à venir\, consultez la page Facebook de Famille à Cœur ou notre calendrier.
URL:https://familleacoeur.qc.ca/evenement/preparation-prenatale-de-groupe-printemps-2/2024-10-10/
CATEGORIES:Services
ATTACH;FMTTYPE=image/jpeg:https://familleacoeur.qc.ca/wp-content/uploads/2021/08/rencontres-prenatales-1.jpg
END:VEVENT
BEGIN:VEVENT
DTSTART;TZID=America/Toronto:20241012T093000
DTEND;TZID=America/Toronto:20241012T110000
DTSTAMP:20260421T054857
CREATED:20240821T131725Z
LAST-MODIFIED:20240917T175154Z
UID:10001473-1728725400-1728730800@familleacoeur.qc.ca
SUMMARY:Atelier-conférence Music-O-Bébé
DESCRIPTION:Cet atelier-conférence animé par Myra Camirand de Myrado Musique vous permettra de passer un agréable moment en compagnie de votre enfant\, en plus de renforcer votre lien d’attachement et d’apprendre divers outils pour faciliter les routines et stimuler votre enfant par le biais du son au quotidien. \nL’atelier convient aux enfants de 0 à 18 mois\, toutefois la manipulation des instruments de musique sera plus limitée pour les enfants de moins de 6 mois.
URL:https://familleacoeur.qc.ca/evenement/atelier-conference-music-o-bebe/
CATEGORIES:Ateliers
ATTACH;FMTTYPE=image/png:https://familleacoeur.qc.ca/wp-content/uploads/2024/08/Photo-1-carre-atelier-Music-O-Bebe.png
END:VEVENT
BEGIN:VEVENT
DTSTART;TZID=America/Toronto:20241012T093000
DTEND;TZID=America/Toronto:20241012T113000
DTSTAMP:20260421T054857
CREATED:20240807T185953Z
LAST-MODIFIED:20240807T190124Z
UID:10001335-1728725400-1728732600@familleacoeur.qc.ca
SUMMARY:Langagibou
DESCRIPTION:L’atelier LANGAGIBOU invite le parent et son enfant à travailler le développement du langage. \nLe but est d’acquérir des stratégies langagières selon une approche personnalisée. \nLa rencontre est d’une durée de 2 heures assistée par deux accompagnatrices et divisée en quelques modules : causerie\, parcours dirigé\, activité de groupe structuré (thématique)\, collation et jeux libre(enfants) + causette (parents)\, histoire et départ. \nNote : Une pré-inscription est requise pour participer à l’atelier
URL:https://familleacoeur.qc.ca/evenement/langagibou-2/2024-10-12/
CATEGORIES:Activités
ATTACH;FMTTYPE=image/jpeg:https://familleacoeur.qc.ca/wp-content/uploads/2024/02/pexels-mart-production-7414905-scaled-e1708617596238.jpg
END:VEVENT
BEGIN:VEVENT
DTSTART;TZID=America/Toronto:20241015T100000
DTEND;TZID=America/Toronto:20241015T113000
DTSTAMP:20260421T054857
CREATED:20240807T182441Z
LAST-MODIFIED:20240807T182442Z
UID:10001187-1728986400-1728991800@familleacoeur.qc.ca
SUMMARY:Marche poussette
DESCRIPTION:Marche en poussette à l’extérieur \nAfin de briser l’isolement et profiter du beau temps ! \nPossibilité d’apporter un pique-nique et manger en famille sur place. \nAnnulé en cas de pluie.
URL:https://familleacoeur.qc.ca/evenement/marche-poussette-2/2024-10-15/
CATEGORIES:Activités
ATTACH;FMTTYPE=image/jpeg:https://familleacoeur.qc.ca/wp-content/uploads/2024/05/iStock-184299673-scaled.jpg
END:VEVENT
BEGIN:VEVENT
DTSTART;TZID=America/Toronto:20241015T180000
DTEND;TZID=America/Toronto:20241015T203000
DTSTAMP:20260421T054857
CREATED:20240808T152801Z
LAST-MODIFIED:20240821T153926Z
UID:10001463-1729015200-1729024200@familleacoeur.qc.ca
SUMMARY:Vie de famille\, de la discipline à l’amour
DESCRIPTION:D’une durée de 7 semaines\, à raison de 2h30 par rencontre\, le programme s’adresse à tout parent désirant harmoniser sa relation avec son ou ses enfants. \nCe programme vise à appuyer les parents dans l’encadrement de leurs enfants par une saine discipline\, dans l’établissement de règles de vie familiales justes et à favoriser entre eux l’entraide dans leurs responsabilités parentales tout en tenant compte de leur réalité familiale. \nCoût : 40$ par personne ou 60$ par couple
URL:https://familleacoeur.qc.ca/evenement/vie-de-famille-de-la-discipline-a-lamour/2024-10-15/
CATEGORIES:Ateliers
ATTACH;FMTTYPE=image/jpeg:https://familleacoeur.qc.ca/wp-content/uploads/2024/08/family-5412437_1280.jpg
END:VEVENT
BEGIN:VEVENT
DTSTART;TZID=America/Toronto:20241016T093000
DTEND;TZID=America/Toronto:20241016T113000
DTSTAMP:20260421T054857
CREATED:20240807T191132Z
LAST-MODIFIED:20240807T191227Z
UID:10001415-1729071000-1729078200@familleacoeur.qc.ca
SUMMARY:Café-jasette «Les Galipettes» pour parents et enfants de 2 à 5 ans
DESCRIPTION:Pour parents et enfants âgés de 2 à 5 ans. \nPour connaître les prochaines dates de rencontres pour la session à venir\, consultez la page Facebook de Famille à Cœur ou notre calendrier.
URL:https://familleacoeur.qc.ca/evenement/cafe-jasette-les-galipettes-pour-parents-et-enfants-de-2-a-5-ans-2-2/2024-10-16/
CATEGORIES:Activités
ATTACH;FMTTYPE=image/jpeg:https://familleacoeur.qc.ca/wp-content/uploads/2021/02/galipettes2.jpg
END:VEVENT
BEGIN:VEVENT
DTSTART;TZID=America/Toronto:20241017T093000
DTEND;TZID=America/Toronto:20241017T113000
DTSTAMP:20260421T054857
CREATED:20240807T190754Z
LAST-MODIFIED:20240807T190905Z
UID:10001402-1729157400-1729164600@familleacoeur.qc.ca
SUMMARY:Les p’tits matins bedons poupons
DESCRIPTION:Cette activité s’adresse aux parents d’enfants de 0 (grossesse) à 2 ans. Les p’tits matins bedons poupons se déroulent de 9 h 30 à 11 h 30 à tous les jeudis. Le but est de permettre à ces parents de rencontrer d’autres parents\, afin d’échanger et d’en apprendre sur des sujets en lien direct avec leur réalité commune\, accompagnés de leur poupon. À l’occasion nous avons des invités qui viennent discuter de différents sujets tels que la nutrition (DME)\, ostéopathie\, massothérapie pour bébé\, etc. \nGratuit pour les membres.
URL:https://familleacoeur.qc.ca/evenement/les-ptits-matins-bedons-poupons-ete-2-2/2024-10-17/
CATEGORIES:Activités,Services
ATTACH;FMTTYPE=image/jpeg:https://familleacoeur.qc.ca/wp-content/uploads/2021/02/bedons-poupons.jpg
END:VEVENT
BEGIN:VEVENT
DTSTART;TZID=America/Toronto:20241017T183000
DTEND;TZID=America/Toronto:20241017T203000
DTSTAMP:20260421T054857
CREATED:20240807T183558Z
LAST-MODIFIED:20240821T200620Z
UID:10001211-1729189800-1729197000@familleacoeur.qc.ca
SUMMARY:Préparation prénatale de groupe
DESCRIPTION:Préparation prénatale pour mieux se préparer à l’accouchement. \nPour connaître les prochaines dates de rencontres pour la session à venir\, consultez la page Facebook de Famille à Cœur ou notre calendrier.
URL:https://familleacoeur.qc.ca/evenement/preparation-prenatale-de-groupe-printemps-2/2024-10-17/
CATEGORIES:Services
ATTACH;FMTTYPE=image/jpeg:https://familleacoeur.qc.ca/wp-content/uploads/2021/08/rencontres-prenatales-1.jpg
END:VEVENT
BEGIN:VEVENT
DTSTART;TZID=America/Toronto:20241019T093000
DTEND;TZID=America/Toronto:20241019T113000
DTSTAMP:20260421T054857
CREATED:20240807T185953Z
LAST-MODIFIED:20240807T190124Z
UID:10001336-1729330200-1729337400@familleacoeur.qc.ca
SUMMARY:Langagibou
DESCRIPTION:L’atelier LANGAGIBOU invite le parent et son enfant à travailler le développement du langage. \nLe but est d’acquérir des stratégies langagières selon une approche personnalisée. \nLa rencontre est d’une durée de 2 heures assistée par deux accompagnatrices et divisée en quelques modules : causerie\, parcours dirigé\, activité de groupe structuré (thématique)\, collation et jeux libre(enfants) + causette (parents)\, histoire et départ. \nNote : Une pré-inscription est requise pour participer à l’atelier
URL:https://familleacoeur.qc.ca/evenement/langagibou-2/2024-10-19/
CATEGORIES:Activités
ATTACH;FMTTYPE=image/jpeg:https://familleacoeur.qc.ca/wp-content/uploads/2024/02/pexels-mart-production-7414905-scaled-e1708617596238.jpg
END:VEVENT
BEGIN:VEVENT
DTSTART;TZID=America/Toronto:20241019T153000
DTEND;TZID=America/Toronto:20241019T203000
DTSTAMP:20260421T054857
CREATED:20240912T133946Z
LAST-MODIFIED:20241114T163808Z
UID:10001501-1729351800-1729369800@familleacoeur.qc.ca
SUMMARY:Samedi d'sortir
DESCRIPTION:Besoin d’un répit ? D’une sortie ? \nNous offrons un service de répit\, les samedis\, de 15 h 30 à 20 h 30 pour les enfants de 0-12 ans\, afin que les parents profitent d’une belle soirée\, le temps d’une p’tite sortie ! \nAu menu de la soirée\, jeux extérieurs\, bricolages\, jeux actifs\, jeux calmes et film.
URL:https://familleacoeur.qc.ca/evenement/samedi-dsortir-pour-enfants-0-12-ans-2-2/2024-10-19/
CATEGORIES:Services
ATTACH;FMTTYPE=image/jpeg:https://familleacoeur.qc.ca/wp-content/uploads/2021/02/samedi-repit.jpg
END:VEVENT
BEGIN:VEVENT
DTSTART;TZID=America/Toronto:20241020T100000
DTEND;TZID=America/Toronto:20241020T160000
DTSTAMP:20260421T054857
CREATED:20240912T164555Z
LAST-MODIFIED:20241114T164151Z
UID:10001514-1729418400-1729440000@familleacoeur.qc.ca
SUMMARY:Dimanche détente
DESCRIPTION:Besoin d’un répit ? D’une sortie ? \nNous offrons un service de répit\, les dimanches\, de 10h à 16h pour les enfants de 0-12 ans\, afin que les parents profitent d’un moment entre eux ! \nAu menu pour les enfants : jeux extérieurs\, bricolages\, jeux actifs\, jeux calmes et film.
URL:https://familleacoeur.qc.ca/evenement/repit-du-dimanche/2024-10-20/
CATEGORIES:Services
ATTACH;FMTTYPE=image/jpeg:https://familleacoeur.qc.ca/wp-content/uploads/2023/10/pexels-ksenia-chernaya-8535230-scaled.jpg
END:VEVENT
BEGIN:VEVENT
DTSTART;TZID=America/Toronto:20241022T100000
DTEND;TZID=America/Toronto:20241022T113000
DTSTAMP:20260421T054857
CREATED:20240807T182441Z
LAST-MODIFIED:20240807T182442Z
UID:10001188-1729591200-1729596600@familleacoeur.qc.ca
SUMMARY:Marche poussette
DESCRIPTION:Marche en poussette à l’extérieur \nAfin de briser l’isolement et profiter du beau temps ! \nPossibilité d’apporter un pique-nique et manger en famille sur place. \nAnnulé en cas de pluie.
URL:https://familleacoeur.qc.ca/evenement/marche-poussette-2/2024-10-22/
CATEGORIES:Activités
ATTACH;FMTTYPE=image/jpeg:https://familleacoeur.qc.ca/wp-content/uploads/2024/05/iStock-184299673-scaled.jpg
END:VEVENT
BEGIN:VEVENT
DTSTART;TZID=America/Toronto:20241022T180000
DTEND;TZID=America/Toronto:20241022T203000
DTSTAMP:20260421T054857
CREATED:20240808T152801Z
LAST-MODIFIED:20240821T153926Z
UID:10001464-1729620000-1729629000@familleacoeur.qc.ca
SUMMARY:Vie de famille\, de la discipline à l’amour
DESCRIPTION:D’une durée de 7 semaines\, à raison de 2h30 par rencontre\, le programme s’adresse à tout parent désirant harmoniser sa relation avec son ou ses enfants. \nCe programme vise à appuyer les parents dans l’encadrement de leurs enfants par une saine discipline\, dans l’établissement de règles de vie familiales justes et à favoriser entre eux l’entraide dans leurs responsabilités parentales tout en tenant compte de leur réalité familiale. \nCoût : 40$ par personne ou 60$ par couple
URL:https://familleacoeur.qc.ca/evenement/vie-de-famille-de-la-discipline-a-lamour/2024-10-22/
CATEGORIES:Ateliers
ATTACH;FMTTYPE=image/jpeg:https://familleacoeur.qc.ca/wp-content/uploads/2024/08/family-5412437_1280.jpg
END:VEVENT
BEGIN:VEVENT
DTSTART;TZID=America/Toronto:20241023T093000
DTEND;TZID=America/Toronto:20241023T113000
DTSTAMP:20260421T054857
CREATED:20240807T191132Z
LAST-MODIFIED:20240807T191227Z
UID:10001416-1729675800-1729683000@familleacoeur.qc.ca
SUMMARY:Café-jasette «Les Galipettes» pour parents et enfants de 2 à 5 ans
DESCRIPTION:Pour parents et enfants âgés de 2 à 5 ans. \nPour connaître les prochaines dates de rencontres pour la session à venir\, consultez la page Facebook de Famille à Cœur ou notre calendrier.
URL:https://familleacoeur.qc.ca/evenement/cafe-jasette-les-galipettes-pour-parents-et-enfants-de-2-a-5-ans-2-2/2024-10-23/
CATEGORIES:Activités
ATTACH;FMTTYPE=image/jpeg:https://familleacoeur.qc.ca/wp-content/uploads/2021/02/galipettes2.jpg
END:VEVENT
BEGIN:VEVENT
DTSTART;TZID=America/Toronto:20241024T093000
DTEND;TZID=America/Toronto:20241024T113000
DTSTAMP:20260421T054857
CREATED:20240807T190754Z
LAST-MODIFIED:20240807T190905Z
UID:10001403-1729762200-1729769400@familleacoeur.qc.ca
SUMMARY:Les p’tits matins bedons poupons
DESCRIPTION:Cette activité s’adresse aux parents d’enfants de 0 (grossesse) à 2 ans. Les p’tits matins bedons poupons se déroulent de 9 h 30 à 11 h 30 à tous les jeudis. Le but est de permettre à ces parents de rencontrer d’autres parents\, afin d’échanger et d’en apprendre sur des sujets en lien direct avec leur réalité commune\, accompagnés de leur poupon. À l’occasion nous avons des invités qui viennent discuter de différents sujets tels que la nutrition (DME)\, ostéopathie\, massothérapie pour bébé\, etc. \nGratuit pour les membres.
URL:https://familleacoeur.qc.ca/evenement/les-ptits-matins-bedons-poupons-ete-2-2/2024-10-24/
CATEGORIES:Activités,Services
ATTACH;FMTTYPE=image/jpeg:https://familleacoeur.qc.ca/wp-content/uploads/2021/02/bedons-poupons.jpg
END:VEVENT
BEGIN:VEVENT
DTSTART;TZID=America/Toronto:20241026T093000
DTEND;TZID=America/Toronto:20241026T113000
DTSTAMP:20260421T054857
CREATED:20240807T185953Z
LAST-MODIFIED:20240807T190124Z
UID:10001337-1729935000-1729942200@familleacoeur.qc.ca
SUMMARY:Langagibou
DESCRIPTION:L’atelier LANGAGIBOU invite le parent et son enfant à travailler le développement du langage. \nLe but est d’acquérir des stratégies langagières selon une approche personnalisée. \nLa rencontre est d’une durée de 2 heures assistée par deux accompagnatrices et divisée en quelques modules : causerie\, parcours dirigé\, activité de groupe structuré (thématique)\, collation et jeux libre(enfants) + causette (parents)\, histoire et départ. \nNote : Une pré-inscription est requise pour participer à l’atelier
URL:https://familleacoeur.qc.ca/evenement/langagibou-2/2024-10-26/
CATEGORIES:Activités
ATTACH;FMTTYPE=image/jpeg:https://familleacoeur.qc.ca/wp-content/uploads/2024/02/pexels-mart-production-7414905-scaled-e1708617596238.jpg
END:VEVENT
END:VCALENDAR