BEGIN:VCALENDAR
VERSION:2.0
PRODID:-//Famille à Coeur - ECPv6.2.2//NONSGML v1.0//EN
CALSCALE:GREGORIAN
METHOD:PUBLISH
X-WR-CALNAME:Famille à Coeur
X-ORIGINAL-URL:https://familleacoeur.qc.ca
X-WR-CALDESC:évènements pour Famille à Coeur
REFRESH-INTERVAL;VALUE=DURATION:PT1H
X-Robots-Tag:noindex
X-PUBLISHED-TTL:PT1H
BEGIN:VTIMEZONE
TZID:America/Toronto
BEGIN:DAYLIGHT
TZOFFSETFROM:-0500
TZOFFSETTO:-0400
TZNAME:EDT
DTSTART:20240310T070000
END:DAYLIGHT
BEGIN:STANDARD
TZOFFSETFROM:-0400
TZOFFSETTO:-0500
TZNAME:EST
DTSTART:20241103T060000
END:STANDARD
END:VTIMEZONE
BEGIN:VEVENT
DTSTART;TZID=America/Toronto:20241101T100000
DTEND;TZID=America/Toronto:20241101T110000
DTSTAMP:20260421T071540
CREATED:20240213T194554Z
LAST-MODIFIED:20240807T185738Z
UID:10001327-1730455200-1730458800@familleacoeur.qc.ca
SUMMARY:Jeux et exercices pour enfants et parents (JEEP)
DESCRIPTION:Jeux Exercices Enfants Parents est une activité pour les parents et les enfants âgés de 0-24 mois\, qui désirent se remettre en forme tout en s’amusant. Chacun des exercices est adapté aux groupes d’âges des enfants et à la forme physique du parent. Le but de l’activité ? Se remettre en forme en utilisant des matériaux à notre disposition\, tout en profitant de ce moment pour passer un temps privilégié avec les enfants. \nMatériel requis : vêtements de sport\, souliers de course et gourde d’eau \nVenez bouger avec nous ! \nContre-indications : Limitations physiques tels que blessures et douleurs aux jambes\, épaules\, dos\, etc. \n\n\n\n\n\n\nDevenir membre : 20.00 $ par famille pour une année.
URL:https://familleacoeur.qc.ca/evenement/jeux-et-exercices-pour-enfants-et-parents-jeep-3/2024-11-01/
CATEGORIES:Activités
ATTACH;FMTTYPE=image/jpeg:https://familleacoeur.qc.ca/wp-content/uploads/2021/02/jeep-2.jpg
END:VEVENT
BEGIN:VEVENT
DTSTART;TZID=America/Toronto:20241102T093000
DTEND;TZID=America/Toronto:20241102T113000
DTSTAMP:20260421T071540
CREATED:20240807T185953Z
LAST-MODIFIED:20240807T190124Z
UID:10001338-1730539800-1730547000@familleacoeur.qc.ca
SUMMARY:Langagibou
DESCRIPTION:L’atelier LANGAGIBOU invite le parent et son enfant à travailler le développement du langage. \nLe but est d’acquérir des stratégies langagières selon une approche personnalisée. \nLa rencontre est d’une durée de 2 heures assistée par deux accompagnatrices et divisée en quelques modules : causerie\, parcours dirigé\, activité de groupe structuré (thématique)\, collation et jeux libre(enfants) + causette (parents)\, histoire et départ. \nNote : Une pré-inscription est requise pour participer à l’atelier
URL:https://familleacoeur.qc.ca/evenement/langagibou-2/2024-11-02/
CATEGORIES:Activités
ATTACH;FMTTYPE=image/jpeg:https://familleacoeur.qc.ca/wp-content/uploads/2024/02/pexels-mart-production-7414905-scaled-e1708617596238.jpg
END:VEVENT
BEGIN:VEVENT
DTSTART;TZID=America/Toronto:20241102T153000
DTEND;TZID=America/Toronto:20241102T203000
DTSTAMP:20260421T071540
CREATED:20240912T133946Z
LAST-MODIFIED:20241114T163808Z
UID:10001503-1730561400-1730579400@familleacoeur.qc.ca
SUMMARY:Samedi d'sortir
DESCRIPTION:Besoin d’un répit ? D’une sortie ? \nNous offrons un service de répit\, les samedis\, de 15 h 30 à 20 h 30 pour les enfants de 0-12 ans\, afin que les parents profitent d’une belle soirée\, le temps d’une p’tite sortie ! \nAu menu de la soirée\, jeux extérieurs\, bricolages\, jeux actifs\, jeux calmes et film.
URL:https://familleacoeur.qc.ca/evenement/samedi-dsortir-pour-enfants-0-12-ans-2-2/2024-11-02/
CATEGORIES:Services
ATTACH;FMTTYPE=image/jpeg:https://familleacoeur.qc.ca/wp-content/uploads/2021/02/samedi-repit.jpg
END:VEVENT
BEGIN:VEVENT
DTSTART;TZID=America/Toronto:20241103T100000
DTEND;TZID=America/Toronto:20241103T160000
DTSTAMP:20260421T071540
CREATED:20240912T164555Z
LAST-MODIFIED:20241114T164151Z
UID:10001516-1730628000-1730649600@familleacoeur.qc.ca
SUMMARY:Dimanche détente
DESCRIPTION:Besoin d’un répit ? D’une sortie ? \nNous offrons un service de répit\, les dimanches\, de 10h à 16h pour les enfants de 0-12 ans\, afin que les parents profitent d’un moment entre eux ! \nAu menu pour les enfants : jeux extérieurs\, bricolages\, jeux actifs\, jeux calmes et film.
URL:https://familleacoeur.qc.ca/evenement/repit-du-dimanche/2024-11-03/
CATEGORIES:Services
ATTACH;FMTTYPE=image/jpeg:https://familleacoeur.qc.ca/wp-content/uploads/2023/10/pexels-ksenia-chernaya-8535230-scaled.jpg
END:VEVENT
BEGIN:VEVENT
DTSTART;TZID=America/Toronto:20241104T100000
DTEND;TZID=America/Toronto:20241104T110000
DTSTAMP:20260421T071540
CREATED:20240807T184543Z
LAST-MODIFIED:20241104T144212Z
UID:10001558-1730714400-1730718000@familleacoeur.qc.ca
SUMMARY:Massage bébé
DESCRIPTION:Avec enfants âgés de 0 à 12 mois. \nCet atelier permet de créer ou renforcer le lien d’attachement parent-enfant\, de se détendre et se relaxer\, diminuer le stress (masseur et massé)\, favoriser le développement psychomoteur de bébé\, rencontrer et échanger avec d’autres parents. \nVous apprendrez une routine complète pour masser votre bébé\, quelques petits exercices adaptés et d’autres petits trucs afin d’aider à soulager certains maux (gaz\, coliques\, congestion\, poussée dentaire\, etc.). Vous pourrez comprendre les bienfaits du massage chez votre enfant\, les moments favorables au massage pour vous et lui. Merveilleux moment pour apprendre à connaître le langage du corps de votre bébé et de créer de solides liens ! \nMatériel requis : piqué\, couverture\, petite serviette\, jouet préféré de votre bébé \nHabillement suggéré : vêtements confortables
URL:https://familleacoeur.qc.ca/evenement/massage-bebe-3-2-2-3/2024-11-04/
CATEGORIES:Activités
ATTACH;FMTTYPE=image/jpeg:https://familleacoeur.qc.ca/wp-content/uploads/2021/02/massage-bebe1.jpg
END:VEVENT
BEGIN:VEVENT
DTSTART;TZID=America/Toronto:20241105T100000
DTEND;TZID=America/Toronto:20241105T113000
DTSTAMP:20260421T071540
CREATED:20240807T182441Z
LAST-MODIFIED:20240807T182442Z
UID:10001190-1730800800-1730806200@familleacoeur.qc.ca
SUMMARY:Marche poussette
DESCRIPTION:Marche en poussette à l’extérieur \nAfin de briser l’isolement et profiter du beau temps ! \nPossibilité d’apporter un pique-nique et manger en famille sur place. \nAnnulé en cas de pluie.
URL:https://familleacoeur.qc.ca/evenement/marche-poussette-2/2024-11-05/
CATEGORIES:Activités
ATTACH;FMTTYPE=image/jpeg:https://familleacoeur.qc.ca/wp-content/uploads/2024/05/iStock-184299673-scaled.jpg
END:VEVENT
BEGIN:VEVENT
DTSTART;TZID=America/Toronto:20241105T190000
DTEND;TZID=America/Toronto:20241105T203000
DTSTAMP:20260421T071540
CREATED:20220810T175031Z
LAST-MODIFIED:20240807T192623Z
UID:10001426-1730833200-1730838600@familleacoeur.qc.ca
SUMMARY:Groupe de soutien au deuil périnatal
DESCRIPTION:Que ce soit en début de grossesse\, durant la grossesse\, à l’accouchement ou dans les premiers mois de vie de votre enfant\, le décès d’un petit être est toujours un moment difficile à traverser. Vous vivez un deuil périnatal\, vous vous sentez seul(e)\, incompris(e) et perdu(e). C’est vraiment normal et vous n’êtes pas seul(e) à vivre toute cette vague d’émotions. \nGratuit pour les membres. \n\n\nRéservation obligatoire auprès de Geneviève Boileau\n\n\n\n\n\nPar courriel : crp@familleacoeur.qc.ca\nPar téléphone : 450 346-1734\, poste 233
URL:https://familleacoeur.qc.ca/evenement/groupe-de-soutien-au-deuil-perinatal/2024-11-05/
ATTACH;FMTTYPE=image/jpeg:https://familleacoeur.qc.ca/wp-content/uploads/2021/02/deuil-perinatal-1.jpg
END:VEVENT
BEGIN:VEVENT
DTSTART;TZID=America/Toronto:20241106T093000
DTEND;TZID=America/Toronto:20241106T113000
DTSTAMP:20260421T071540
CREATED:20240807T191132Z
LAST-MODIFIED:20240807T191227Z
UID:10001418-1730885400-1730892600@familleacoeur.qc.ca
SUMMARY:Café-jasette «Les Galipettes» pour parents et enfants de 2 à 5 ans
DESCRIPTION:Pour parents et enfants âgés de 2 à 5 ans. \nPour connaître les prochaines dates de rencontres pour la session à venir\, consultez la page Facebook de Famille à Cœur ou notre calendrier.
URL:https://familleacoeur.qc.ca/evenement/cafe-jasette-les-galipettes-pour-parents-et-enfants-de-2-a-5-ans-2-2/2024-11-06/
CATEGORIES:Activités
ATTACH;FMTTYPE=image/jpeg:https://familleacoeur.qc.ca/wp-content/uploads/2021/02/galipettes2.jpg
END:VEVENT
BEGIN:VEVENT
DTSTART;TZID=America/Toronto:20241107T093000
DTEND;TZID=America/Toronto:20241107T113000
DTSTAMP:20260421T071540
CREATED:20240807T190754Z
LAST-MODIFIED:20240807T190905Z
UID:10001405-1730971800-1730979000@familleacoeur.qc.ca
SUMMARY:Les p’tits matins bedons poupons
DESCRIPTION:Cette activité s’adresse aux parents d’enfants de 0 (grossesse) à 2 ans. Les p’tits matins bedons poupons se déroulent de 9 h 30 à 11 h 30 à tous les jeudis. Le but est de permettre à ces parents de rencontrer d’autres parents\, afin d’échanger et d’en apprendre sur des sujets en lien direct avec leur réalité commune\, accompagnés de leur poupon. À l’occasion nous avons des invités qui viennent discuter de différents sujets tels que la nutrition (DME)\, ostéopathie\, massothérapie pour bébé\, etc. \nGratuit pour les membres.
URL:https://familleacoeur.qc.ca/evenement/les-ptits-matins-bedons-poupons-ete-2-2/2024-11-07/
CATEGORIES:Activités,Services
ATTACH;FMTTYPE=image/jpeg:https://familleacoeur.qc.ca/wp-content/uploads/2021/02/bedons-poupons.jpg
END:VEVENT
BEGIN:VEVENT
DTSTART;TZID=America/Toronto:20241108T100000
DTEND;TZID=America/Toronto:20241108T110000
DTSTAMP:20260421T071540
CREATED:20240213T194554Z
LAST-MODIFIED:20240807T185738Z
UID:10001328-1731060000-1731063600@familleacoeur.qc.ca
SUMMARY:Jeux et exercices pour enfants et parents (JEEP)
DESCRIPTION:Jeux Exercices Enfants Parents est une activité pour les parents et les enfants âgés de 0-24 mois\, qui désirent se remettre en forme tout en s’amusant. Chacun des exercices est adapté aux groupes d’âges des enfants et à la forme physique du parent. Le but de l’activité ? Se remettre en forme en utilisant des matériaux à notre disposition\, tout en profitant de ce moment pour passer un temps privilégié avec les enfants. \nMatériel requis : vêtements de sport\, souliers de course et gourde d’eau \nVenez bouger avec nous ! \nContre-indications : Limitations physiques tels que blessures et douleurs aux jambes\, épaules\, dos\, etc. \n\n\n\n\n\n\nDevenir membre : 20.00 $ par famille pour une année.
URL:https://familleacoeur.qc.ca/evenement/jeux-et-exercices-pour-enfants-et-parents-jeep-3/2024-11-08/
CATEGORIES:Activités
ATTACH;FMTTYPE=image/jpeg:https://familleacoeur.qc.ca/wp-content/uploads/2021/02/jeep-2.jpg
END:VEVENT
BEGIN:VEVENT
DTSTART;TZID=America/Toronto:20241109T093000
DTEND;TZID=America/Toronto:20241109T113000
DTSTAMP:20260421T071540
CREATED:20240807T185953Z
LAST-MODIFIED:20240807T190124Z
UID:10001339-1731144600-1731151800@familleacoeur.qc.ca
SUMMARY:Langagibou
DESCRIPTION:L’atelier LANGAGIBOU invite le parent et son enfant à travailler le développement du langage. \nLe but est d’acquérir des stratégies langagières selon une approche personnalisée. \nLa rencontre est d’une durée de 2 heures assistée par deux accompagnatrices et divisée en quelques modules : causerie\, parcours dirigé\, activité de groupe structuré (thématique)\, collation et jeux libre(enfants) + causette (parents)\, histoire et départ. \nNote : Une pré-inscription est requise pour participer à l’atelier
URL:https://familleacoeur.qc.ca/evenement/langagibou-2/2024-11-09/
CATEGORIES:Activités
ATTACH;FMTTYPE=image/jpeg:https://familleacoeur.qc.ca/wp-content/uploads/2024/02/pexels-mart-production-7414905-scaled-e1708617596238.jpg
END:VEVENT
BEGIN:VEVENT
DTSTART;TZID=America/Toronto:20241109T153000
DTEND;TZID=America/Toronto:20241109T203000
DTSTAMP:20260421T071540
CREATED:20240912T133946Z
LAST-MODIFIED:20241114T163808Z
UID:10001504-1731166200-1731184200@familleacoeur.qc.ca
SUMMARY:Samedi d'sortir
DESCRIPTION:Besoin d’un répit ? D’une sortie ? \nNous offrons un service de répit\, les samedis\, de 15 h 30 à 20 h 30 pour les enfants de 0-12 ans\, afin que les parents profitent d’une belle soirée\, le temps d’une p’tite sortie ! \nAu menu de la soirée\, jeux extérieurs\, bricolages\, jeux actifs\, jeux calmes et film.
URL:https://familleacoeur.qc.ca/evenement/samedi-dsortir-pour-enfants-0-12-ans-2-2/2024-11-09/
CATEGORIES:Services
ATTACH;FMTTYPE=image/jpeg:https://familleacoeur.qc.ca/wp-content/uploads/2021/02/samedi-repit.jpg
END:VEVENT
BEGIN:VEVENT
DTSTART;TZID=America/Toronto:20241110T100000
DTEND;TZID=America/Toronto:20241110T160000
DTSTAMP:20260421T071540
CREATED:20240912T164555Z
LAST-MODIFIED:20241114T164151Z
UID:10001517-1731232800-1731254400@familleacoeur.qc.ca
SUMMARY:Dimanche détente
DESCRIPTION:Besoin d’un répit ? D’une sortie ? \nNous offrons un service de répit\, les dimanches\, de 10h à 16h pour les enfants de 0-12 ans\, afin que les parents profitent d’un moment entre eux ! \nAu menu pour les enfants : jeux extérieurs\, bricolages\, jeux actifs\, jeux calmes et film.
URL:https://familleacoeur.qc.ca/evenement/repit-du-dimanche/2024-11-10/
CATEGORIES:Services
ATTACH;FMTTYPE=image/jpeg:https://familleacoeur.qc.ca/wp-content/uploads/2023/10/pexels-ksenia-chernaya-8535230-scaled.jpg
END:VEVENT
BEGIN:VEVENT
DTSTART;TZID=America/Toronto:20241111T100000
DTEND;TZID=America/Toronto:20241111T110000
DTSTAMP:20260421T071540
CREATED:20240807T184543Z
LAST-MODIFIED:20241104T144212Z
UID:10001559-1731319200-1731322800@familleacoeur.qc.ca
SUMMARY:Massage bébé
DESCRIPTION:Avec enfants âgés de 0 à 12 mois. \nCet atelier permet de créer ou renforcer le lien d’attachement parent-enfant\, de se détendre et se relaxer\, diminuer le stress (masseur et massé)\, favoriser le développement psychomoteur de bébé\, rencontrer et échanger avec d’autres parents. \nVous apprendrez une routine complète pour masser votre bébé\, quelques petits exercices adaptés et d’autres petits trucs afin d’aider à soulager certains maux (gaz\, coliques\, congestion\, poussée dentaire\, etc.). Vous pourrez comprendre les bienfaits du massage chez votre enfant\, les moments favorables au massage pour vous et lui. Merveilleux moment pour apprendre à connaître le langage du corps de votre bébé et de créer de solides liens ! \nMatériel requis : piqué\, couverture\, petite serviette\, jouet préféré de votre bébé \nHabillement suggéré : vêtements confortables
URL:https://familleacoeur.qc.ca/evenement/massage-bebe-3-2-2-3/2024-11-11/
CATEGORIES:Activités
ATTACH;FMTTYPE=image/jpeg:https://familleacoeur.qc.ca/wp-content/uploads/2021/02/massage-bebe1.jpg
END:VEVENT
BEGIN:VEVENT
DTSTART;TZID=America/Toronto:20241112T100000
DTEND;TZID=America/Toronto:20241112T113000
DTSTAMP:20260421T071540
CREATED:20240807T182441Z
LAST-MODIFIED:20240807T182442Z
UID:10001191-1731405600-1731411000@familleacoeur.qc.ca
SUMMARY:Marche poussette
DESCRIPTION:Marche en poussette à l’extérieur \nAfin de briser l’isolement et profiter du beau temps ! \nPossibilité d’apporter un pique-nique et manger en famille sur place. \nAnnulé en cas de pluie.
URL:https://familleacoeur.qc.ca/evenement/marche-poussette-2/2024-11-12/
CATEGORIES:Activités
ATTACH;FMTTYPE=image/jpeg:https://familleacoeur.qc.ca/wp-content/uploads/2024/05/iStock-184299673-scaled.jpg
END:VEVENT
BEGIN:VEVENT
DTSTART;TZID=America/Toronto:20241113T093000
DTEND;TZID=America/Toronto:20241113T113000
DTSTAMP:20260421T071540
CREATED:20240807T191132Z
LAST-MODIFIED:20240807T191227Z
UID:10001419-1731490200-1731497400@familleacoeur.qc.ca
SUMMARY:Café-jasette «Les Galipettes» pour parents et enfants de 2 à 5 ans
DESCRIPTION:Pour parents et enfants âgés de 2 à 5 ans. \nPour connaître les prochaines dates de rencontres pour la session à venir\, consultez la page Facebook de Famille à Cœur ou notre calendrier.
URL:https://familleacoeur.qc.ca/evenement/cafe-jasette-les-galipettes-pour-parents-et-enfants-de-2-a-5-ans-2-2/2024-11-13/
CATEGORIES:Activités
ATTACH;FMTTYPE=image/jpeg:https://familleacoeur.qc.ca/wp-content/uploads/2021/02/galipettes2.jpg
END:VEVENT
BEGIN:VEVENT
DTSTART;TZID=America/Toronto:20241114T093000
DTEND;TZID=America/Toronto:20241114T113000
DTSTAMP:20260421T071540
CREATED:20240807T190754Z
LAST-MODIFIED:20240807T190905Z
UID:10001406-1731576600-1731583800@familleacoeur.qc.ca
SUMMARY:Les p’tits matins bedons poupons
DESCRIPTION:Cette activité s’adresse aux parents d’enfants de 0 (grossesse) à 2 ans. Les p’tits matins bedons poupons se déroulent de 9 h 30 à 11 h 30 à tous les jeudis. Le but est de permettre à ces parents de rencontrer d’autres parents\, afin d’échanger et d’en apprendre sur des sujets en lien direct avec leur réalité commune\, accompagnés de leur poupon. À l’occasion nous avons des invités qui viennent discuter de différents sujets tels que la nutrition (DME)\, ostéopathie\, massothérapie pour bébé\, etc. \nGratuit pour les membres.
URL:https://familleacoeur.qc.ca/evenement/les-ptits-matins-bedons-poupons-ete-2-2/2024-11-14/
CATEGORIES:Activités,Services
ATTACH;FMTTYPE=image/jpeg:https://familleacoeur.qc.ca/wp-content/uploads/2021/02/bedons-poupons.jpg
END:VEVENT
BEGIN:VEVENT
DTSTART;TZID=America/Toronto:20241115T100000
DTEND;TZID=America/Toronto:20241115T110000
DTSTAMP:20260421T071540
CREATED:20240213T194554Z
LAST-MODIFIED:20240807T185738Z
UID:10001329-1731664800-1731668400@familleacoeur.qc.ca
SUMMARY:Jeux et exercices pour enfants et parents (JEEP)
DESCRIPTION:Jeux Exercices Enfants Parents est une activité pour les parents et les enfants âgés de 0-24 mois\, qui désirent se remettre en forme tout en s’amusant. Chacun des exercices est adapté aux groupes d’âges des enfants et à la forme physique du parent. Le but de l’activité ? Se remettre en forme en utilisant des matériaux à notre disposition\, tout en profitant de ce moment pour passer un temps privilégié avec les enfants. \nMatériel requis : vêtements de sport\, souliers de course et gourde d’eau \nVenez bouger avec nous ! \nContre-indications : Limitations physiques tels que blessures et douleurs aux jambes\, épaules\, dos\, etc. \n\n\n\n\n\n\nDevenir membre : 20.00 $ par famille pour une année.
URL:https://familleacoeur.qc.ca/evenement/jeux-et-exercices-pour-enfants-et-parents-jeep-3/2024-11-15/
CATEGORIES:Activités
ATTACH;FMTTYPE=image/jpeg:https://familleacoeur.qc.ca/wp-content/uploads/2021/02/jeep-2.jpg
END:VEVENT
BEGIN:VEVENT
DTSTART;TZID=America/Toronto:20241116T093000
DTEND;TZID=America/Toronto:20241116T113000
DTSTAMP:20260421T071540
CREATED:20240807T185953Z
LAST-MODIFIED:20240807T190124Z
UID:10001340-1731749400-1731756600@familleacoeur.qc.ca
SUMMARY:Langagibou
DESCRIPTION:L’atelier LANGAGIBOU invite le parent et son enfant à travailler le développement du langage. \nLe but est d’acquérir des stratégies langagières selon une approche personnalisée. \nLa rencontre est d’une durée de 2 heures assistée par deux accompagnatrices et divisée en quelques modules : causerie\, parcours dirigé\, activité de groupe structuré (thématique)\, collation et jeux libre(enfants) + causette (parents)\, histoire et départ. \nNote : Une pré-inscription est requise pour participer à l’atelier
URL:https://familleacoeur.qc.ca/evenement/langagibou-2/2024-11-16/
CATEGORIES:Activités
ATTACH;FMTTYPE=image/jpeg:https://familleacoeur.qc.ca/wp-content/uploads/2024/02/pexels-mart-production-7414905-scaled-e1708617596238.jpg
END:VEVENT
BEGIN:VEVENT
DTSTART;TZID=America/Toronto:20241116T153000
DTEND;TZID=America/Toronto:20241116T203000
DTSTAMP:20260421T071540
CREATED:20240912T133946Z
LAST-MODIFIED:20241114T163808Z
UID:10001505-1731771000-1731789000@familleacoeur.qc.ca
SUMMARY:Samedi d'sortir
DESCRIPTION:Besoin d’un répit ? D’une sortie ? \nNous offrons un service de répit\, les samedis\, de 15 h 30 à 20 h 30 pour les enfants de 0-12 ans\, afin que les parents profitent d’une belle soirée\, le temps d’une p’tite sortie ! \nAu menu de la soirée\, jeux extérieurs\, bricolages\, jeux actifs\, jeux calmes et film.
URL:https://familleacoeur.qc.ca/evenement/samedi-dsortir-pour-enfants-0-12-ans-2-2/2024-11-16/
CATEGORIES:Services
ATTACH;FMTTYPE=image/jpeg:https://familleacoeur.qc.ca/wp-content/uploads/2021/02/samedi-repit.jpg
END:VEVENT
BEGIN:VEVENT
DTSTART;TZID=America/Toronto:20241117T100000
DTEND;TZID=America/Toronto:20241117T160000
DTSTAMP:20260421T071540
CREATED:20240912T164555Z
LAST-MODIFIED:20241114T164151Z
UID:10001518-1731837600-1731859200@familleacoeur.qc.ca
SUMMARY:Dimanche détente
DESCRIPTION:Besoin d’un répit ? D’une sortie ? \nNous offrons un service de répit\, les dimanches\, de 10h à 16h pour les enfants de 0-12 ans\, afin que les parents profitent d’un moment entre eux ! \nAu menu pour les enfants : jeux extérieurs\, bricolages\, jeux actifs\, jeux calmes et film.
URL:https://familleacoeur.qc.ca/evenement/repit-du-dimanche/2024-11-17/
CATEGORIES:Services
ATTACH;FMTTYPE=image/jpeg:https://familleacoeur.qc.ca/wp-content/uploads/2023/10/pexels-ksenia-chernaya-8535230-scaled.jpg
END:VEVENT
BEGIN:VEVENT
DTSTART;TZID=America/Toronto:20241118T100000
DTEND;TZID=America/Toronto:20241118T110000
DTSTAMP:20260421T071540
CREATED:20240807T184543Z
LAST-MODIFIED:20241104T144212Z
UID:10001560-1731924000-1731927600@familleacoeur.qc.ca
SUMMARY:Massage bébé
DESCRIPTION:Avec enfants âgés de 0 à 12 mois. \nCet atelier permet de créer ou renforcer le lien d’attachement parent-enfant\, de se détendre et se relaxer\, diminuer le stress (masseur et massé)\, favoriser le développement psychomoteur de bébé\, rencontrer et échanger avec d’autres parents. \nVous apprendrez une routine complète pour masser votre bébé\, quelques petits exercices adaptés et d’autres petits trucs afin d’aider à soulager certains maux (gaz\, coliques\, congestion\, poussée dentaire\, etc.). Vous pourrez comprendre les bienfaits du massage chez votre enfant\, les moments favorables au massage pour vous et lui. Merveilleux moment pour apprendre à connaître le langage du corps de votre bébé et de créer de solides liens ! \nMatériel requis : piqué\, couverture\, petite serviette\, jouet préféré de votre bébé \nHabillement suggéré : vêtements confortables
URL:https://familleacoeur.qc.ca/evenement/massage-bebe-3-2-2-3/2024-11-18/
CATEGORIES:Activités
ATTACH;FMTTYPE=image/jpeg:https://familleacoeur.qc.ca/wp-content/uploads/2021/02/massage-bebe1.jpg
END:VEVENT
BEGIN:VEVENT
DTSTART;TZID=America/Toronto:20241119T100000
DTEND;TZID=America/Toronto:20241119T113000
DTSTAMP:20260421T071540
CREATED:20240807T182441Z
LAST-MODIFIED:20240807T182442Z
UID:10001192-1732010400-1732015800@familleacoeur.qc.ca
SUMMARY:Marche poussette
DESCRIPTION:Marche en poussette à l’extérieur \nAfin de briser l’isolement et profiter du beau temps ! \nPossibilité d’apporter un pique-nique et manger en famille sur place. \nAnnulé en cas de pluie.
URL:https://familleacoeur.qc.ca/evenement/marche-poussette-2/2024-11-19/
CATEGORIES:Activités
ATTACH;FMTTYPE=image/jpeg:https://familleacoeur.qc.ca/wp-content/uploads/2024/05/iStock-184299673-scaled.jpg
END:VEVENT
BEGIN:VEVENT
DTSTART;TZID=America/Toronto:20241120T093000
DTEND;TZID=America/Toronto:20241120T113000
DTSTAMP:20260421T071540
CREATED:20240807T191132Z
LAST-MODIFIED:20240807T191227Z
UID:10001420-1732095000-1732102200@familleacoeur.qc.ca
SUMMARY:Café-jasette «Les Galipettes» pour parents et enfants de 2 à 5 ans
DESCRIPTION:Pour parents et enfants âgés de 2 à 5 ans. \nPour connaître les prochaines dates de rencontres pour la session à venir\, consultez la page Facebook de Famille à Cœur ou notre calendrier.
URL:https://familleacoeur.qc.ca/evenement/cafe-jasette-les-galipettes-pour-parents-et-enfants-de-2-a-5-ans-2-2/2024-11-20/
CATEGORIES:Activités
ATTACH;FMTTYPE=image/jpeg:https://familleacoeur.qc.ca/wp-content/uploads/2021/02/galipettes2.jpg
END:VEVENT
BEGIN:VEVENT
DTSTART;TZID=America/Toronto:20241121T093000
DTEND;TZID=America/Toronto:20241121T113000
DTSTAMP:20260421T071540
CREATED:20240807T190754Z
LAST-MODIFIED:20240807T190905Z
UID:10001407-1732181400-1732188600@familleacoeur.qc.ca
SUMMARY:Les p’tits matins bedons poupons
DESCRIPTION:Cette activité s’adresse aux parents d’enfants de 0 (grossesse) à 2 ans. Les p’tits matins bedons poupons se déroulent de 9 h 30 à 11 h 30 à tous les jeudis. Le but est de permettre à ces parents de rencontrer d’autres parents\, afin d’échanger et d’en apprendre sur des sujets en lien direct avec leur réalité commune\, accompagnés de leur poupon. À l’occasion nous avons des invités qui viennent discuter de différents sujets tels que la nutrition (DME)\, ostéopathie\, massothérapie pour bébé\, etc. \nGratuit pour les membres.
URL:https://familleacoeur.qc.ca/evenement/les-ptits-matins-bedons-poupons-ete-2-2/2024-11-21/
CATEGORIES:Activités,Services
ATTACH;FMTTYPE=image/jpeg:https://familleacoeur.qc.ca/wp-content/uploads/2021/02/bedons-poupons.jpg
END:VEVENT
BEGIN:VEVENT
DTSTART;TZID=America/Toronto:20241122T100000
DTEND;TZID=America/Toronto:20241122T110000
DTSTAMP:20260421T071540
CREATED:20240213T194554Z
LAST-MODIFIED:20240807T185738Z
UID:10001330-1732269600-1732273200@familleacoeur.qc.ca
SUMMARY:Jeux et exercices pour enfants et parents (JEEP)
DESCRIPTION:Jeux Exercices Enfants Parents est une activité pour les parents et les enfants âgés de 0-24 mois\, qui désirent se remettre en forme tout en s’amusant. Chacun des exercices est adapté aux groupes d’âges des enfants et à la forme physique du parent. Le but de l’activité ? Se remettre en forme en utilisant des matériaux à notre disposition\, tout en profitant de ce moment pour passer un temps privilégié avec les enfants. \nMatériel requis : vêtements de sport\, souliers de course et gourde d’eau \nVenez bouger avec nous ! \nContre-indications : Limitations physiques tels que blessures et douleurs aux jambes\, épaules\, dos\, etc. \n\n\n\n\n\n\nDevenir membre : 20.00 $ par famille pour une année.
URL:https://familleacoeur.qc.ca/evenement/jeux-et-exercices-pour-enfants-et-parents-jeep-3/2024-11-22/
CATEGORIES:Activités
ATTACH;FMTTYPE=image/jpeg:https://familleacoeur.qc.ca/wp-content/uploads/2021/02/jeep-2.jpg
END:VEVENT
BEGIN:VEVENT
DTSTART;TZID=America/Toronto:20241123T153000
DTEND;TZID=America/Toronto:20241123T203000
DTSTAMP:20260421T071540
CREATED:20240912T133946Z
LAST-MODIFIED:20241114T163808Z
UID:10001506-1732375800-1732393800@familleacoeur.qc.ca
SUMMARY:Samedi d'sortir
DESCRIPTION:Besoin d’un répit ? D’une sortie ? \nNous offrons un service de répit\, les samedis\, de 15 h 30 à 20 h 30 pour les enfants de 0-12 ans\, afin que les parents profitent d’une belle soirée\, le temps d’une p’tite sortie ! \nAu menu de la soirée\, jeux extérieurs\, bricolages\, jeux actifs\, jeux calmes et film.
URL:https://familleacoeur.qc.ca/evenement/samedi-dsortir-pour-enfants-0-12-ans-2-2/2024-11-23/
CATEGORIES:Services
ATTACH;FMTTYPE=image/jpeg:https://familleacoeur.qc.ca/wp-content/uploads/2021/02/samedi-repit.jpg
END:VEVENT
BEGIN:VEVENT
DTSTART;TZID=America/Toronto:20241124T100000
DTEND;TZID=America/Toronto:20241124T160000
DTSTAMP:20260421T071540
CREATED:20240912T164555Z
LAST-MODIFIED:20241114T164151Z
UID:10001519-1732442400-1732464000@familleacoeur.qc.ca
SUMMARY:Dimanche détente
DESCRIPTION:Besoin d’un répit ? D’une sortie ? \nNous offrons un service de répit\, les dimanches\, de 10h à 16h pour les enfants de 0-12 ans\, afin que les parents profitent d’un moment entre eux ! \nAu menu pour les enfants : jeux extérieurs\, bricolages\, jeux actifs\, jeux calmes et film.
URL:https://familleacoeur.qc.ca/evenement/repit-du-dimanche/2024-11-24/
CATEGORIES:Services
ATTACH;FMTTYPE=image/jpeg:https://familleacoeur.qc.ca/wp-content/uploads/2023/10/pexels-ksenia-chernaya-8535230-scaled.jpg
END:VEVENT
BEGIN:VEVENT
DTSTART;TZID=America/Toronto:20241125T100000
DTEND;TZID=America/Toronto:20241125T110000
DTSTAMP:20260421T071540
CREATED:20240807T184543Z
LAST-MODIFIED:20241104T144212Z
UID:10001561-1732528800-1732532400@familleacoeur.qc.ca
SUMMARY:Massage bébé
DESCRIPTION:Avec enfants âgés de 0 à 12 mois. \nCet atelier permet de créer ou renforcer le lien d’attachement parent-enfant\, de se détendre et se relaxer\, diminuer le stress (masseur et massé)\, favoriser le développement psychomoteur de bébé\, rencontrer et échanger avec d’autres parents. \nVous apprendrez une routine complète pour masser votre bébé\, quelques petits exercices adaptés et d’autres petits trucs afin d’aider à soulager certains maux (gaz\, coliques\, congestion\, poussée dentaire\, etc.). Vous pourrez comprendre les bienfaits du massage chez votre enfant\, les moments favorables au massage pour vous et lui. Merveilleux moment pour apprendre à connaître le langage du corps de votre bébé et de créer de solides liens ! \nMatériel requis : piqué\, couverture\, petite serviette\, jouet préféré de votre bébé \nHabillement suggéré : vêtements confortables
URL:https://familleacoeur.qc.ca/evenement/massage-bebe-3-2-2-3/2024-11-25/
CATEGORIES:Activités
ATTACH;FMTTYPE=image/jpeg:https://familleacoeur.qc.ca/wp-content/uploads/2021/02/massage-bebe1.jpg
END:VEVENT
BEGIN:VEVENT
DTSTART;TZID=America/Toronto:20241126T100000
DTEND;TZID=America/Toronto:20241126T113000
DTSTAMP:20260421T071540
CREATED:20240807T182441Z
LAST-MODIFIED:20240807T182442Z
UID:10001193-1732615200-1732620600@familleacoeur.qc.ca
SUMMARY:Marche poussette
DESCRIPTION:Marche en poussette à l’extérieur \nAfin de briser l’isolement et profiter du beau temps ! \nPossibilité d’apporter un pique-nique et manger en famille sur place. \nAnnulé en cas de pluie.
URL:https://familleacoeur.qc.ca/evenement/marche-poussette-2/2024-11-26/
CATEGORIES:Activités
ATTACH;FMTTYPE=image/jpeg:https://familleacoeur.qc.ca/wp-content/uploads/2024/05/iStock-184299673-scaled.jpg
END:VEVENT
END:VCALENDAR