BEGIN:VCALENDAR
VERSION:2.0
PRODID:-//Famille à Coeur - ECPv6.2.2//NONSGML v1.0//EN
CALSCALE:GREGORIAN
METHOD:PUBLISH
X-WR-CALNAME:Famille à Coeur
X-ORIGINAL-URL:https://familleacoeur.qc.ca
X-WR-CALDESC:évènements pour Famille à Coeur
REFRESH-INTERVAL;VALUE=DURATION:PT1H
X-Robots-Tag:noindex
X-PUBLISHED-TTL:PT1H
BEGIN:VTIMEZONE
TZID:America/Toronto
BEGIN:DAYLIGHT
TZOFFSETFROM:-0500
TZOFFSETTO:-0400
TZNAME:EDT
DTSTART:20250309T070000
END:DAYLIGHT
BEGIN:STANDARD
TZOFFSETFROM:-0400
TZOFFSETTO:-0500
TZNAME:EST
DTSTART:20251102T060000
END:STANDARD
END:VTIMEZONE
BEGIN:VEVENT
DTSTART;TZID=America/Toronto:20250709T093000
DTEND;TZID=America/Toronto:20250709T113000
DTSTAMP:20260420T013145
CREATED:20250704T173615Z
LAST-MODIFIED:20250704T173615Z
UID:10001975-1752053400-1752060600@familleacoeur.qc.ca
SUMMARY:Atelier de portage
DESCRIPTION:Atelier spécial GRATUIT \nVous avez un porte-bébé à la maison\, mais vous n’êtes pas certain.e de bien l’utiliser? Cet atelier est pour vous! \nUne monitrice de portage stagiaire formée par l’Institut National du Portage des Enfants (INPE) vous guidera pour apprendre à bien ajuster votre moyen de portage. \nUn moment pratique\, rassurant et convivial. \nFaites vite\, seulement 5 places disponibles!
URL:https://familleacoeur.qc.ca/evenement/atelier-de-portage/
CATEGORIES:Ateliers
ATTACH;FMTTYPE=image/jpeg:https://familleacoeur.qc.ca/wp-content/uploads/2025/07/pexels-natasha-lois-756212-4307030-scaled.jpg
END:VEVENT
BEGIN:VEVENT
DTSTART;TZID=America/Toronto:20250711T183000
DTEND;TZID=America/Toronto:20250711T203000
DTSTAMP:20260420T013145
CREATED:20250704T175027Z
LAST-MODIFIED:20250704T175532Z
UID:10001976-1752258600-1752265800@familleacoeur.qc.ca
SUMMARY:Balle molle - père et enfant
DESCRIPTION:Papa\, attrape ton gant!\nCet été\, viens frapper la balle avec ton enfant lors de notre activité de balle-molle père-enfant! Une belle occasion de bouger\, rire et renforcer les liens dans une ambiance détendue et sportive. Pas besoin d’être un pro — on vient pour le plaisir! \nVendredi\, le 11 juillet 2025\nParcs / Terrain de balle parc Beaulieu\n18h30 à 20h30 \nPlaces limitées! \npère  5$ /  enfant  gratuit (8 ans et +) \nAnnulé en cas de pluie.
URL:https://familleacoeur.qc.ca/evenement/balle-molle-pere-et-enfant/
CATEGORIES:Activités
ATTACH;FMTTYPE=image/jpeg:https://familleacoeur.qc.ca/wp-content/uploads/2025/07/baseball-7985432_1280.jpg
END:VEVENT
BEGIN:VEVENT
DTSTART;TZID=America/Toronto:20250718T093000
DTEND;TZID=America/Toronto:20250718T120000
DTSTAMP:20260420T013145
CREATED:20250613T135818Z
LAST-MODIFIED:20250613T141212Z
UID:10001974-1752831000-1752840000@familleacoeur.qc.ca
SUMMARY:Activités SPLISH-SPLASH - pères-enfants
DESCRIPTION:De 9h30-12h\, les participants (pères et enfants) profiteront des jeux d’eau et des activités animées\, dans le parc Ronald Beauregard \nCoût : 5$ pour les pères et gratuit pour les enfants \nMatériel requis : Maillot de bain (ou vêtement de sport qui sèche rapidement)\, vêtements de sports\, serviette \, crème solaire \, bouteille d’eau \, sandales ou soulier d’eau \, collations. \nAnnulé en cas de pluie
URL:https://familleacoeur.qc.ca/evenement/activites-splish-splash-peres-enfants/
CATEGORIES:Activités
ATTACH;FMTTYPE=image/png:https://familleacoeur.qc.ca/wp-content/uploads/2025/06/Un-pere-nest-pas-celui-qui-donne-la-vie-cest-celui-qui-montre-comment-la-vivre.-1-e1749823919581.png
END:VEVENT
BEGIN:VEVENT
DTSTART;TZID=America/Toronto:20250725T170000
DTEND;TZID=America/Toronto:20250725T193000
DTSTAMP:20260420T013145
CREATED:20250707T145350Z
LAST-MODIFIED:20250707T145459Z
UID:10001977-1753462800-1753471800@familleacoeur.qc.ca
SUMMARY:Noel des campeurs (parent-enfant)
DESCRIPTION:Activité parent-enfant (2 ans et + ) sur le thème de Noël en été ! \nVendredi le 25 juillet de 17h à 19h30 \n10$ par adulte \n5$ par enfant \nCliquez sur le lien pour en savoir plus !
URL:https://familleacoeur.qc.ca/evenement/noel-des-campeurs-parent-enfant/
CATEGORIES:Activités
ATTACH;FMTTYPE=image/jpeg:https://familleacoeur.qc.ca/wp-content/uploads/2025/07/christmas-cookies-553457_1280.jpg
END:VEVENT
END:VCALENDAR