BEGIN:VCALENDAR
VERSION:2.0
PRODID:-//Famille à Coeur - ECPv6.2.2//NONSGML v1.0//EN
CALSCALE:GREGORIAN
METHOD:PUBLISH
X-ORIGINAL-URL:https://familleacoeur.qc.ca
X-WR-CALDESC:évènements pour Famille à Coeur
REFRESH-INTERVAL;VALUE=DURATION:PT1H
X-Robots-Tag:noindex
X-PUBLISHED-TTL:PT1H
BEGIN:VTIMEZONE
TZID:America/Toronto
BEGIN:DAYLIGHT
TZOFFSETFROM:-0500
TZOFFSETTO:-0400
TZNAME:EDT
DTSTART:20250309T070000
END:DAYLIGHT
BEGIN:STANDARD
TZOFFSETFROM:-0400
TZOFFSETTO:-0500
TZNAME:EST
DTSTART:20251102T060000
END:STANDARD
END:VTIMEZONE
BEGIN:VEVENT
DTSTART;TZID=America/Toronto:20251001T093000
DTEND;TZID=America/Toronto:20251001T113000
DTSTAMP:20260419T211546
CREATED:20250820T153220Z
LAST-MODIFIED:20250820T153751Z
UID:10002079-1759311000-1759318200@familleacoeur.qc.ca
SUMMARY:Café-jasette «Les Galipettes» pour parents et enfants de 2 à 5 ans
DESCRIPTION:Pour parents et enfants âgés de 2 à 5 ans. \nPour connaître les prochaines dates de rencontres pour la session à venir\, consultez la page Facebook de Famille à Cœur ou notre calendrier.
URL:https://familleacoeur.qc.ca/evenement/cafe-jasette-les-galipettes-pour-parents-et-enfants-de-2-a-5-ans-2-2-2-2/2025-10-01/
CATEGORIES:Activités
ATTACH;FMTTYPE=image/jpeg:https://familleacoeur.qc.ca/wp-content/uploads/2021/02/galipettes2.jpg
END:VEVENT
BEGIN:VEVENT
DTSTART;TZID=America/Toronto:20251002T093000
DTEND;TZID=America/Toronto:20251002T113000
DTSTAMP:20260419T211546
CREATED:20250813T185343Z
LAST-MODIFIED:20250813T185440Z
UID:10001994-1759397400-1759404600@familleacoeur.qc.ca
SUMMARY:Les p’tits matins bedons poupons
DESCRIPTION:Cette activité s’adresse aux parents d’enfants de 0 (grossesse) à 2 ans. Les p’tits matins bedons poupons se déroulent de 9 h 30 à 11 h 30 à tous les jeudis. Le but est de permettre à ces parents de rencontrer d’autres parents\, afin d’échanger et d’en apprendre sur des sujets en lien direct avec leur réalité commune\, accompagnés de leur poupon. À l’occasion nous avons des invités qui viennent discuter de différents sujets tels que la nutrition (DME)\, ostéopathie\, massothérapie pour bébé\, etc. \nGratuit pour les membres.
URL:https://familleacoeur.qc.ca/evenement/les-ptits-matins-bedons-poupons-ete-2-2-2-2/2025-10-02/
CATEGORIES:Activités,Services
ATTACH;FMTTYPE=image/jpeg:https://familleacoeur.qc.ca/wp-content/uploads/2021/02/bedons-poupons.jpg
END:VEVENT
BEGIN:VEVENT
DTSTART;TZID=America/Toronto:20251004T100000
DTEND;TZID=America/Toronto:20251004T110000
DTSTAMP:20260419T211546
CREATED:20250903T133734Z
LAST-MODIFIED:20250903T133851Z
UID:10001951-1759572000-1759575600@familleacoeur.qc.ca
SUMMARY:Éveil à la lecture
DESCRIPTION:La lecture a plusieurs bienfaits sur le développement de l’enfant (langage\, créativité\, confiance en soi…) L’éveil à la lecture est une bonne façon de créer de précieux moments avec vos petits en se basant sur une lecture interactive et enrichie. Nous allons bouger\, faire participer les petits et les grands durant la lecture\, créer des personnages et tout un monde. À vos livres! Prêt? Partez !! \nL’atelier s’adresse aux parents avec leurs enfants de 0 à 24 mois.
URL:https://familleacoeur.qc.ca/evenement/eveil-a-la-lecture-2/2025-10-04/
CATEGORIES:Ateliers
ATTACH;FMTTYPE=image/jpeg:https://familleacoeur.qc.ca/wp-content/uploads/2025/05/pexels-rdne-6182277-scaled.jpg
END:VEVENT
BEGIN:VEVENT
DTSTART;TZID=America/Toronto:20251004T100000
DTEND;TZID=America/Toronto:20251004T110000
DTSTAMP:20260419T211546
CREATED:20251022T151045Z
LAST-MODIFIED:20251022T151045Z
UID:10002129-1759572000-1759575600@familleacoeur.qc.ca
SUMMARY:Éveil à la lecture
DESCRIPTION:La lecture a plusieurs bienfaits sur le développement de l’enfant (langage\, créativité\, confiance en soi…) L’éveil à la lecture est une bonne façon de créer de précieux moments avec vos petits en se basant sur une lecture interactive et enrichie. Nous allons bouger\, faire participer les petits et les grands durant la lecture\, créer des personnages et tout un monde. À vos livres! Prêt? Partez !! \nL’atelier s’adresse aux parents avec leurs enfants de 0 à 24 mois.
URL:https://familleacoeur.qc.ca/evenement/eveil-a-la-lecture-2-2/2025-10-04/
CATEGORIES:Ateliers
ATTACH;FMTTYPE=image/jpeg:https://familleacoeur.qc.ca/wp-content/uploads/2025/05/pexels-rdne-6182277-scaled.jpg
END:VEVENT
BEGIN:VEVENT
DTSTART;TZID=America/Toronto:20251005T093000
DTEND;TZID=America/Toronto:20251005T113000
DTSTAMP:20260419T211546
CREATED:20250813T172255Z
LAST-MODIFIED:20250820T154005Z
UID:10002092-1759656600-1759663800@familleacoeur.qc.ca
SUMMARY:Langagibou
DESCRIPTION:L’atelier LANGAGIBOU invite le parent et son enfant à travailler le développement du langage. \nLe but est d’acquérir des stratégies langagières selon une approche personnalisée. \nLa rencontre est d’une durée de 2 heures assistée par deux accompagnatrices et divisée en quelques modules : causerie\, parcours dirigé\, activité de groupe structuré (thématique)\, collation et jeux libre(enfants) + causette (parents)\, histoire et départ. \nNote : Une pré-inscription est requise pour participer à l’atelier \nCOÛT : 90$ pour la session (revient à 10$ l’atelier)
URL:https://familleacoeur.qc.ca/evenement/langagibou-3-2/2025-10-05/
CATEGORIES:Activités
ATTACH;FMTTYPE=image/jpeg:https://familleacoeur.qc.ca/wp-content/uploads/2024/02/pexels-mart-production-7414905-scaled-e1708617596238.jpg
END:VEVENT
BEGIN:VEVENT
DTSTART;TZID=America/Toronto:20251006T093000
DTEND;TZID=America/Toronto:20251006T113000
DTSTAMP:20260419T211546
CREATED:20250813T184248Z
LAST-MODIFIED:20250814T164012Z
UID:10001983-1759743000-1759750200@familleacoeur.qc.ca
SUMMARY:Groupe de soutien « L'Éveil en douceur »
DESCRIPTION:Ce groupe de soutien et de prévention de la dépression post-partum s’adresse aux mères qui vivent des difficultés émotionnelles et/ou une dépression post-partum. \nIl y aura aussi une rencontre en couple un samedi durant la session. \nGratuit pour les membres
URL:https://familleacoeur.qc.ca/evenement/groupe-de-soutien-leveil-en-douceur-2/2025-10-06/
CATEGORIES:Activités
ATTACH;FMTTYPE=image/jpeg:https://familleacoeur.qc.ca/wp-content/uploads/2025/03/hand-5961660_1280.jpg
END:VEVENT
BEGIN:VEVENT
DTSTART;TZID=America/Toronto:20251007T183000
DTEND;TZID=America/Toronto:20251007T203000
DTSTAMP:20260419T211546
CREATED:20250813T185709Z
LAST-MODIFIED:20250818T151526Z
UID:10002018-1759861800-1759869000@familleacoeur.qc.ca
SUMMARY:Préparation prénatale de groupe
DESCRIPTION:Préparation prénatale pour mieux se préparer à l’accouchement. \nPour connaître les prochaines dates de rencontres pour la session à venir\, consultez la page Facebook de Famille à Cœur ou notre calendrier.
URL:https://familleacoeur.qc.ca/evenement/preparation-prenatale-de-groupe-printemps-2-2-2/2025-10-07/
CATEGORIES:Services
ATTACH;FMTTYPE=image/jpeg:https://familleacoeur.qc.ca/wp-content/uploads/2021/08/rencontres-prenatales-1.jpg
END:VEVENT
BEGIN:VEVENT
DTSTART;TZID=America/Toronto:20251008T093000
DTEND;TZID=America/Toronto:20251008T113000
DTSTAMP:20260419T211546
CREATED:20250820T153220Z
LAST-MODIFIED:20250820T153751Z
UID:10002080-1759915800-1759923000@familleacoeur.qc.ca
SUMMARY:Café-jasette «Les Galipettes» pour parents et enfants de 2 à 5 ans
DESCRIPTION:Pour parents et enfants âgés de 2 à 5 ans. \nPour connaître les prochaines dates de rencontres pour la session à venir\, consultez la page Facebook de Famille à Cœur ou notre calendrier.
URL:https://familleacoeur.qc.ca/evenement/cafe-jasette-les-galipettes-pour-parents-et-enfants-de-2-a-5-ans-2-2-2-2/2025-10-08/
CATEGORIES:Activités
ATTACH;FMTTYPE=image/jpeg:https://familleacoeur.qc.ca/wp-content/uploads/2021/02/galipettes2.jpg
END:VEVENT
BEGIN:VEVENT
DTSTART;TZID=America/Toronto:20251008T180000
DTEND;TZID=America/Toronto:20251008T200000
DTSTAMP:20260419T211546
CREATED:20250820T152423Z
LAST-MODIFIED:20250825T143901Z
UID:10001852-1759946400-1759953600@familleacoeur.qc.ca
SUMMARY:Coéquipiers père-mère
DESCRIPTION:Cet atelier s’adresse à tous les parents qui désirent échanger sur l’importance de faire équipe pour leurs enfants\, ainsi que de prendre conscience de ce qu’ils vivent comme parents\, qu’ils soient en couple ou séparés\, dans le respect de la place de chacun.
URL:https://familleacoeur.qc.ca/evenement/coequipiers-pere-mere-2-2/2025-10-08/
CATEGORIES:Ateliers
ATTACH;FMTTYPE=image/jpeg:https://familleacoeur.qc.ca/wp-content/uploads/2021/01/apropos-titre.jpg
END:VEVENT
BEGIN:VEVENT
DTSTART;TZID=America/Toronto:20251009T093000
DTEND;TZID=America/Toronto:20251009T113000
DTSTAMP:20260419T211546
CREATED:20250813T185343Z
LAST-MODIFIED:20250813T185440Z
UID:10001995-1760002200-1760009400@familleacoeur.qc.ca
SUMMARY:Les p’tits matins bedons poupons
DESCRIPTION:Cette activité s’adresse aux parents d’enfants de 0 (grossesse) à 2 ans. Les p’tits matins bedons poupons se déroulent de 9 h 30 à 11 h 30 à tous les jeudis. Le but est de permettre à ces parents de rencontrer d’autres parents\, afin d’échanger et d’en apprendre sur des sujets en lien direct avec leur réalité commune\, accompagnés de leur poupon. À l’occasion nous avons des invités qui viennent discuter de différents sujets tels que la nutrition (DME)\, ostéopathie\, massothérapie pour bébé\, etc. \nGratuit pour les membres.
URL:https://familleacoeur.qc.ca/evenement/les-ptits-matins-bedons-poupons-ete-2-2-2-2/2025-10-09/
CATEGORIES:Activités,Services
ATTACH;FMTTYPE=image/jpeg:https://familleacoeur.qc.ca/wp-content/uploads/2021/02/bedons-poupons.jpg
END:VEVENT
BEGIN:VEVENT
DTSTART;TZID=America/Toronto:20251010T090000
DTEND;TZID=America/Toronto:20251010T120000
DTSTAMP:20260419T211546
CREATED:20250919T123649Z
LAST-MODIFIED:20250919T132551Z
UID:10002187-1760086800-1760097600@familleacoeur.qc.ca
SUMMARY:1/2 pédago (6-12 ans) - Célébrons l'arrivée de l'automne !
DESCRIPTION:Pour enfants de 6 à 12 ans \n10 $ par enfant \n\nJeu de l’araignée \nJeux de cherche et trouve sensoriel \nBricolage au choix :  \n\nMon portrait squelette\nChat noir d’automne\nMon chaudron magique\nFantôme « néon »\nFabrication d’une balle anti-stress thématique halloween\n\n 
URL:https://familleacoeur.qc.ca/evenement/demi-pedago-celebrons-larrivee-de-lautomne/
CATEGORIES:Activités
ATTACH;FMTTYPE=image/jpeg:https://familleacoeur.qc.ca/wp-content/uploads/2025/09/tree-1658934_1280.jpg
END:VEVENT
BEGIN:VEVENT
DTSTART;TZID=America/Toronto:20251011T100000
DTEND;TZID=America/Toronto:20251011T110000
DTSTAMP:20260419T211546
CREATED:20250903T133734Z
LAST-MODIFIED:20250903T133851Z
UID:10002128-1760176800-1760180400@familleacoeur.qc.ca
SUMMARY:Éveil à la lecture
DESCRIPTION:La lecture a plusieurs bienfaits sur le développement de l’enfant (langage\, créativité\, confiance en soi…) L’éveil à la lecture est une bonne façon de créer de précieux moments avec vos petits en se basant sur une lecture interactive et enrichie. Nous allons bouger\, faire participer les petits et les grands durant la lecture\, créer des personnages et tout un monde. À vos livres! Prêt? Partez !! \nL’atelier s’adresse aux parents avec leurs enfants de 0 à 24 mois.
URL:https://familleacoeur.qc.ca/evenement/eveil-a-la-lecture-2/2025-10-11/
CATEGORIES:Ateliers
ATTACH;FMTTYPE=image/jpeg:https://familleacoeur.qc.ca/wp-content/uploads/2025/05/pexels-rdne-6182277-scaled.jpg
END:VEVENT
BEGIN:VEVENT
DTSTART;TZID=America/Toronto:20251011T100000
DTEND;TZID=America/Toronto:20251011T110000
DTSTAMP:20260419T211546
CREATED:20251022T151045Z
LAST-MODIFIED:20251022T151045Z
UID:10002202-1760176800-1760180400@familleacoeur.qc.ca
SUMMARY:Éveil à la lecture
DESCRIPTION:La lecture a plusieurs bienfaits sur le développement de l’enfant (langage\, créativité\, confiance en soi…) L’éveil à la lecture est une bonne façon de créer de précieux moments avec vos petits en se basant sur une lecture interactive et enrichie. Nous allons bouger\, faire participer les petits et les grands durant la lecture\, créer des personnages et tout un monde. À vos livres! Prêt? Partez !! \nL’atelier s’adresse aux parents avec leurs enfants de 0 à 24 mois.
URL:https://familleacoeur.qc.ca/evenement/eveil-a-la-lecture-2-2/2025-10-11/
CATEGORIES:Ateliers
ATTACH;FMTTYPE=image/jpeg:https://familleacoeur.qc.ca/wp-content/uploads/2025/05/pexels-rdne-6182277-scaled.jpg
END:VEVENT
BEGIN:VEVENT
DTSTART;TZID=America/Toronto:20251012T093000
DTEND;TZID=America/Toronto:20251012T113000
DTSTAMP:20260419T211546
CREATED:20250813T172255Z
LAST-MODIFIED:20250820T154005Z
UID:10002093-1760261400-1760268600@familleacoeur.qc.ca
SUMMARY:Langagibou
DESCRIPTION:L’atelier LANGAGIBOU invite le parent et son enfant à travailler le développement du langage. \nLe but est d’acquérir des stratégies langagières selon une approche personnalisée. \nLa rencontre est d’une durée de 2 heures assistée par deux accompagnatrices et divisée en quelques modules : causerie\, parcours dirigé\, activité de groupe structuré (thématique)\, collation et jeux libre(enfants) + causette (parents)\, histoire et départ. \nNote : Une pré-inscription est requise pour participer à l’atelier \nCOÛT : 90$ pour la session (revient à 10$ l’atelier)
URL:https://familleacoeur.qc.ca/evenement/langagibou-3-2/2025-10-12/
CATEGORIES:Activités
ATTACH;FMTTYPE=image/jpeg:https://familleacoeur.qc.ca/wp-content/uploads/2024/02/pexels-mart-production-7414905-scaled-e1708617596238.jpg
END:VEVENT
BEGIN:VEVENT
DTSTART;TZID=America/Toronto:20251014T183000
DTEND;TZID=America/Toronto:20251014T203000
DTSTAMP:20260419T211546
CREATED:20250813T185709Z
LAST-MODIFIED:20250818T151526Z
UID:10002019-1760466600-1760473800@familleacoeur.qc.ca
SUMMARY:Préparation prénatale de groupe
DESCRIPTION:Préparation prénatale pour mieux se préparer à l’accouchement. \nPour connaître les prochaines dates de rencontres pour la session à venir\, consultez la page Facebook de Famille à Cœur ou notre calendrier.
URL:https://familleacoeur.qc.ca/evenement/preparation-prenatale-de-groupe-printemps-2-2-2/2025-10-14/
CATEGORIES:Services
ATTACH;FMTTYPE=image/jpeg:https://familleacoeur.qc.ca/wp-content/uploads/2021/08/rencontres-prenatales-1.jpg
END:VEVENT
BEGIN:VEVENT
DTSTART;TZID=America/Toronto:20251015T093000
DTEND;TZID=America/Toronto:20251015T113000
DTSTAMP:20260419T211546
CREATED:20250820T153220Z
LAST-MODIFIED:20250820T153751Z
UID:10002081-1760520600-1760527800@familleacoeur.qc.ca
SUMMARY:Café-jasette «Les Galipettes» pour parents et enfants de 2 à 5 ans
DESCRIPTION:Pour parents et enfants âgés de 2 à 5 ans. \nPour connaître les prochaines dates de rencontres pour la session à venir\, consultez la page Facebook de Famille à Cœur ou notre calendrier.
URL:https://familleacoeur.qc.ca/evenement/cafe-jasette-les-galipettes-pour-parents-et-enfants-de-2-a-5-ans-2-2-2-2/2025-10-15/
CATEGORIES:Activités
ATTACH;FMTTYPE=image/jpeg:https://familleacoeur.qc.ca/wp-content/uploads/2021/02/galipettes2.jpg
END:VEVENT
BEGIN:VEVENT
DTSTART;TZID=America/Toronto:20251015T180000
DTEND;TZID=America/Toronto:20251015T200000
DTSTAMP:20260419T211546
CREATED:20250820T152423Z
LAST-MODIFIED:20250825T143901Z
UID:10002022-1760551200-1760558400@familleacoeur.qc.ca
SUMMARY:Coéquipiers père-mère
DESCRIPTION:Cet atelier s’adresse à tous les parents qui désirent échanger sur l’importance de faire équipe pour leurs enfants\, ainsi que de prendre conscience de ce qu’ils vivent comme parents\, qu’ils soient en couple ou séparés\, dans le respect de la place de chacun.
URL:https://familleacoeur.qc.ca/evenement/coequipiers-pere-mere-2-2/2025-10-15/
CATEGORIES:Ateliers
ATTACH;FMTTYPE=image/jpeg:https://familleacoeur.qc.ca/wp-content/uploads/2021/01/apropos-titre.jpg
END:VEVENT
BEGIN:VEVENT
DTSTART;TZID=America/Toronto:20251016T093000
DTEND;TZID=America/Toronto:20251016T113000
DTSTAMP:20260419T211546
CREATED:20250813T185343Z
LAST-MODIFIED:20250813T185440Z
UID:10001996-1760607000-1760614200@familleacoeur.qc.ca
SUMMARY:Les p’tits matins bedons poupons
DESCRIPTION:Cette activité s’adresse aux parents d’enfants de 0 (grossesse) à 2 ans. Les p’tits matins bedons poupons se déroulent de 9 h 30 à 11 h 30 à tous les jeudis. Le but est de permettre à ces parents de rencontrer d’autres parents\, afin d’échanger et d’en apprendre sur des sujets en lien direct avec leur réalité commune\, accompagnés de leur poupon. À l’occasion nous avons des invités qui viennent discuter de différents sujets tels que la nutrition (DME)\, ostéopathie\, massothérapie pour bébé\, etc. \nGratuit pour les membres.
URL:https://familleacoeur.qc.ca/evenement/les-ptits-matins-bedons-poupons-ete-2-2-2-2/2025-10-16/
CATEGORIES:Activités,Services
ATTACH;FMTTYPE=image/jpeg:https://familleacoeur.qc.ca/wp-content/uploads/2021/02/bedons-poupons.jpg
END:VEVENT
BEGIN:VEVENT
DTSTART;TZID=America/Toronto:20251018T080000
DTEND;TZID=America/Toronto:20251018T170000
DTSTAMP:20260419T211546
CREATED:20250813T184248Z
LAST-MODIFIED:20250814T164012Z
UID:10001984-1760774400-1760806800@familleacoeur.qc.ca
SUMMARY:Groupe de soutien « L'Éveil en douceur »
DESCRIPTION:Ce groupe de soutien et de prévention de la dépression post-partum s’adresse aux mères qui vivent des difficultés émotionnelles et/ou une dépression post-partum. \nIl y aura aussi une rencontre en couple un samedi durant la session. \nGratuit pour les membres
URL:https://familleacoeur.qc.ca/evenement/groupe-de-soutien-leveil-en-douceur-2/2025-10-18/
CATEGORIES:Activités
ATTACH;FMTTYPE=image/jpeg:https://familleacoeur.qc.ca/wp-content/uploads/2025/03/hand-5961660_1280.jpg
END:VEVENT
BEGIN:VEVENT
DTSTART;TZID=America/Toronto:20251019T093000
DTEND;TZID=America/Toronto:20251019T113000
DTSTAMP:20260419T211546
CREATED:20250813T172255Z
LAST-MODIFIED:20250820T154005Z
UID:10002094-1760866200-1760873400@familleacoeur.qc.ca
SUMMARY:Langagibou
DESCRIPTION:L’atelier LANGAGIBOU invite le parent et son enfant à travailler le développement du langage. \nLe but est d’acquérir des stratégies langagières selon une approche personnalisée. \nLa rencontre est d’une durée de 2 heures assistée par deux accompagnatrices et divisée en quelques modules : causerie\, parcours dirigé\, activité de groupe structuré (thématique)\, collation et jeux libre(enfants) + causette (parents)\, histoire et départ. \nNote : Une pré-inscription est requise pour participer à l’atelier \nCOÛT : 90$ pour la session (revient à 10$ l’atelier)
URL:https://familleacoeur.qc.ca/evenement/langagibou-3-2/2025-10-19/
CATEGORIES:Activités
ATTACH;FMTTYPE=image/jpeg:https://familleacoeur.qc.ca/wp-content/uploads/2024/02/pexels-mart-production-7414905-scaled-e1708617596238.jpg
END:VEVENT
BEGIN:VEVENT
DTSTART;TZID=America/Toronto:20251020T093000
DTEND;TZID=America/Toronto:20251020T113000
DTSTAMP:20260419T211546
CREATED:20250813T184248Z
LAST-MODIFIED:20250814T164012Z
UID:10001985-1760952600-1760959800@familleacoeur.qc.ca
SUMMARY:Groupe de soutien « L'Éveil en douceur »
DESCRIPTION:Ce groupe de soutien et de prévention de la dépression post-partum s’adresse aux mères qui vivent des difficultés émotionnelles et/ou une dépression post-partum. \nIl y aura aussi une rencontre en couple un samedi durant la session. \nGratuit pour les membres
URL:https://familleacoeur.qc.ca/evenement/groupe-de-soutien-leveil-en-douceur-2/2025-10-20/
CATEGORIES:Activités
ATTACH;FMTTYPE=image/jpeg:https://familleacoeur.qc.ca/wp-content/uploads/2025/03/hand-5961660_1280.jpg
END:VEVENT
BEGIN:VEVENT
DTSTART;TZID=America/Toronto:20251021T183000
DTEND;TZID=America/Toronto:20251021T203000
DTSTAMP:20260419T211546
CREATED:20250813T185709Z
LAST-MODIFIED:20250818T151526Z
UID:10002020-1761071400-1761078600@familleacoeur.qc.ca
SUMMARY:Préparation prénatale de groupe
DESCRIPTION:Préparation prénatale pour mieux se préparer à l’accouchement. \nPour connaître les prochaines dates de rencontres pour la session à venir\, consultez la page Facebook de Famille à Cœur ou notre calendrier.
URL:https://familleacoeur.qc.ca/evenement/preparation-prenatale-de-groupe-printemps-2-2-2/2025-10-21/
CATEGORIES:Services
ATTACH;FMTTYPE=image/jpeg:https://familleacoeur.qc.ca/wp-content/uploads/2021/08/rencontres-prenatales-1.jpg
END:VEVENT
BEGIN:VEVENT
DTSTART;TZID=America/Toronto:20251022T093000
DTEND;TZID=America/Toronto:20251022T113000
DTSTAMP:20260419T211546
CREATED:20250820T153220Z
LAST-MODIFIED:20250820T153751Z
UID:10002082-1761125400-1761132600@familleacoeur.qc.ca
SUMMARY:Café-jasette «Les Galipettes» pour parents et enfants de 2 à 5 ans
DESCRIPTION:Pour parents et enfants âgés de 2 à 5 ans. \nPour connaître les prochaines dates de rencontres pour la session à venir\, consultez la page Facebook de Famille à Cœur ou notre calendrier.
URL:https://familleacoeur.qc.ca/evenement/cafe-jasette-les-galipettes-pour-parents-et-enfants-de-2-a-5-ans-2-2-2-2/2025-10-22/
CATEGORIES:Activités
ATTACH;FMTTYPE=image/jpeg:https://familleacoeur.qc.ca/wp-content/uploads/2021/02/galipettes2.jpg
END:VEVENT
BEGIN:VEVENT
DTSTART;TZID=America/Toronto:20251022T180000
DTEND;TZID=America/Toronto:20251022T200000
DTSTAMP:20260419T211546
CREATED:20250820T152423Z
LAST-MODIFIED:20250825T143901Z
UID:10002023-1761156000-1761163200@familleacoeur.qc.ca
SUMMARY:Coéquipiers père-mère
DESCRIPTION:Cet atelier s’adresse à tous les parents qui désirent échanger sur l’importance de faire équipe pour leurs enfants\, ainsi que de prendre conscience de ce qu’ils vivent comme parents\, qu’ils soient en couple ou séparés\, dans le respect de la place de chacun.
URL:https://familleacoeur.qc.ca/evenement/coequipiers-pere-mere-2-2/2025-10-22/
CATEGORIES:Ateliers
ATTACH;FMTTYPE=image/jpeg:https://familleacoeur.qc.ca/wp-content/uploads/2021/01/apropos-titre.jpg
END:VEVENT
BEGIN:VEVENT
DTSTART;TZID=America/Toronto:20251023T093000
DTEND;TZID=America/Toronto:20251023T113000
DTSTAMP:20260419T211546
CREATED:20250813T185343Z
LAST-MODIFIED:20250813T185440Z
UID:10001997-1761211800-1761219000@familleacoeur.qc.ca
SUMMARY:Les p’tits matins bedons poupons
DESCRIPTION:Cette activité s’adresse aux parents d’enfants de 0 (grossesse) à 2 ans. Les p’tits matins bedons poupons se déroulent de 9 h 30 à 11 h 30 à tous les jeudis. Le but est de permettre à ces parents de rencontrer d’autres parents\, afin d’échanger et d’en apprendre sur des sujets en lien direct avec leur réalité commune\, accompagnés de leur poupon. À l’occasion nous avons des invités qui viennent discuter de différents sujets tels que la nutrition (DME)\, ostéopathie\, massothérapie pour bébé\, etc. \nGratuit pour les membres.
URL:https://familleacoeur.qc.ca/evenement/les-ptits-matins-bedons-poupons-ete-2-2-2-2/2025-10-23/
CATEGORIES:Activités,Services
ATTACH;FMTTYPE=image/jpeg:https://familleacoeur.qc.ca/wp-content/uploads/2021/02/bedons-poupons.jpg
END:VEVENT
BEGIN:VEVENT
DTSTART;VALUE=DATE:20251025
DTEND;VALUE=DATE:20251026
DTSTAMP:20260419T211546
CREATED:20251014T181049Z
LAST-MODIFIED:20251014T182325Z
UID:10002197-1761350400-1761436799@familleacoeur.qc.ca
SUMMARY:Souper spaghetti
DESCRIPTION:Une belle soirée gourmande et rassembleuse vous attend ! Venez partager un délicieux souper-spaghetti au profit de Famille à Cœur .DATE Le samedi 25 octobre dès 17 hLIEU : Salle des Chevaliers de Colomb – 336\, 6e Avenue\, St-Jean-sur-RichelieuBILLETS à Famille à Cœur et à la porte le soir de l’événement.Tarifs :– Adultes : 15 $– 6 à 12 ans : 8 $– 0 à 5 ans : gratuit \nInformations : 450 346-1734
URL:https://familleacoeur.qc.ca/evenement/souper-spaghetti/
CATEGORIES:Activités
ATTACH;FMTTYPE=image/png:https://familleacoeur.qc.ca/wp-content/uploads/2025/10/Souper_Spag_AFFICHE_25oct2025_OKTam_OK_MHD.png
END:VEVENT
BEGIN:VEVENT
DTSTART;TZID=America/Toronto:20251025T100000
DTEND;TZID=America/Toronto:20251025T110000
DTSTAMP:20260419T211546
CREATED:20251022T151045Z
LAST-MODIFIED:20251022T151045Z
UID:10002203-1761386400-1761390000@familleacoeur.qc.ca
SUMMARY:Éveil à la lecture
DESCRIPTION:La lecture a plusieurs bienfaits sur le développement de l’enfant (langage\, créativité\, confiance en soi…) L’éveil à la lecture est une bonne façon de créer de précieux moments avec vos petits en se basant sur une lecture interactive et enrichie. Nous allons bouger\, faire participer les petits et les grands durant la lecture\, créer des personnages et tout un monde. À vos livres! Prêt? Partez !! \nL’atelier s’adresse aux parents avec leurs enfants de 0 à 24 mois.
URL:https://familleacoeur.qc.ca/evenement/eveil-a-la-lecture-2-2/2025-10-25/
CATEGORIES:Ateliers
ATTACH;FMTTYPE=image/jpeg:https://familleacoeur.qc.ca/wp-content/uploads/2025/05/pexels-rdne-6182277-scaled.jpg
END:VEVENT
BEGIN:VEVENT
DTSTART;TZID=America/Toronto:20251026T093000
DTEND;TZID=America/Toronto:20251026T113000
DTSTAMP:20260419T211546
CREATED:20250813T172255Z
LAST-MODIFIED:20250820T154005Z
UID:10002095-1761471000-1761478200@familleacoeur.qc.ca
SUMMARY:Langagibou
DESCRIPTION:L’atelier LANGAGIBOU invite le parent et son enfant à travailler le développement du langage. \nLe but est d’acquérir des stratégies langagières selon une approche personnalisée. \nLa rencontre est d’une durée de 2 heures assistée par deux accompagnatrices et divisée en quelques modules : causerie\, parcours dirigé\, activité de groupe structuré (thématique)\, collation et jeux libre(enfants) + causette (parents)\, histoire et départ. \nNote : Une pré-inscription est requise pour participer à l’atelier \nCOÛT : 90$ pour la session (revient à 10$ l’atelier)
URL:https://familleacoeur.qc.ca/evenement/langagibou-3-2/2025-10-26/
CATEGORIES:Activités
ATTACH;FMTTYPE=image/jpeg:https://familleacoeur.qc.ca/wp-content/uploads/2024/02/pexels-mart-production-7414905-scaled-e1708617596238.jpg
END:VEVENT
BEGIN:VEVENT
DTSTART;TZID=America/Toronto:20251029T093000
DTEND;TZID=America/Toronto:20251029T113000
DTSTAMP:20260419T211546
CREATED:20250820T153220Z
LAST-MODIFIED:20250820T153751Z
UID:10002083-1761730200-1761737400@familleacoeur.qc.ca
SUMMARY:Café-jasette «Les Galipettes» pour parents et enfants de 2 à 5 ans
DESCRIPTION:Pour parents et enfants âgés de 2 à 5 ans. \nPour connaître les prochaines dates de rencontres pour la session à venir\, consultez la page Facebook de Famille à Cœur ou notre calendrier.
URL:https://familleacoeur.qc.ca/evenement/cafe-jasette-les-galipettes-pour-parents-et-enfants-de-2-a-5-ans-2-2-2-2/2025-10-29/
CATEGORIES:Activités
ATTACH;FMTTYPE=image/jpeg:https://familleacoeur.qc.ca/wp-content/uploads/2021/02/galipettes2.jpg
END:VEVENT
BEGIN:VEVENT
DTSTART;TZID=America/Toronto:20251030T093000
DTEND;TZID=America/Toronto:20251030T113000
DTSTAMP:20260419T211546
CREATED:20250813T185343Z
LAST-MODIFIED:20250813T185440Z
UID:10001998-1761816600-1761823800@familleacoeur.qc.ca
SUMMARY:Les p’tits matins bedons poupons
DESCRIPTION:Cette activité s’adresse aux parents d’enfants de 0 (grossesse) à 2 ans. Les p’tits matins bedons poupons se déroulent de 9 h 30 à 11 h 30 à tous les jeudis. Le but est de permettre à ces parents de rencontrer d’autres parents\, afin d’échanger et d’en apprendre sur des sujets en lien direct avec leur réalité commune\, accompagnés de leur poupon. À l’occasion nous avons des invités qui viennent discuter de différents sujets tels que la nutrition (DME)\, ostéopathie\, massothérapie pour bébé\, etc. \nGratuit pour les membres.
URL:https://familleacoeur.qc.ca/evenement/les-ptits-matins-bedons-poupons-ete-2-2-2-2/2025-10-30/
CATEGORIES:Activités,Services
ATTACH;FMTTYPE=image/jpeg:https://familleacoeur.qc.ca/wp-content/uploads/2021/02/bedons-poupons.jpg
END:VEVENT
END:VCALENDAR