BEGIN:VCALENDAR
VERSION:2.0
PRODID:-//Famille à Coeur - ECPv6.2.2//NONSGML v1.0//EN
CALSCALE:GREGORIAN
METHOD:PUBLISH
X-WR-CALNAME:Famille à Coeur
X-ORIGINAL-URL:https://familleacoeur.qc.ca
X-WR-CALDESC:évènements pour Famille à Coeur
REFRESH-INTERVAL;VALUE=DURATION:PT1H
X-Robots-Tag:noindex
X-PUBLISHED-TTL:PT1H
BEGIN:VTIMEZONE
TZID:America/Toronto
BEGIN:DAYLIGHT
TZOFFSETFROM:-0500
TZOFFSETTO:-0400
TZNAME:EDT
DTSTART:20260308T070000
END:DAYLIGHT
BEGIN:STANDARD
TZOFFSETFROM:-0400
TZOFFSETTO:-0500
TZNAME:EST
DTSTART:20261101T060000
END:STANDARD
END:VTIMEZONE
BEGIN:VEVENT
DTSTART;TZID=America/Toronto:20260415T093000
DTEND;TZID=America/Toronto:20260415T113000
DTSTAMP:20260419T132645
CREATED:20251110T192342Z
LAST-MODIFIED:20260204T162930Z
UID:10002529-1776245400-1776252600@familleacoeur.qc.ca
SUMMARY:Café-jasette «Les Galipettes» pour parents et enfants de 2 à 5 ans
DESCRIPTION:Pour parents et enfants âgés de 2 à 5 ans. \nPour connaître les prochaines dates de rencontres pour la session à venir\, consultez la page Facebook de Famille à Cœur ou notre calendrier.
URL:https://familleacoeur.qc.ca/evenement/cafe-jasette-les-galipettes-pour-parents-et-enfants-de-2-a-5-ans/2026-04-15/
CATEGORIES:Activités
ATTACH;FMTTYPE=image/jpeg:https://familleacoeur.qc.ca/wp-content/uploads/2021/02/galipettes2.jpg
END:VEVENT
BEGIN:VEVENT
DTSTART;TZID=America/Toronto:20260414T090000
DTEND;TZID=America/Toronto:20260414T120000
DTSTAMP:20260419T132645
CREATED:20251110T192848Z
LAST-MODIFIED:20260204T163153Z
UID:10002541-1776157200-1776168000@familleacoeur.qc.ca
SUMMARY:Les mères... Entre-Nous !
DESCRIPTION:l’« Entre-Nous » est un local mis à la disposition des mères qui désirent rencontrer d’autres mères… \nC’est GRATUIT et sans inscription.
URL:https://familleacoeur.qc.ca/evenement/les-meres-entre-nous-le-matin-2-2-3/2026-04-14/
CATEGORIES:Services
ATTACH;FMTTYPE=image/jpeg:https://familleacoeur.qc.ca/wp-content/uploads/2023/08/Bedons_12mai2022_007.jpg
END:VEVENT
BEGIN:VEVENT
DTSTART;TZID=America/Toronto:20260413T093000
DTEND;TZID=America/Toronto:20260413T113000
DTSTAMP:20260419T132645
CREATED:20260408T181753Z
LAST-MODIFIED:20260408T181911Z
UID:10002584-1776072600-1776079800@familleacoeur.qc.ca
SUMMARY:Espace nourrisson
DESCRIPTION:Grâce à cet espace\, les parents d’enfants de 0 à 6 mois peuvent venir rencontrer une intervenante périnatale pour du soutien et pour poser leurs questions. \nBienvenue !
URL:https://familleacoeur.qc.ca/evenement/espace-nourrisson-2/2026-04-13/
CATEGORIES:Activités,Services
ATTACH;FMTTYPE=image/jpeg:https://familleacoeur.qc.ca/wp-content/uploads/2026/01/pexels-polina-tankilevitch-3875280-scaled-e1768588875268.jpg
END:VEVENT
BEGIN:VEVENT
DTSTART;TZID=America/Toronto:20260413T090000
DTEND;TZID=America/Toronto:20260413T113000
DTSTAMP:20260419T132645
CREATED:20260204T165336Z
LAST-MODIFIED:20260204T165455Z
UID:10001986-1776070800-1776079800@familleacoeur.qc.ca
SUMMARY:Groupe de soutien « L'Éveil en douceur »
DESCRIPTION:Ce groupe de soutien et de prévention de la dépression post-partum s’adresse aux mères qui vivent des difficultés émotionnelles et/ou une dépression post-partum. \nIl y aura aussi une rencontre en couple un samedi durant la session. \nGratuit pour les membres
URL:https://familleacoeur.qc.ca/evenement/groupe-de-soutien-leveil-en-douceur-2-3/2026-04-13/
CATEGORIES:Activités
ATTACH;FMTTYPE=image/jpeg:https://familleacoeur.qc.ca/wp-content/uploads/2025/03/hand-5961660_1280.jpg
END:VEVENT
BEGIN:VEVENT
DTSTART;TZID=America/Toronto:20260411T100000
DTEND;TZID=America/Toronto:20260411T113000
DTSTAMP:20260419T132645
CREATED:20250919T135528Z
LAST-MODIFIED:20260123T194419Z
UID:10002191-1775901600-1775907000@familleacoeur.qc.ca
SUMMARY:Atelier-conférence «Étouffement et RCR bébé et enfant 0-12 ans»
DESCRIPTION:Cet atelier s’adresse aux personnes qui désirent en savoir davantage sur les techniques de soins d’urgence pour des jeunes enfants de 0 à 12 ans. \nCoût de 40.00$/personne* \nUn service de garde est offert gratuitement aux participants\, sur réservation. \n*Si le coût est un frein à votre participation\, svp veuillez communiquer avec nous pour en discuter. Ensemble\, nous trouverons une solution.
URL:https://familleacoeur.qc.ca/evenement/atelier-conference-etouffement-et-rcr-bebe-et-enfant-0-12-ans-3/
CATEGORIES:Ateliers
ATTACH;FMTTYPE=image/jpeg:https://familleacoeur.qc.ca/wp-content/uploads/2021/02/rcr-bebe-enfants1.jpg
END:VEVENT
BEGIN:VEVENT
DTSTART;TZID=America/Toronto:20260408T093000
DTEND;TZID=America/Toronto:20260408T113000
DTSTAMP:20260419T132645
CREATED:20260408T154617Z
LAST-MODIFIED:20260408T154640Z
UID:10002598-1775640600-1775647800@familleacoeur.qc.ca
SUMMARY:Parents sécurisants - café-rencontre
DESCRIPTION:Ces rencontres parentales servent à discuter de notre vision de la parentalité\, selon différents thèmes chaque semaine. \nElles s’adressent aux femmes enceintes\, aux pères et aux parents d’enfants âgés de 0 à 2 ans. \nLes mercredis de 9h30 à 11h30 \nGRATUIT
URL:https://familleacoeur.qc.ca/evenement/parents-securisants-cafe-rencontre-3-2/2026-04-08/
CATEGORIES:Activités,Services
ATTACH;FMTTYPE=image/jpeg:https://familleacoeur.qc.ca/wp-content/uploads/2026/01/pexels-yankrukov-7155106-scaled-e1768589536665.jpg
END:VEVENT
BEGIN:VEVENT
DTSTART;TZID=America/Toronto:20260408T093000
DTEND;TZID=America/Toronto:20260408T113000
DTSTAMP:20260419T132645
CREATED:20260408T154151Z
LAST-MODIFIED:20260408T154449Z
UID:10002590-1775640600-1775647800@familleacoeur.qc.ca
SUMMARY:Parents sécurisants - café-rencontre
DESCRIPTION:Ces rencontres parentales servent à discuter de notre vision de la parentalité\, selon différents thèmes chaque semaine. \nElles s’adressent aux femmes enceintes\, aux pères et aux parents d’enfants âgés de 0 à 2 ans. \nLes mercredis de 9h30 à 11h30 \nGRATUIT
URL:https://familleacoeur.qc.ca/evenement/parents-securisants-cafe-rencontre-3/
CATEGORIES:Activités,Services
ATTACH;FMTTYPE=image/jpeg:https://familleacoeur.qc.ca/wp-content/uploads/2026/01/pexels-yankrukov-7155106-scaled-e1768589536665.jpg
END:VEVENT
BEGIN:VEVENT
DTSTART;TZID=America/Toronto:20260408T093000
DTEND;TZID=America/Toronto:20260408T113000
DTSTAMP:20260419T132645
CREATED:20251110T192342Z
LAST-MODIFIED:20260204T162930Z
UID:10002528-1775640600-1775647800@familleacoeur.qc.ca
SUMMARY:Café-jasette «Les Galipettes» pour parents et enfants de 2 à 5 ans
DESCRIPTION:Pour parents et enfants âgés de 2 à 5 ans. \nPour connaître les prochaines dates de rencontres pour la session à venir\, consultez la page Facebook de Famille à Cœur ou notre calendrier.
URL:https://familleacoeur.qc.ca/evenement/cafe-jasette-les-galipettes-pour-parents-et-enfants-de-2-a-5-ans/2026-04-08/
CATEGORIES:Activités
ATTACH;FMTTYPE=image/jpeg:https://familleacoeur.qc.ca/wp-content/uploads/2021/02/galipettes2.jpg
END:VEVENT
BEGIN:VEVENT
DTSTART;TZID=America/Toronto:20260407T090000
DTEND;TZID=America/Toronto:20260407T120000
DTSTAMP:20260419T132645
CREATED:20251110T192848Z
LAST-MODIFIED:20260204T163153Z
UID:10002540-1775552400-1775563200@familleacoeur.qc.ca
SUMMARY:Les mères... Entre-Nous !
DESCRIPTION:l’« Entre-Nous » est un local mis à la disposition des mères qui désirent rencontrer d’autres mères… \nC’est GRATUIT et sans inscription.
URL:https://familleacoeur.qc.ca/evenement/les-meres-entre-nous-le-matin-2-2-3/2026-04-07/
CATEGORIES:Services
ATTACH;FMTTYPE=image/jpeg:https://familleacoeur.qc.ca/wp-content/uploads/2023/08/Bedons_12mai2022_007.jpg
END:VEVENT
BEGIN:VEVENT
DTSTART;TZID=America/Toronto:20260403T093000
DTEND;TZID=America/Toronto:20260403T113000
DTSTAMP:20260419T132645
CREATED:20241114T161909Z
LAST-MODIFIED:20260128T153315Z
UID:10002520-1775208600-1775215800@familleacoeur.qc.ca
SUMMARY:Langagibou
DESCRIPTION:L’atelier LANGAGIBOU invite le parent et son enfant à travailler le développement du langage. \nLe but est d’acquérir des stratégies langagières selon une approche personnalisée. \nLa rencontre est d’une durée de 2 heures assistée par deux accompagnatrices et divisée en quelques modules : causerie\, parcours dirigé\, activité de groupe structuré (thématique)\, collation et jeux libre(enfants) + causette (parents)\, histoire et départ. \nNote : Une pré-inscription est requise pour participer à l’atelier \nCOÛT : 90$ pour la session (revient à 10$ l’atelier)
URL:https://familleacoeur.qc.ca/evenement/langagibou-3/2026-04-03/
CATEGORIES:Activités
ATTACH;FMTTYPE=image/jpeg:https://familleacoeur.qc.ca/wp-content/uploads/2024/02/pexels-mart-production-7414905-scaled-e1708617596238.jpg
END:VEVENT
BEGIN:VEVENT
DTSTART;TZID=America/Toronto:20260402T090000
DTEND;TZID=America/Toronto:20260402T120000
DTSTAMP:20260419T132645
CREATED:20260204T193333Z
LAST-MODIFIED:20260204T194213Z
UID:10002568-1775120400-1775131200@familleacoeur.qc.ca
SUMMARY:Demi-pédago « Création mini jardin fée/gnome »
DESCRIPTION:Création d’un petit habitat pour gnome ou fée ! \nPeinture à pois fée\, gnome\, dragon\, licorne ou papillon. \n\nLes enfants doivent obligatoirement apporter une mini plante (succulente ou plante araignée)\nLes enfants peuvent apporter du matériel À partager pour décorer leur habitat (ex : roche\, diamant\, branches\, etc.)\n\n 
URL:https://familleacoeur.qc.ca/evenement/demi-pedago-creation-mini-jardin-fee-gnome/
CATEGORIES:Activités
ATTACH;FMTTYPE=image/png:https://familleacoeur.qc.ca/wp-content/uploads/2026/02/moonflower5-ai-generated-8757278_1280.png
END:VEVENT
BEGIN:VEVENT
DTSTART;TZID=America/Toronto:20260402T084500
DTEND;TZID=America/Toronto:20260402T113000
DTSTAMP:20260419T132645
CREATED:20260113T195752Z
LAST-MODIFIED:20260113T200401Z
UID:10002490-1775119500-1775129400@familleacoeur.qc.ca
SUMMARY:Groupe de soutien « L'Éveil en douceur »
DESCRIPTION:Ce groupe de soutien et de prévention de la dépression post-partum s’adresse aux mères qui vivent des difficultés émotionnelles et/ou une dépression post-partum. \nIl y aura aussi une rencontre en couple un samedi durant la session. \nGratuit pour les membres
URL:https://familleacoeur.qc.ca/evenement/groupe-de-soutien-leveil-en-douceur-3/2026-04-02/
CATEGORIES:Activités
ATTACH;FMTTYPE=image/jpeg:https://familleacoeur.qc.ca/wp-content/uploads/2025/03/hand-5961660_1280.jpg
END:VEVENT
BEGIN:VEVENT
DTSTART;TZID=America/Toronto:20260401T093000
DTEND;TZID=America/Toronto:20260401T113000
DTSTAMP:20260419T132645
CREATED:20251110T192342Z
LAST-MODIFIED:20260204T162930Z
UID:10002527-1775035800-1775043000@familleacoeur.qc.ca
SUMMARY:Café-jasette «Les Galipettes» pour parents et enfants de 2 à 5 ans
DESCRIPTION:Pour parents et enfants âgés de 2 à 5 ans. \nPour connaître les prochaines dates de rencontres pour la session à venir\, consultez la page Facebook de Famille à Cœur ou notre calendrier.
URL:https://familleacoeur.qc.ca/evenement/cafe-jasette-les-galipettes-pour-parents-et-enfants-de-2-a-5-ans/2026-04-01/
CATEGORIES:Activités
ATTACH;FMTTYPE=image/jpeg:https://familleacoeur.qc.ca/wp-content/uploads/2021/02/galipettes2.jpg
END:VEVENT
BEGIN:VEVENT
DTSTART;TZID=America/Toronto:20260331T090000
DTEND;TZID=America/Toronto:20260331T120000
DTSTAMP:20260419T132645
CREATED:20251110T192848Z
LAST-MODIFIED:20260204T163153Z
UID:10002539-1774947600-1774958400@familleacoeur.qc.ca
SUMMARY:Les mères... Entre-Nous !
DESCRIPTION:l’« Entre-Nous » est un local mis à la disposition des mères qui désirent rencontrer d’autres mères… \nC’est GRATUIT et sans inscription.
URL:https://familleacoeur.qc.ca/evenement/les-meres-entre-nous-le-matin-2-2-3/2026-03-31/
CATEGORIES:Services
ATTACH;FMTTYPE=image/jpeg:https://familleacoeur.qc.ca/wp-content/uploads/2023/08/Bedons_12mai2022_007.jpg
END:VEVENT
BEGIN:VEVENT
DTSTART;TZID=America/Toronto:20260330T093000
DTEND;TZID=America/Toronto:20260330T113000
DTSTAMP:20260419T132645
CREATED:20241114T161909Z
LAST-MODIFIED:20260128T153315Z
UID:10002519-1774863000-1774870200@familleacoeur.qc.ca
SUMMARY:Langagibou
DESCRIPTION:L’atelier LANGAGIBOU invite le parent et son enfant à travailler le développement du langage. \nLe but est d’acquérir des stratégies langagières selon une approche personnalisée. \nLa rencontre est d’une durée de 2 heures assistée par deux accompagnatrices et divisée en quelques modules : causerie\, parcours dirigé\, activité de groupe structuré (thématique)\, collation et jeux libre(enfants) + causette (parents)\, histoire et départ. \nNote : Une pré-inscription est requise pour participer à l’atelier \nCOÛT : 90$ pour la session (revient à 10$ l’atelier)
URL:https://familleacoeur.qc.ca/evenement/langagibou-3/2026-03-30/
CATEGORIES:Activités
ATTACH;FMTTYPE=image/jpeg:https://familleacoeur.qc.ca/wp-content/uploads/2024/02/pexels-mart-production-7414905-scaled-e1708617596238.jpg
END:VEVENT
BEGIN:VEVENT
DTSTART;TZID=America/Toronto:20260330T090000
DTEND;TZID=America/Toronto:20260330T113000
DTSTAMP:20260419T132645
CREATED:20251110T193737Z
LAST-MODIFIED:20260105T154547Z
UID:10002448-1774861200-1774870200@familleacoeur.qc.ca
SUMMARY:Groupe de soutien « L'Éveil en douceur »
DESCRIPTION:Ce groupe de soutien et de prévention de la dépression post-partum s’adresse aux mères qui vivent des difficultés émotionnelles et/ou une dépression post-partum. \nIl y aura aussi une rencontre en couple un samedi durant la session. \nGratuit pour les membres
URL:https://familleacoeur.qc.ca/evenement/groupe-de-soutien-leveil-en-douceur-2-2/2026-03-30/
CATEGORIES:Activités
ATTACH;FMTTYPE=image/jpeg:https://familleacoeur.qc.ca/wp-content/uploads/2025/03/hand-5961660_1280.jpg
END:VEVENT
BEGIN:VEVENT
DTSTART;TZID=America/Toronto:20260327T093000
DTEND;TZID=America/Toronto:20260327T113000
DTSTAMP:20260419T132645
CREATED:20241114T161909Z
LAST-MODIFIED:20260128T153315Z
UID:10002257-1774603800-1774611000@familleacoeur.qc.ca
SUMMARY:Langagibou
DESCRIPTION:L’atelier LANGAGIBOU invite le parent et son enfant à travailler le développement du langage. \nLe but est d’acquérir des stratégies langagières selon une approche personnalisée. \nLa rencontre est d’une durée de 2 heures assistée par deux accompagnatrices et divisée en quelques modules : causerie\, parcours dirigé\, activité de groupe structuré (thématique)\, collation et jeux libre(enfants) + causette (parents)\, histoire et départ. \nNote : Une pré-inscription est requise pour participer à l’atelier \nCOÛT : 90$ pour la session (revient à 10$ l’atelier)
URL:https://familleacoeur.qc.ca/evenement/langagibou-3/2026-03-27/
CATEGORIES:Activités
ATTACH;FMTTYPE=image/jpeg:https://familleacoeur.qc.ca/wp-content/uploads/2024/02/pexels-mart-production-7414905-scaled-e1708617596238.jpg
END:VEVENT
BEGIN:VEVENT
DTSTART;TZID=America/Toronto:20260326T173000
DTEND;TZID=America/Toronto:20260326T200000
DTSTAMP:20260419T132645
CREATED:20250903T193619Z
LAST-MODIFIED:20260224T134935Z
UID:10002184-1774546200-1774555200@familleacoeur.qc.ca
SUMMARY:PAUSE-MAMAN Café-rencontre du soir
DESCRIPTION:Il s’agit d’un moment rien que pour les mamans ! \nDe 17h30 à 20h\, venez décrocher du quotidien autour d’un café-rencontre chaleureux. Cet espace est pensé pour ventiler\, rire\, partager vos réalités et vous soutenir entre femmes qui comprennent ce que vous vivez. \nAu fil des soirées\, différents thèmes de discussion seront proposés\, mais surtout : place à la détente\, aux échanges authentiques et à une vraie pause bien méritée dans votre semaine.
URL:https://familleacoeur.qc.ca/evenement/pause-maman-cafe-rencontre-du-soir/
CATEGORIES:Activités
ATTACH;FMTTYPE=image/jpeg:https://familleacoeur.qc.ca/wp-content/uploads/2025/09/pexels-benjaminbellamy-13231655-scaled.jpg
END:VEVENT
BEGIN:VEVENT
DTSTART;TZID=America/Toronto:20260326T084500
DTEND;TZID=America/Toronto:20260326T113000
DTSTAMP:20260419T132645
CREATED:20260113T195752Z
LAST-MODIFIED:20260113T200401Z
UID:10002489-1774514700-1774524600@familleacoeur.qc.ca
SUMMARY:Groupe de soutien « L'Éveil en douceur »
DESCRIPTION:Ce groupe de soutien et de prévention de la dépression post-partum s’adresse aux mères qui vivent des difficultés émotionnelles et/ou une dépression post-partum. \nIl y aura aussi une rencontre en couple un samedi durant la session. \nGratuit pour les membres
URL:https://familleacoeur.qc.ca/evenement/groupe-de-soutien-leveil-en-douceur-3/2026-03-26/
CATEGORIES:Activités
ATTACH;FMTTYPE=image/jpeg:https://familleacoeur.qc.ca/wp-content/uploads/2025/03/hand-5961660_1280.jpg
END:VEVENT
BEGIN:VEVENT
DTSTART;TZID=America/Toronto:20260325T093000
DTEND;TZID=America/Toronto:20260325T113000
DTSTAMP:20260419T132645
CREATED:20251110T192342Z
LAST-MODIFIED:20260204T162930Z
UID:10002239-1774431000-1774438200@familleacoeur.qc.ca
SUMMARY:Café-jasette «Les Galipettes» pour parents et enfants de 2 à 5 ans
DESCRIPTION:Pour parents et enfants âgés de 2 à 5 ans. \nPour connaître les prochaines dates de rencontres pour la session à venir\, consultez la page Facebook de Famille à Cœur ou notre calendrier.
URL:https://familleacoeur.qc.ca/evenement/cafe-jasette-les-galipettes-pour-parents-et-enfants-de-2-a-5-ans/2026-03-25/
CATEGORIES:Activités
ATTACH;FMTTYPE=image/jpeg:https://familleacoeur.qc.ca/wp-content/uploads/2021/02/galipettes2.jpg
END:VEVENT
BEGIN:VEVENT
DTSTART;TZID=America/Toronto:20260324T090000
DTEND;TZID=America/Toronto:20260324T120000
DTSTAMP:20260419T132645
CREATED:20251110T192848Z
LAST-MODIFIED:20260204T163153Z
UID:10002436-1774342800-1774353600@familleacoeur.qc.ca
SUMMARY:Les mères... Entre-Nous !
DESCRIPTION:l’« Entre-Nous » est un local mis à la disposition des mères qui désirent rencontrer d’autres mères… \nC’est GRATUIT et sans inscription.
URL:https://familleacoeur.qc.ca/evenement/les-meres-entre-nous-le-matin-2-2-3/2026-03-24/
CATEGORIES:Services
ATTACH;FMTTYPE=image/jpeg:https://familleacoeur.qc.ca/wp-content/uploads/2023/08/Bedons_12mai2022_007.jpg
END:VEVENT
BEGIN:VEVENT
DTSTART;TZID=America/Toronto:20260323T093000
DTEND;TZID=America/Toronto:20260323T113000
DTSTAMP:20260419T132645
CREATED:20260209T194319Z
LAST-MODIFIED:20260209T194529Z
UID:10002583-1774258200-1774265400@familleacoeur.qc.ca
SUMMARY:Espace nourrisson
DESCRIPTION:Grâce à cet espace\, les parents d’enfants de 0 à 6 mois peuvent venir rencontrer une intervenante périnatale pour du soutien et pour poser leurs questions. \nBienvenue !
URL:https://familleacoeur.qc.ca/evenement/espace-nourrisson/2026-03-23/
CATEGORIES:Activités,Services
ATTACH;FMTTYPE=image/jpeg:https://familleacoeur.qc.ca/wp-content/uploads/2026/01/pexels-polina-tankilevitch-3875280-scaled-e1768588875268.jpg
END:VEVENT
BEGIN:VEVENT
DTSTART;TZID=America/Toronto:20260323T093000
DTEND;TZID=America/Toronto:20260323T113000
DTSTAMP:20260419T132645
CREATED:20241114T161909Z
LAST-MODIFIED:20260128T153315Z
UID:10002256-1774258200-1774265400@familleacoeur.qc.ca
SUMMARY:Langagibou
DESCRIPTION:L’atelier LANGAGIBOU invite le parent et son enfant à travailler le développement du langage. \nLe but est d’acquérir des stratégies langagières selon une approche personnalisée. \nLa rencontre est d’une durée de 2 heures assistée par deux accompagnatrices et divisée en quelques modules : causerie\, parcours dirigé\, activité de groupe structuré (thématique)\, collation et jeux libre(enfants) + causette (parents)\, histoire et départ. \nNote : Une pré-inscription est requise pour participer à l’atelier \nCOÛT : 90$ pour la session (revient à 10$ l’atelier)
URL:https://familleacoeur.qc.ca/evenement/langagibou-3/2026-03-23/
CATEGORIES:Activités
ATTACH;FMTTYPE=image/jpeg:https://familleacoeur.qc.ca/wp-content/uploads/2024/02/pexels-mart-production-7414905-scaled-e1708617596238.jpg
END:VEVENT
BEGIN:VEVENT
DTSTART;TZID=America/Toronto:20260323T090000
DTEND;TZID=America/Toronto:20260323T113000
DTSTAMP:20260419T132645
CREATED:20251110T193737Z
LAST-MODIFIED:20260105T154547Z
UID:10002447-1774256400-1774265400@familleacoeur.qc.ca
SUMMARY:Groupe de soutien « L'Éveil en douceur »
DESCRIPTION:Ce groupe de soutien et de prévention de la dépression post-partum s’adresse aux mères qui vivent des difficultés émotionnelles et/ou une dépression post-partum. \nIl y aura aussi une rencontre en couple un samedi durant la session. \nGratuit pour les membres
URL:https://familleacoeur.qc.ca/evenement/groupe-de-soutien-leveil-en-douceur-2-2/2026-03-23/
CATEGORIES:Activités
ATTACH;FMTTYPE=image/jpeg:https://familleacoeur.qc.ca/wp-content/uploads/2025/03/hand-5961660_1280.jpg
END:VEVENT
BEGIN:VEVENT
DTSTART;TZID=America/Toronto:20260320T093000
DTEND;TZID=America/Toronto:20260320T113000
DTSTAMP:20260419T132645
CREATED:20241114T161909Z
LAST-MODIFIED:20260128T153315Z
UID:10002255-1773999000-1774006200@familleacoeur.qc.ca
SUMMARY:Langagibou
DESCRIPTION:L’atelier LANGAGIBOU invite le parent et son enfant à travailler le développement du langage. \nLe but est d’acquérir des stratégies langagières selon une approche personnalisée. \nLa rencontre est d’une durée de 2 heures assistée par deux accompagnatrices et divisée en quelques modules : causerie\, parcours dirigé\, activité de groupe structuré (thématique)\, collation et jeux libre(enfants) + causette (parents)\, histoire et départ. \nNote : Une pré-inscription est requise pour participer à l’atelier \nCOÛT : 90$ pour la session (revient à 10$ l’atelier)
URL:https://familleacoeur.qc.ca/evenement/langagibou-3/2026-03-20/
CATEGORIES:Activités
ATTACH;FMTTYPE=image/jpeg:https://familleacoeur.qc.ca/wp-content/uploads/2024/02/pexels-mart-production-7414905-scaled-e1708617596238.jpg
END:VEVENT
BEGIN:VEVENT
DTSTART;TZID=America/Toronto:20260319T084500
DTEND;TZID=America/Toronto:20260319T113000
DTSTAMP:20260419T132645
CREATED:20260113T195752Z
LAST-MODIFIED:20260113T200401Z
UID:10002488-1773909900-1773919800@familleacoeur.qc.ca
SUMMARY:Groupe de soutien « L'Éveil en douceur »
DESCRIPTION:Ce groupe de soutien et de prévention de la dépression post-partum s’adresse aux mères qui vivent des difficultés émotionnelles et/ou une dépression post-partum. \nIl y aura aussi une rencontre en couple un samedi durant la session. \nGratuit pour les membres
URL:https://familleacoeur.qc.ca/evenement/groupe-de-soutien-leveil-en-douceur-3/2026-03-19/
CATEGORIES:Activités
ATTACH;FMTTYPE=image/jpeg:https://familleacoeur.qc.ca/wp-content/uploads/2025/03/hand-5961660_1280.jpg
END:VEVENT
BEGIN:VEVENT
DTSTART;TZID=America/Toronto:20260318T093000
DTEND;TZID=America/Toronto:20260318T113000
DTSTAMP:20260419T132645
CREATED:20251110T192342Z
LAST-MODIFIED:20260204T162930Z
UID:10002238-1773826200-1773833400@familleacoeur.qc.ca
SUMMARY:Café-jasette «Les Galipettes» pour parents et enfants de 2 à 5 ans
DESCRIPTION:Pour parents et enfants âgés de 2 à 5 ans. \nPour connaître les prochaines dates de rencontres pour la session à venir\, consultez la page Facebook de Famille à Cœur ou notre calendrier.
URL:https://familleacoeur.qc.ca/evenement/cafe-jasette-les-galipettes-pour-parents-et-enfants-de-2-a-5-ans/2026-03-18/
CATEGORIES:Activités
ATTACH;FMTTYPE=image/jpeg:https://familleacoeur.qc.ca/wp-content/uploads/2021/02/galipettes2.jpg
END:VEVENT
BEGIN:VEVENT
DTSTART;TZID=America/Toronto:20260317T090000
DTEND;TZID=America/Toronto:20260317T120000
DTSTAMP:20260419T132645
CREATED:20251110T192848Z
LAST-MODIFIED:20260204T163153Z
UID:10002435-1773738000-1773748800@familleacoeur.qc.ca
SUMMARY:Les mères... Entre-Nous !
DESCRIPTION:l’« Entre-Nous » est un local mis à la disposition des mères qui désirent rencontrer d’autres mères… \nC’est GRATUIT et sans inscription.
URL:https://familleacoeur.qc.ca/evenement/les-meres-entre-nous-le-matin-2-2-3/2026-03-17/
CATEGORIES:Services
ATTACH;FMTTYPE=image/jpeg:https://familleacoeur.qc.ca/wp-content/uploads/2023/08/Bedons_12mai2022_007.jpg
END:VEVENT
BEGIN:VEVENT
DTSTART;TZID=America/Toronto:20260316T093000
DTEND;TZID=America/Toronto:20260316T113000
DTSTAMP:20260419T132645
CREATED:20260209T194319Z
LAST-MODIFIED:20260209T194529Z
UID:10002582-1773653400-1773660600@familleacoeur.qc.ca
SUMMARY:Espace nourrisson
DESCRIPTION:Grâce à cet espace\, les parents d’enfants de 0 à 6 mois peuvent venir rencontrer une intervenante périnatale pour du soutien et pour poser leurs questions. \nBienvenue !
URL:https://familleacoeur.qc.ca/evenement/espace-nourrisson/2026-03-16/
CATEGORIES:Activités,Services
ATTACH;FMTTYPE=image/jpeg:https://familleacoeur.qc.ca/wp-content/uploads/2026/01/pexels-polina-tankilevitch-3875280-scaled-e1768588875268.jpg
END:VEVENT
BEGIN:VEVENT
DTSTART;TZID=America/Toronto:20260316T093000
DTEND;TZID=America/Toronto:20260316T113000
DTSTAMP:20260419T132645
CREATED:20241114T161909Z
LAST-MODIFIED:20260128T153315Z
UID:10002254-1773653400-1773660600@familleacoeur.qc.ca
SUMMARY:Langagibou
DESCRIPTION:L’atelier LANGAGIBOU invite le parent et son enfant à travailler le développement du langage. \nLe but est d’acquérir des stratégies langagières selon une approche personnalisée. \nLa rencontre est d’une durée de 2 heures assistée par deux accompagnatrices et divisée en quelques modules : causerie\, parcours dirigé\, activité de groupe structuré (thématique)\, collation et jeux libre(enfants) + causette (parents)\, histoire et départ. \nNote : Une pré-inscription est requise pour participer à l’atelier \nCOÛT : 90$ pour la session (revient à 10$ l’atelier)
URL:https://familleacoeur.qc.ca/evenement/langagibou-3/2026-03-16/
CATEGORIES:Activités
ATTACH;FMTTYPE=image/jpeg:https://familleacoeur.qc.ca/wp-content/uploads/2024/02/pexels-mart-production-7414905-scaled-e1708617596238.jpg
END:VEVENT
END:VCALENDAR