BEGIN:VCALENDAR
VERSION:2.0
PRODID:-//Famille à Coeur - ECPv6.2.2//NONSGML v1.0//EN
CALSCALE:GREGORIAN
METHOD:PUBLISH
X-ORIGINAL-URL:https://familleacoeur.qc.ca
X-WR-CALDESC:évènements pour Famille à Coeur
REFRESH-INTERVAL;VALUE=DURATION:PT1H
X-Robots-Tag:noindex
X-PUBLISHED-TTL:PT1H
BEGIN:VTIMEZONE
TZID:America/Toronto
BEGIN:DAYLIGHT
TZOFFSETFROM:-0500
TZOFFSETTO:-0400
TZNAME:EDT
DTSTART:20250309T070000
END:DAYLIGHT
BEGIN:STANDARD
TZOFFSETFROM:-0400
TZOFFSETTO:-0500
TZNAME:EST
DTSTART:20251102T060000
END:STANDARD
END:VTIMEZONE
BEGIN:VEVENT
DTSTART;TZID=America/Toronto:20251008T180000
DTEND;TZID=America/Toronto:20251008T200000
DTSTAMP:20260422T094433
CREATED:20250820T152423Z
LAST-MODIFIED:20250825T143901Z
UID:10001852-1759946400-1759953600@familleacoeur.qc.ca
SUMMARY:Coéquipiers père-mère
DESCRIPTION:Cet atelier s’adresse à tous les parents qui désirent échanger sur l’importance de faire équipe pour leurs enfants\, ainsi que de prendre conscience de ce qu’ils vivent comme parents\, qu’ils soient en couple ou séparés\, dans le respect de la place de chacun.
URL:https://familleacoeur.qc.ca/evenement/coequipiers-pere-mere-2-2/2025-10-08/
CATEGORIES:Ateliers
ATTACH;FMTTYPE=image/jpeg:https://familleacoeur.qc.ca/wp-content/uploads/2021/01/apropos-titre.jpg
END:VEVENT
BEGIN:VEVENT
DTSTART;TZID=America/Toronto:20251008T093000
DTEND;TZID=America/Toronto:20251008T113000
DTSTAMP:20260422T094433
CREATED:20250820T153220Z
LAST-MODIFIED:20250820T153751Z
UID:10002080-1759915800-1759923000@familleacoeur.qc.ca
SUMMARY:Café-jasette «Les Galipettes» pour parents et enfants de 2 à 5 ans
DESCRIPTION:Pour parents et enfants âgés de 2 à 5 ans. \nPour connaître les prochaines dates de rencontres pour la session à venir\, consultez la page Facebook de Famille à Cœur ou notre calendrier.
URL:https://familleacoeur.qc.ca/evenement/cafe-jasette-les-galipettes-pour-parents-et-enfants-de-2-a-5-ans-2-2-2-2/2025-10-08/
CATEGORIES:Activités
ATTACH;FMTTYPE=image/jpeg:https://familleacoeur.qc.ca/wp-content/uploads/2021/02/galipettes2.jpg
END:VEVENT
BEGIN:VEVENT
DTSTART;TZID=America/Toronto:20251007T183000
DTEND;TZID=America/Toronto:20251007T203000
DTSTAMP:20260422T094433
CREATED:20250813T185709Z
LAST-MODIFIED:20250818T151526Z
UID:10002018-1759861800-1759869000@familleacoeur.qc.ca
SUMMARY:Préparation prénatale de groupe
DESCRIPTION:Préparation prénatale pour mieux se préparer à l’accouchement. \nPour connaître les prochaines dates de rencontres pour la session à venir\, consultez la page Facebook de Famille à Cœur ou notre calendrier.
URL:https://familleacoeur.qc.ca/evenement/preparation-prenatale-de-groupe-printemps-2-2-2/2025-10-07/
CATEGORIES:Services
ATTACH;FMTTYPE=image/jpeg:https://familleacoeur.qc.ca/wp-content/uploads/2021/08/rencontres-prenatales-1.jpg
END:VEVENT
BEGIN:VEVENT
DTSTART;TZID=America/Toronto:20251006T093000
DTEND;TZID=America/Toronto:20251006T113000
DTSTAMP:20260422T094433
CREATED:20250813T184248Z
LAST-MODIFIED:20250814T164012Z
UID:10001983-1759743000-1759750200@familleacoeur.qc.ca
SUMMARY:Groupe de soutien « L'Éveil en douceur »
DESCRIPTION:Ce groupe de soutien et de prévention de la dépression post-partum s’adresse aux mères qui vivent des difficultés émotionnelles et/ou une dépression post-partum. \nIl y aura aussi une rencontre en couple un samedi durant la session. \nGratuit pour les membres
URL:https://familleacoeur.qc.ca/evenement/groupe-de-soutien-leveil-en-douceur-2/2025-10-06/
CATEGORIES:Activités
ATTACH;FMTTYPE=image/jpeg:https://familleacoeur.qc.ca/wp-content/uploads/2025/03/hand-5961660_1280.jpg
END:VEVENT
BEGIN:VEVENT
DTSTART;TZID=America/Toronto:20251005T093000
DTEND;TZID=America/Toronto:20251005T113000
DTSTAMP:20260422T094433
CREATED:20250813T172255Z
LAST-MODIFIED:20250820T154005Z
UID:10002092-1759656600-1759663800@familleacoeur.qc.ca
SUMMARY:Langagibou
DESCRIPTION:L’atelier LANGAGIBOU invite le parent et son enfant à travailler le développement du langage. \nLe but est d’acquérir des stratégies langagières selon une approche personnalisée. \nLa rencontre est d’une durée de 2 heures assistée par deux accompagnatrices et divisée en quelques modules : causerie\, parcours dirigé\, activité de groupe structuré (thématique)\, collation et jeux libre(enfants) + causette (parents)\, histoire et départ. \nNote : Une pré-inscription est requise pour participer à l’atelier \nCOÛT : 90$ pour la session (revient à 10$ l’atelier)
URL:https://familleacoeur.qc.ca/evenement/langagibou-3-2/2025-10-05/
CATEGORIES:Activités
ATTACH;FMTTYPE=image/jpeg:https://familleacoeur.qc.ca/wp-content/uploads/2024/02/pexels-mart-production-7414905-scaled-e1708617596238.jpg
END:VEVENT
BEGIN:VEVENT
DTSTART;TZID=America/Toronto:20251004T100000
DTEND;TZID=America/Toronto:20251004T110000
DTSTAMP:20260422T094433
CREATED:20251022T151045Z
LAST-MODIFIED:20251022T151045Z
UID:10002129-1759572000-1759575600@familleacoeur.qc.ca
SUMMARY:Éveil à la lecture
DESCRIPTION:La lecture a plusieurs bienfaits sur le développement de l’enfant (langage\, créativité\, confiance en soi…) L’éveil à la lecture est une bonne façon de créer de précieux moments avec vos petits en se basant sur une lecture interactive et enrichie. Nous allons bouger\, faire participer les petits et les grands durant la lecture\, créer des personnages et tout un monde. À vos livres! Prêt? Partez !! \nL’atelier s’adresse aux parents avec leurs enfants de 0 à 24 mois.
URL:https://familleacoeur.qc.ca/evenement/eveil-a-la-lecture-2-2/2025-10-04/
CATEGORIES:Ateliers
ATTACH;FMTTYPE=image/jpeg:https://familleacoeur.qc.ca/wp-content/uploads/2025/05/pexels-rdne-6182277-scaled.jpg
END:VEVENT
BEGIN:VEVENT
DTSTART;TZID=America/Toronto:20251004T100000
DTEND;TZID=America/Toronto:20251004T110000
DTSTAMP:20260422T094433
CREATED:20250903T133734Z
LAST-MODIFIED:20250903T133851Z
UID:10001951-1759572000-1759575600@familleacoeur.qc.ca
SUMMARY:Éveil à la lecture
DESCRIPTION:La lecture a plusieurs bienfaits sur le développement de l’enfant (langage\, créativité\, confiance en soi…) L’éveil à la lecture est une bonne façon de créer de précieux moments avec vos petits en se basant sur une lecture interactive et enrichie. Nous allons bouger\, faire participer les petits et les grands durant la lecture\, créer des personnages et tout un monde. À vos livres! Prêt? Partez !! \nL’atelier s’adresse aux parents avec leurs enfants de 0 à 24 mois.
URL:https://familleacoeur.qc.ca/evenement/eveil-a-la-lecture-2/2025-10-04/
CATEGORIES:Ateliers
ATTACH;FMTTYPE=image/jpeg:https://familleacoeur.qc.ca/wp-content/uploads/2025/05/pexels-rdne-6182277-scaled.jpg
END:VEVENT
BEGIN:VEVENT
DTSTART;TZID=America/Toronto:20251002T093000
DTEND;TZID=America/Toronto:20251002T113000
DTSTAMP:20260422T094433
CREATED:20250813T185343Z
LAST-MODIFIED:20250813T185440Z
UID:10001994-1759397400-1759404600@familleacoeur.qc.ca
SUMMARY:Les p’tits matins bedons poupons
DESCRIPTION:Cette activité s’adresse aux parents d’enfants de 0 (grossesse) à 2 ans. Les p’tits matins bedons poupons se déroulent de 9 h 30 à 11 h 30 à tous les jeudis. Le but est de permettre à ces parents de rencontrer d’autres parents\, afin d’échanger et d’en apprendre sur des sujets en lien direct avec leur réalité commune\, accompagnés de leur poupon. À l’occasion nous avons des invités qui viennent discuter de différents sujets tels que la nutrition (DME)\, ostéopathie\, massothérapie pour bébé\, etc. \nGratuit pour les membres.
URL:https://familleacoeur.qc.ca/evenement/les-ptits-matins-bedons-poupons-ete-2-2-2-2/2025-10-02/
CATEGORIES:Activités,Services
ATTACH;FMTTYPE=image/jpeg:https://familleacoeur.qc.ca/wp-content/uploads/2021/02/bedons-poupons.jpg
END:VEVENT
BEGIN:VEVENT
DTSTART;TZID=America/Toronto:20251001T093000
DTEND;TZID=America/Toronto:20251001T113000
DTSTAMP:20260422T094433
CREATED:20250820T153220Z
LAST-MODIFIED:20250820T153751Z
UID:10002079-1759311000-1759318200@familleacoeur.qc.ca
SUMMARY:Café-jasette «Les Galipettes» pour parents et enfants de 2 à 5 ans
DESCRIPTION:Pour parents et enfants âgés de 2 à 5 ans. \nPour connaître les prochaines dates de rencontres pour la session à venir\, consultez la page Facebook de Famille à Cœur ou notre calendrier.
URL:https://familleacoeur.qc.ca/evenement/cafe-jasette-les-galipettes-pour-parents-et-enfants-de-2-a-5-ans-2-2-2-2/2025-10-01/
CATEGORIES:Activités
ATTACH;FMTTYPE=image/jpeg:https://familleacoeur.qc.ca/wp-content/uploads/2021/02/galipettes2.jpg
END:VEVENT
BEGIN:VEVENT
DTSTART;TZID=America/Toronto:20250930T183000
DTEND;TZID=America/Toronto:20250930T203000
DTSTAMP:20260422T094433
CREATED:20250813T185709Z
LAST-MODIFIED:20250818T151526Z
UID:10002017-1759257000-1759264200@familleacoeur.qc.ca
SUMMARY:Préparation prénatale de groupe
DESCRIPTION:Préparation prénatale pour mieux se préparer à l’accouchement. \nPour connaître les prochaines dates de rencontres pour la session à venir\, consultez la page Facebook de Famille à Cœur ou notre calendrier.
URL:https://familleacoeur.qc.ca/evenement/preparation-prenatale-de-groupe-printemps-2-2-2/2025-09-30/
CATEGORIES:Services
ATTACH;FMTTYPE=image/jpeg:https://familleacoeur.qc.ca/wp-content/uploads/2021/08/rencontres-prenatales-1.jpg
END:VEVENT
BEGIN:VEVENT
DTSTART;TZID=America/Toronto:20250929T093000
DTEND;TZID=America/Toronto:20250929T113000
DTSTAMP:20260422T094433
CREATED:20250813T184248Z
LAST-MODIFIED:20250814T164012Z
UID:10001982-1759138200-1759145400@familleacoeur.qc.ca
SUMMARY:Groupe de soutien « L'Éveil en douceur »
DESCRIPTION:Ce groupe de soutien et de prévention de la dépression post-partum s’adresse aux mères qui vivent des difficultés émotionnelles et/ou une dépression post-partum. \nIl y aura aussi une rencontre en couple un samedi durant la session. \nGratuit pour les membres
URL:https://familleacoeur.qc.ca/evenement/groupe-de-soutien-leveil-en-douceur-2/2025-09-29/
CATEGORIES:Activités
ATTACH;FMTTYPE=image/jpeg:https://familleacoeur.qc.ca/wp-content/uploads/2025/03/hand-5961660_1280.jpg
END:VEVENT
BEGIN:VEVENT
DTSTART;TZID=America/Toronto:20250928T093000
DTEND;TZID=America/Toronto:20250928T113000
DTSTAMP:20260422T094433
CREATED:20250813T172255Z
LAST-MODIFIED:20250820T154005Z
UID:10002091-1759051800-1759059000@familleacoeur.qc.ca
SUMMARY:Langagibou
DESCRIPTION:L’atelier LANGAGIBOU invite le parent et son enfant à travailler le développement du langage. \nLe but est d’acquérir des stratégies langagières selon une approche personnalisée. \nLa rencontre est d’une durée de 2 heures assistée par deux accompagnatrices et divisée en quelques modules : causerie\, parcours dirigé\, activité de groupe structuré (thématique)\, collation et jeux libre(enfants) + causette (parents)\, histoire et départ. \nNote : Une pré-inscription est requise pour participer à l’atelier \nCOÛT : 90$ pour la session (revient à 10$ l’atelier)
URL:https://familleacoeur.qc.ca/evenement/langagibou-3-2/2025-09-28/
CATEGORIES:Activités
ATTACH;FMTTYPE=image/jpeg:https://familleacoeur.qc.ca/wp-content/uploads/2024/02/pexels-mart-production-7414905-scaled-e1708617596238.jpg
END:VEVENT
BEGIN:VEVENT
DTSTART;TZID=America/Toronto:20250925T093000
DTEND;TZID=America/Toronto:20250925T113000
DTSTAMP:20260422T094433
CREATED:20250813T185343Z
LAST-MODIFIED:20250813T185440Z
UID:10001993-1758792600-1758799800@familleacoeur.qc.ca
SUMMARY:Les p’tits matins bedons poupons
DESCRIPTION:Cette activité s’adresse aux parents d’enfants de 0 (grossesse) à 2 ans. Les p’tits matins bedons poupons se déroulent de 9 h 30 à 11 h 30 à tous les jeudis. Le but est de permettre à ces parents de rencontrer d’autres parents\, afin d’échanger et d’en apprendre sur des sujets en lien direct avec leur réalité commune\, accompagnés de leur poupon. À l’occasion nous avons des invités qui viennent discuter de différents sujets tels que la nutrition (DME)\, ostéopathie\, massothérapie pour bébé\, etc. \nGratuit pour les membres.
URL:https://familleacoeur.qc.ca/evenement/les-ptits-matins-bedons-poupons-ete-2-2-2-2/2025-09-25/
CATEGORIES:Activités,Services
ATTACH;FMTTYPE=image/jpeg:https://familleacoeur.qc.ca/wp-content/uploads/2021/02/bedons-poupons.jpg
END:VEVENT
BEGIN:VEVENT
DTSTART;TZID=America/Toronto:20250924T093000
DTEND;TZID=America/Toronto:20250924T113000
DTSTAMP:20260422T094433
CREATED:20250820T153220Z
LAST-MODIFIED:20250820T153751Z
UID:10002078-1758706200-1758713400@familleacoeur.qc.ca
SUMMARY:Café-jasette «Les Galipettes» pour parents et enfants de 2 à 5 ans
DESCRIPTION:Pour parents et enfants âgés de 2 à 5 ans. \nPour connaître les prochaines dates de rencontres pour la session à venir\, consultez la page Facebook de Famille à Cœur ou notre calendrier.
URL:https://familleacoeur.qc.ca/evenement/cafe-jasette-les-galipettes-pour-parents-et-enfants-de-2-a-5-ans-2-2-2-2/2025-09-24/
CATEGORIES:Activités
ATTACH;FMTTYPE=image/jpeg:https://familleacoeur.qc.ca/wp-content/uploads/2021/02/galipettes2.jpg
END:VEVENT
BEGIN:VEVENT
DTSTART;TZID=America/Toronto:20250923T183000
DTEND;TZID=America/Toronto:20250923T203000
DTSTAMP:20260422T094433
CREATED:20250813T185709Z
LAST-MODIFIED:20250818T151526Z
UID:10002016-1758652200-1758659400@familleacoeur.qc.ca
SUMMARY:Préparation prénatale de groupe
DESCRIPTION:Préparation prénatale pour mieux se préparer à l’accouchement. \nPour connaître les prochaines dates de rencontres pour la session à venir\, consultez la page Facebook de Famille à Cœur ou notre calendrier.
URL:https://familleacoeur.qc.ca/evenement/preparation-prenatale-de-groupe-printemps-2-2-2/2025-09-23/
CATEGORIES:Services
ATTACH;FMTTYPE=image/jpeg:https://familleacoeur.qc.ca/wp-content/uploads/2021/08/rencontres-prenatales-1.jpg
END:VEVENT
BEGIN:VEVENT
DTSTART;TZID=America/Toronto:20250922T093000
DTEND;TZID=America/Toronto:20250922T113000
DTSTAMP:20260422T094433
CREATED:20250813T184248Z
LAST-MODIFIED:20250814T164012Z
UID:10001981-1758533400-1758540600@familleacoeur.qc.ca
SUMMARY:Groupe de soutien « L'Éveil en douceur »
DESCRIPTION:Ce groupe de soutien et de prévention de la dépression post-partum s’adresse aux mères qui vivent des difficultés émotionnelles et/ou une dépression post-partum. \nIl y aura aussi une rencontre en couple un samedi durant la session. \nGratuit pour les membres
URL:https://familleacoeur.qc.ca/evenement/groupe-de-soutien-leveil-en-douceur-2/2025-09-22/
CATEGORIES:Activités
ATTACH;FMTTYPE=image/jpeg:https://familleacoeur.qc.ca/wp-content/uploads/2025/03/hand-5961660_1280.jpg
END:VEVENT
BEGIN:VEVENT
DTSTART;TZID=America/Toronto:20250921T093000
DTEND;TZID=America/Toronto:20250921T113000
DTSTAMP:20260422T094433
CREATED:20250813T172255Z
LAST-MODIFIED:20250820T154005Z
UID:10001979-1758447000-1758454200@familleacoeur.qc.ca
SUMMARY:Langagibou
DESCRIPTION:L’atelier LANGAGIBOU invite le parent et son enfant à travailler le développement du langage. \nLe but est d’acquérir des stratégies langagières selon une approche personnalisée. \nLa rencontre est d’une durée de 2 heures assistée par deux accompagnatrices et divisée en quelques modules : causerie\, parcours dirigé\, activité de groupe structuré (thématique)\, collation et jeux libre(enfants) + causette (parents)\, histoire et départ. \nNote : Une pré-inscription est requise pour participer à l’atelier \nCOÛT : 90$ pour la session (revient à 10$ l’atelier)
URL:https://familleacoeur.qc.ca/evenement/langagibou-3-2/2025-09-21/
CATEGORIES:Activités
ATTACH;FMTTYPE=image/jpeg:https://familleacoeur.qc.ca/wp-content/uploads/2024/02/pexels-mart-production-7414905-scaled-e1708617596238.jpg
END:VEVENT
BEGIN:VEVENT
DTSTART;TZID=America/Toronto:20250918T093000
DTEND;TZID=America/Toronto:20250918T113000
DTSTAMP:20260422T094433
CREATED:20250813T185343Z
LAST-MODIFIED:20250813T185440Z
UID:10001992-1758187800-1758195000@familleacoeur.qc.ca
SUMMARY:Les p’tits matins bedons poupons
DESCRIPTION:Cette activité s’adresse aux parents d’enfants de 0 (grossesse) à 2 ans. Les p’tits matins bedons poupons se déroulent de 9 h 30 à 11 h 30 à tous les jeudis. Le but est de permettre à ces parents de rencontrer d’autres parents\, afin d’échanger et d’en apprendre sur des sujets en lien direct avec leur réalité commune\, accompagnés de leur poupon. À l’occasion nous avons des invités qui viennent discuter de différents sujets tels que la nutrition (DME)\, ostéopathie\, massothérapie pour bébé\, etc. \nGratuit pour les membres.
URL:https://familleacoeur.qc.ca/evenement/les-ptits-matins-bedons-poupons-ete-2-2-2-2/2025-09-18/
CATEGORIES:Activités,Services
ATTACH;FMTTYPE=image/jpeg:https://familleacoeur.qc.ca/wp-content/uploads/2021/02/bedons-poupons.jpg
END:VEVENT
BEGIN:VEVENT
DTSTART;TZID=America/Toronto:20250917T093000
DTEND;TZID=America/Toronto:20250917T113000
DTSTAMP:20260422T094433
CREATED:20250820T153220Z
LAST-MODIFIED:20250820T153751Z
UID:10002077-1758101400-1758108600@familleacoeur.qc.ca
SUMMARY:Café-jasette «Les Galipettes» pour parents et enfants de 2 à 5 ans
DESCRIPTION:Pour parents et enfants âgés de 2 à 5 ans. \nPour connaître les prochaines dates de rencontres pour la session à venir\, consultez la page Facebook de Famille à Cœur ou notre calendrier.
URL:https://familleacoeur.qc.ca/evenement/cafe-jasette-les-galipettes-pour-parents-et-enfants-de-2-a-5-ans-2-2-2-2/2025-09-17/
CATEGORIES:Activités
ATTACH;FMTTYPE=image/jpeg:https://familleacoeur.qc.ca/wp-content/uploads/2021/02/galipettes2.jpg
END:VEVENT
BEGIN:VEVENT
DTSTART;TZID=America/Toronto:20250916T183000
DTEND;TZID=America/Toronto:20250916T203000
DTSTAMP:20260422T094433
CREATED:20250813T185709Z
LAST-MODIFIED:20250818T151526Z
UID:10002015-1758047400-1758054600@familleacoeur.qc.ca
SUMMARY:Préparation prénatale de groupe
DESCRIPTION:Préparation prénatale pour mieux se préparer à l’accouchement. \nPour connaître les prochaines dates de rencontres pour la session à venir\, consultez la page Facebook de Famille à Cœur ou notre calendrier.
URL:https://familleacoeur.qc.ca/evenement/preparation-prenatale-de-groupe-printemps-2-2-2/2025-09-16/
CATEGORIES:Services
ATTACH;FMTTYPE=image/jpeg:https://familleacoeur.qc.ca/wp-content/uploads/2021/08/rencontres-prenatales-1.jpg
END:VEVENT
BEGIN:VEVENT
DTSTART;TZID=America/Toronto:20250915T093000
DTEND;TZID=America/Toronto:20250915T113000
DTSTAMP:20260422T094433
CREATED:20250813T184248Z
LAST-MODIFIED:20250814T164012Z
UID:10001980-1757928600-1757935800@familleacoeur.qc.ca
SUMMARY:Groupe de soutien « L'Éveil en douceur »
DESCRIPTION:Ce groupe de soutien et de prévention de la dépression post-partum s’adresse aux mères qui vivent des difficultés émotionnelles et/ou une dépression post-partum. \nIl y aura aussi une rencontre en couple un samedi durant la session. \nGratuit pour les membres
URL:https://familleacoeur.qc.ca/evenement/groupe-de-soutien-leveil-en-douceur-2/2025-09-15/
CATEGORIES:Activités
ATTACH;FMTTYPE=image/jpeg:https://familleacoeur.qc.ca/wp-content/uploads/2025/03/hand-5961660_1280.jpg
END:VEVENT
BEGIN:VEVENT
DTSTART;TZID=America/Toronto:20250911T093000
DTEND;TZID=America/Toronto:20250911T113000
DTSTAMP:20260422T094433
CREATED:20250813T185343Z
LAST-MODIFIED:20250813T185440Z
UID:10001867-1757583000-1757590200@familleacoeur.qc.ca
SUMMARY:Les p’tits matins bedons poupons
DESCRIPTION:Cette activité s’adresse aux parents d’enfants de 0 (grossesse) à 2 ans. Les p’tits matins bedons poupons se déroulent de 9 h 30 à 11 h 30 à tous les jeudis. Le but est de permettre à ces parents de rencontrer d’autres parents\, afin d’échanger et d’en apprendre sur des sujets en lien direct avec leur réalité commune\, accompagnés de leur poupon. À l’occasion nous avons des invités qui viennent discuter de différents sujets tels que la nutrition (DME)\, ostéopathie\, massothérapie pour bébé\, etc. \nGratuit pour les membres.
URL:https://familleacoeur.qc.ca/evenement/les-ptits-matins-bedons-poupons-ete-2-2-2-2/2025-09-11/
CATEGORIES:Activités,Services
ATTACH;FMTTYPE=image/jpeg:https://familleacoeur.qc.ca/wp-content/uploads/2021/02/bedons-poupons.jpg
END:VEVENT
BEGIN:VEVENT
DTSTART;TZID=America/Toronto:20250910T093000
DTEND;TZID=America/Toronto:20250910T113000
DTSTAMP:20260422T094433
CREATED:20250820T153220Z
LAST-MODIFIED:20250820T153751Z
UID:10001877-1757496600-1757503800@familleacoeur.qc.ca
SUMMARY:Café-jasette «Les Galipettes» pour parents et enfants de 2 à 5 ans
DESCRIPTION:Pour parents et enfants âgés de 2 à 5 ans. \nPour connaître les prochaines dates de rencontres pour la session à venir\, consultez la page Facebook de Famille à Cœur ou notre calendrier.
URL:https://familleacoeur.qc.ca/evenement/cafe-jasette-les-galipettes-pour-parents-et-enfants-de-2-a-5-ans-2-2-2-2/2025-09-10/
CATEGORIES:Activités
ATTACH;FMTTYPE=image/jpeg:https://familleacoeur.qc.ca/wp-content/uploads/2021/02/galipettes2.jpg
END:VEVENT
BEGIN:VEVENT
DTSTART;TZID=America/Toronto:20250908T093000
DTEND;TZID=America/Toronto:20250908T113000
DTSTAMP:20260422T094433
CREATED:20250813T184248Z
LAST-MODIFIED:20250814T164012Z
UID:10001891-1757323800-1757331000@familleacoeur.qc.ca
SUMMARY:Groupe de soutien « L'Éveil en douceur »
DESCRIPTION:Ce groupe de soutien et de prévention de la dépression post-partum s’adresse aux mères qui vivent des difficultés émotionnelles et/ou une dépression post-partum. \nIl y aura aussi une rencontre en couple un samedi durant la session. \nGratuit pour les membres
URL:https://familleacoeur.qc.ca/evenement/groupe-de-soutien-leveil-en-douceur-2/2025-09-08/
CATEGORIES:Activités
ATTACH;FMTTYPE=image/jpeg:https://familleacoeur.qc.ca/wp-content/uploads/2025/03/hand-5961660_1280.jpg
END:VEVENT
BEGIN:VEVENT
DTSTART;TZID=America/Toronto:20250828T130000
DTEND;TZID=America/Toronto:20250828T160000
DTSTAMP:20260422T094433
CREATED:20250530T155954Z
LAST-MODIFIED:20250530T155954Z
UID:10001961-1756386000-1756396800@familleacoeur.qc.ca
SUMMARY:Activité 6-12 ans - Party de la rentrée !
DESCRIPTION:Peinture sur toile sous lumières black lights\nJeux de tic-tac-toe lumineux\nLimbo et musique\nBingo dans le noir avec prix surprise à gagner !\nMaquillage de visage\n\nEt autres bricolages possibles !! \nCoûts : 15$ \nMatériel Requis : Chandail blanc ou chandail couleur néon
URL:https://familleacoeur.qc.ca/evenement/activite-6-12-ans-party-de-la-rentree/
CATEGORIES:Activités
ATTACH;FMTTYPE=image/jpeg:https://familleacoeur.qc.ca/wp-content/uploads/2025/05/pexels-roseleon-3231775.jpg
END:VEVENT
BEGIN:VEVENT
DTSTART;TZID=America/Toronto:20250827T120000
DTEND;TZID=America/Toronto:20250827T143000
DTSTAMP:20260422T094433
CREATED:20250530T155727Z
LAST-MODIFIED:20250530T155727Z
UID:10001960-1756296000-1756305000@familleacoeur.qc.ca
SUMMARY:Activité 6-12 ans - Patin Libre au Colisée Isabelle Brasseur
DESCRIPTION:Patin libre au colisée Isabelle Brasseur ! \n**Vous devrez vous rendre directement au Colisée \, le transport n’est pas fourni ** \nCoût : 15$ \nMatériel requis : Patins à glace\, casque \, vêtements d’hiver (manteau \, tuque \, mitaines \, bas chaud foulard ) \, bouteille d’eau \, collations . \n 
URL:https://familleacoeur.qc.ca/evenement/activite-6-12-ans-patin-libre-au-colisee-isabelle-brasseur/
CATEGORIES:Activités
ATTACH;FMTTYPE=image/jpeg:https://familleacoeur.qc.ca/wp-content/uploads/2025/05/post-atelier-3-1-e1748620629239.jpg
END:VEVENT
BEGIN:VEVENT
DTSTART;TZID=America/Toronto:20250826T100000
DTEND;TZID=America/Toronto:20250826T150000
DTSTAMP:20260422T094433
CREATED:20250530T155508Z
LAST-MODIFIED:20250530T155534Z
UID:10001959-1756202400-1756220400@familleacoeur.qc.ca
SUMMARY:Activité 8-12 ans - Pique-nique & piscine St-Edmond
DESCRIPTION:Période de baignade libre à la piscine de St-Edmond. \n10h : Arrivée des enfants à Famille à Cœur. \n10h30 : Départ à pied de famille à Cœur vers la piscine. \n11h00 : arrivée à la piscine et pique-nique. (L’enfant doit avoir un diner froid) \n11h30 – 14h15 : Baignade libre \n14h30 : Départ de la piscine \n14h50 : Retour des enfants à Famille à Cœur \nCoûts : 15$ \nMatériel requis : Maillot de bain \, serviette \, casquette \, crème solaire \, soulier d’eau ou crocs \, bouteille d’eau \, collations \, vêtements de rechange.
URL:https://familleacoeur.qc.ca/evenement/activite-8-12-ans-pique-nique-piscine-st-edmond-2/
CATEGORIES:Activités
ATTACH;FMTTYPE=image/jpeg:https://familleacoeur.qc.ca/wp-content/uploads/2025/05/post-atelier-2-e1747409351337.jpg
END:VEVENT
BEGIN:VEVENT
DTSTART;TZID=America/Toronto:20250825T130000
DTEND;TZID=America/Toronto:20250825T160000
DTSTAMP:20260422T094433
CREATED:20250530T155221Z
LAST-MODIFIED:20250530T155221Z
UID:10001958-1756126800-1756137600@familleacoeur.qc.ca
SUMMARY:Activité 6-12 ans - Peinture & jardinage créatif !
DESCRIPTION:Création d’un pot de fleur & peinture créative à partir de matériaux recyclés. \nPlantation d’une plante (mini succulent). \nOption de peinture sur roche après. \nAprès l’activité\, les enfants auront la possibilité d’aller jouer dans les jeux d’eau du parc. \nCoût : 15$ \n 
URL:https://familleacoeur.qc.ca/evenement/activite-6-12-ans-peinture-jardinage-creatif/
CATEGORIES:Activités
ATTACH;FMTTYPE=image/jpeg:https://familleacoeur.qc.ca/wp-content/uploads/2025/05/pexels-asphotograpy-1002703-scaled.jpg
END:VEVENT
BEGIN:VEVENT
DTSTART;TZID=America/Toronto:20250822T100000
DTEND;TZID=America/Toronto:20250822T140000
DTSTAMP:20260422T094433
CREATED:20250530T154312Z
LAST-MODIFIED:20250530T154312Z
UID:10001955-1755856800-1755871200@familleacoeur.qc.ca
SUMMARY:Activité 8-12 ans - Pique-nique & piscine St-Edmond
DESCRIPTION:Période de baignade libre à la piscine de St-Emond. \n10h : Arrivée des enfants à Famille à Cœur. \n10h30 : Départ à pied de famille à Cœur vers la piscine. \n11h00 : arrivée à la piscine et pique-nique. (L’enfant doit avoir un diner froid) \n11h30 – 13h15 : Baignade libre \n13h30 : Départ de la piscine \n13h50 : Retour des enfants à Famille à Cœur \n  \nCoût : 15$ \nMatériel requis : Maillot de bain \, serviette \, casquette \, crème solaire \, soulier d’eau ou crocs \, bouteille d’eau \, collations \, vêtements de rechange.
URL:https://familleacoeur.qc.ca/evenement/activite-8-12-ans-pique-nique-piscine-st-edmond/
CATEGORIES:Activités
ATTACH;FMTTYPE=image/jpeg:https://familleacoeur.qc.ca/wp-content/uploads/2025/05/post-atelier-2-1.jpg
END:VEVENT
BEGIN:VEVENT
DTSTART;TZID=America/Toronto:20250821T090000
DTEND;TZID=America/Toronto:20250821T120000
DTSTAMP:20260422T094433
CREATED:20250530T155023Z
LAST-MODIFIED:20250530T155059Z
UID:10001957-1755766800-1755777600@familleacoeur.qc.ca
SUMMARY:Activité 8-12 ans - Atelier de cuisine sucrée
DESCRIPTION:Cuisine de rouleaux fruités \nConfection de cake-pop \nPerles à repasser (Bricolage) \nCoût : 15$ \n 
URL:https://familleacoeur.qc.ca/evenement/activite-8-12-ans-atelier-de-cuisine-sucree/
CATEGORIES:Activités
ATTACH;FMTTYPE=image/jpeg:https://familleacoeur.qc.ca/wp-content/uploads/2025/05/pexels-kampus-8511843-scaled.jpg
END:VEVENT
END:VCALENDAR