BEGIN:VCALENDAR
VERSION:2.0
PRODID:-//Famille à Coeur - ECPv6.2.2//NONSGML v1.0//EN
CALSCALE:GREGORIAN
METHOD:PUBLISH
X-ORIGINAL-URL:https://familleacoeur.qc.ca
X-WR-CALDESC:évènements pour Famille à Coeur
REFRESH-INTERVAL;VALUE=DURATION:PT1H
X-Robots-Tag:noindex
X-PUBLISHED-TTL:PT1H
BEGIN:VTIMEZONE
TZID:America/Toronto
BEGIN:DAYLIGHT
TZOFFSETFROM:-0500
TZOFFSETTO:-0400
TZNAME:EDT
DTSTART:20250309T070000
END:DAYLIGHT
BEGIN:STANDARD
TZOFFSETFROM:-0400
TZOFFSETTO:-0500
TZNAME:EST
DTSTART:20251102T060000
END:STANDARD
END:VTIMEZONE
BEGIN:VEVENT
DTSTART;TZID=America/Toronto:20250529T183000
DTEND;TZID=America/Toronto:20250529T203000
DTSTAMP:20260422T195114
CREATED:20250214T153029Z
LAST-MODIFIED:20250214T161417Z
UID:10001854-1748543400-1748550600@familleacoeur.qc.ca
SUMMARY:Préparation prénatale de groupe
DESCRIPTION:Préparation prénatale pour mieux se préparer à l’accouchement. \nPour connaître les prochaines dates de rencontres pour la session à venir\, consultez la page Facebook de Famille à Cœur ou notre calendrier.
URL:https://familleacoeur.qc.ca/evenement/preparation-prenatale-de-groupe-printemps-2-2/2025-05-29/
CATEGORIES:Services
ATTACH;FMTTYPE=image/jpeg:https://familleacoeur.qc.ca/wp-content/uploads/2021/08/rencontres-prenatales-1.jpg
END:VEVENT
BEGIN:VEVENT
DTSTART;TZID=America/Toronto:20250529T093000
DTEND;TZID=America/Toronto:20250529T113000
DTSTAMP:20260422T195114
CREATED:20250214T162638Z
LAST-MODIFIED:20250214T162800Z
UID:10001864-1748511000-1748518200@familleacoeur.qc.ca
SUMMARY:Les p’tits matins bedons poupons
DESCRIPTION:Cette activité s’adresse aux parents d’enfants de 0 (grossesse) à 2 ans. Les p’tits matins bedons poupons se déroulent de 9 h 30 à 11 h 30 à tous les jeudis. Le but est de permettre à ces parents de rencontrer d’autres parents\, afin d’échanger et d’en apprendre sur des sujets en lien direct avec leur réalité commune\, accompagnés de leur poupon. À l’occasion nous avons des invités qui viennent discuter de différents sujets tels que la nutrition (DME)\, ostéopathie\, massothérapie pour bébé\, etc. \nGratuit pour les membres.
URL:https://familleacoeur.qc.ca/evenement/les-ptits-matins-bedons-poupons-ete-2-2-2/2025-05-29/
CATEGORIES:Activités,Services
ATTACH;FMTTYPE=image/jpeg:https://familleacoeur.qc.ca/wp-content/uploads/2021/02/bedons-poupons.jpg
END:VEVENT
BEGIN:VEVENT
DTSTART;TZID=America/Toronto:20250528T093000
DTEND;TZID=America/Toronto:20250528T113000
DTSTAMP:20260422T195114
CREATED:20250214T163148Z
LAST-MODIFIED:20250214T163246Z
UID:10001875-1748424600-1748431800@familleacoeur.qc.ca
SUMMARY:Café-jasette «Les Galipettes» pour parents et enfants de 2 à 5 ans
DESCRIPTION:Pour parents et enfants âgés de 2 à 5 ans. \nPour connaître les prochaines dates de rencontres pour la session à venir\, consultez la page Facebook de Famille à Cœur ou notre calendrier.
URL:https://familleacoeur.qc.ca/evenement/cafe-jasette-les-galipettes-pour-parents-et-enfants-de-2-a-5-ans-2-2-2/2025-05-28/
CATEGORIES:Activités
ATTACH;FMTTYPE=image/jpeg:https://familleacoeur.qc.ca/wp-content/uploads/2021/02/galipettes2.jpg
END:VEVENT
BEGIN:VEVENT
DTSTART;TZID=America/Toronto:20250526T093000
DTEND;TZID=America/Toronto:20250526T113000
DTSTAMP:20260422T195114
CREATED:20250319T145544Z
LAST-MODIFIED:20250319T150052Z
UID:10001889-1748251800-1748259000@familleacoeur.qc.ca
SUMMARY:Groupe de soutien « L'Éveil en douceur »
DESCRIPTION:Ce groupe de soutien et de prévention de la dépression post-partum s’adresse aux mères qui vivent des difficultés émotionnelles et/ou une dépression post-partum. \nIl y aura aussi une rencontre en couple un samedi durant la session. \nGratuit pour les membres
URL:https://familleacoeur.qc.ca/evenement/groupe-de-soutien-leveil-en-douceur/2025-05-26/
CATEGORIES:Activités
ATTACH;FMTTYPE=image/jpeg:https://familleacoeur.qc.ca/wp-content/uploads/2025/03/hand-5961660_1280.jpg
END:VEVENT
BEGIN:VEVENT
DTSTART;TZID=America/Toronto:20250524T093000
DTEND;TZID=America/Toronto:20250524T113000
DTSTAMP:20260422T195114
CREATED:20250319T145544Z
LAST-MODIFIED:20250319T150052Z
UID:10001888-1748079000-1748086200@familleacoeur.qc.ca
SUMMARY:Groupe de soutien « L'Éveil en douceur »
DESCRIPTION:Ce groupe de soutien et de prévention de la dépression post-partum s’adresse aux mères qui vivent des difficultés émotionnelles et/ou une dépression post-partum. \nIl y aura aussi une rencontre en couple un samedi durant la session. \nGratuit pour les membres
URL:https://familleacoeur.qc.ca/evenement/groupe-de-soutien-leveil-en-douceur/2025-05-24/
CATEGORIES:Activités
ATTACH;FMTTYPE=image/jpeg:https://familleacoeur.qc.ca/wp-content/uploads/2025/03/hand-5961660_1280.jpg
END:VEVENT
BEGIN:VEVENT
DTSTART;TZID=America/Toronto:20250522T183000
DTEND;TZID=America/Toronto:20250522T203000
DTSTAMP:20260422T195114
CREATED:20250214T153029Z
LAST-MODIFIED:20250214T161417Z
UID:10001853-1747938600-1747945800@familleacoeur.qc.ca
SUMMARY:Préparation prénatale de groupe
DESCRIPTION:Préparation prénatale pour mieux se préparer à l’accouchement. \nPour connaître les prochaines dates de rencontres pour la session à venir\, consultez la page Facebook de Famille à Cœur ou notre calendrier.
URL:https://familleacoeur.qc.ca/evenement/preparation-prenatale-de-groupe-printemps-2-2/2025-05-22/
CATEGORIES:Services
ATTACH;FMTTYPE=image/jpeg:https://familleacoeur.qc.ca/wp-content/uploads/2021/08/rencontres-prenatales-1.jpg
END:VEVENT
BEGIN:VEVENT
DTSTART;TZID=America/Toronto:20250522T093000
DTEND;TZID=America/Toronto:20250522T113000
DTSTAMP:20260422T195114
CREATED:20250214T162638Z
LAST-MODIFIED:20250214T162800Z
UID:10001863-1747906200-1747913400@familleacoeur.qc.ca
SUMMARY:Les p’tits matins bedons poupons
DESCRIPTION:Cette activité s’adresse aux parents d’enfants de 0 (grossesse) à 2 ans. Les p’tits matins bedons poupons se déroulent de 9 h 30 à 11 h 30 à tous les jeudis. Le but est de permettre à ces parents de rencontrer d’autres parents\, afin d’échanger et d’en apprendre sur des sujets en lien direct avec leur réalité commune\, accompagnés de leur poupon. À l’occasion nous avons des invités qui viennent discuter de différents sujets tels que la nutrition (DME)\, ostéopathie\, massothérapie pour bébé\, etc. \nGratuit pour les membres.
URL:https://familleacoeur.qc.ca/evenement/les-ptits-matins-bedons-poupons-ete-2-2-2/2025-05-22/
CATEGORIES:Activités,Services
ATTACH;FMTTYPE=image/jpeg:https://familleacoeur.qc.ca/wp-content/uploads/2021/02/bedons-poupons.jpg
END:VEVENT
BEGIN:VEVENT
DTSTART;TZID=America/Toronto:20250521T093000
DTEND;TZID=America/Toronto:20250521T113000
DTSTAMP:20260422T195114
CREATED:20250214T163148Z
LAST-MODIFIED:20250214T163246Z
UID:10001874-1747819800-1747827000@familleacoeur.qc.ca
SUMMARY:Café-jasette «Les Galipettes» pour parents et enfants de 2 à 5 ans
DESCRIPTION:Pour parents et enfants âgés de 2 à 5 ans. \nPour connaître les prochaines dates de rencontres pour la session à venir\, consultez la page Facebook de Famille à Cœur ou notre calendrier.
URL:https://familleacoeur.qc.ca/evenement/cafe-jasette-les-galipettes-pour-parents-et-enfants-de-2-a-5-ans-2-2-2/2025-05-21/
CATEGORIES:Activités
ATTACH;FMTTYPE=image/jpeg:https://familleacoeur.qc.ca/wp-content/uploads/2021/02/galipettes2.jpg
END:VEVENT
BEGIN:VEVENT
DTSTART;TZID=America/Toronto:20250519T093000
DTEND;TZID=America/Toronto:20250519T113000
DTSTAMP:20260422T195114
CREATED:20250319T145544Z
LAST-MODIFIED:20250319T150052Z
UID:10001887-1747647000-1747654200@familleacoeur.qc.ca
SUMMARY:Groupe de soutien « L'Éveil en douceur »
DESCRIPTION:Ce groupe de soutien et de prévention de la dépression post-partum s’adresse aux mères qui vivent des difficultés émotionnelles et/ou une dépression post-partum. \nIl y aura aussi une rencontre en couple un samedi durant la session. \nGratuit pour les membres
URL:https://familleacoeur.qc.ca/evenement/groupe-de-soutien-leveil-en-douceur/2025-05-19/
CATEGORIES:Activités
ATTACH;FMTTYPE=image/jpeg:https://familleacoeur.qc.ca/wp-content/uploads/2025/03/hand-5961660_1280.jpg
END:VEVENT
BEGIN:VEVENT
DTSTART;TZID=America/Toronto:20250515T183000
DTEND;TZID=America/Toronto:20250515T203000
DTSTAMP:20260422T195114
CREATED:20250214T153029Z
LAST-MODIFIED:20250214T161417Z
UID:10001491-1747333800-1747341000@familleacoeur.qc.ca
SUMMARY:Préparation prénatale de groupe
DESCRIPTION:Préparation prénatale pour mieux se préparer à l’accouchement. \nPour connaître les prochaines dates de rencontres pour la session à venir\, consultez la page Facebook de Famille à Cœur ou notre calendrier.
URL:https://familleacoeur.qc.ca/evenement/preparation-prenatale-de-groupe-printemps-2-2/2025-05-15/
CATEGORIES:Services
ATTACH;FMTTYPE=image/jpeg:https://familleacoeur.qc.ca/wp-content/uploads/2021/08/rencontres-prenatales-1.jpg
END:VEVENT
BEGIN:VEVENT
DTSTART;TZID=America/Toronto:20250515T093000
DTEND;TZID=America/Toronto:20250515T113000
DTSTAMP:20260422T195114
CREATED:20250214T162638Z
LAST-MODIFIED:20250214T162800Z
UID:10001862-1747301400-1747308600@familleacoeur.qc.ca
SUMMARY:Les p’tits matins bedons poupons
DESCRIPTION:Cette activité s’adresse aux parents d’enfants de 0 (grossesse) à 2 ans. Les p’tits matins bedons poupons se déroulent de 9 h 30 à 11 h 30 à tous les jeudis. Le but est de permettre à ces parents de rencontrer d’autres parents\, afin d’échanger et d’en apprendre sur des sujets en lien direct avec leur réalité commune\, accompagnés de leur poupon. À l’occasion nous avons des invités qui viennent discuter de différents sujets tels que la nutrition (DME)\, ostéopathie\, massothérapie pour bébé\, etc. \nGratuit pour les membres.
URL:https://familleacoeur.qc.ca/evenement/les-ptits-matins-bedons-poupons-ete-2-2-2/2025-05-15/
CATEGORIES:Activités,Services
ATTACH;FMTTYPE=image/jpeg:https://familleacoeur.qc.ca/wp-content/uploads/2021/02/bedons-poupons.jpg
END:VEVENT
BEGIN:VEVENT
DTSTART;TZID=America/Toronto:20250514T093000
DTEND;TZID=America/Toronto:20250514T113000
DTSTAMP:20260422T195114
CREATED:20250214T163148Z
LAST-MODIFIED:20250214T163246Z
UID:10001873-1747215000-1747222200@familleacoeur.qc.ca
SUMMARY:Café-jasette «Les Galipettes» pour parents et enfants de 2 à 5 ans
DESCRIPTION:Pour parents et enfants âgés de 2 à 5 ans. \nPour connaître les prochaines dates de rencontres pour la session à venir\, consultez la page Facebook de Famille à Cœur ou notre calendrier.
URL:https://familleacoeur.qc.ca/evenement/cafe-jasette-les-galipettes-pour-parents-et-enfants-de-2-a-5-ans-2-2-2/2025-05-14/
CATEGORIES:Activités
ATTACH;FMTTYPE=image/jpeg:https://familleacoeur.qc.ca/wp-content/uploads/2021/02/galipettes2.jpg
END:VEVENT
BEGIN:VEVENT
DTSTART;TZID=America/Toronto:20250513T190000
DTEND;TZID=America/Toronto:20250513T210000
DTSTAMP:20260422T195114
CREATED:20250214T154913Z
LAST-MODIFIED:20250214T154913Z
UID:10001786-1747162800-1747170000@familleacoeur.qc.ca
SUMMARY:Relâche la soupape
DESCRIPTION:Nouveau \nAtelier offert aux hommes aux prises avec des émotions et croyances aux effets néfastes avec leur entourage. Famille à Cœur propose une démarche afin de rehausser et/ou consolider l’estime de soi des participants dans une perspective d’harmoniser leurs relations en général. \nUn service de garde est offert gratuitement aux participants\, sur réservation. \nPour connaître les prochaines dates\, consultez la page Facebook de Maison Oxygène Haut-Richelieu ou notre calendrier.
URL:https://familleacoeur.qc.ca/evenement/relache-de-la-soupape-2-2-2/2025-05-13/
CATEGORIES:Ateliers
ATTACH;FMTTYPE=image/jpeg:https://familleacoeur.qc.ca/wp-content/uploads/2021/02/relache-la-soupape2.jpg
END:VEVENT
BEGIN:VEVENT
DTSTART;TZID=America/Toronto:20250512T093000
DTEND;TZID=America/Toronto:20250512T113000
DTSTAMP:20260422T195114
CREATED:20250319T145544Z
LAST-MODIFIED:20250319T150052Z
UID:10001886-1747042200-1747049400@familleacoeur.qc.ca
SUMMARY:Groupe de soutien « L'Éveil en douceur »
DESCRIPTION:Ce groupe de soutien et de prévention de la dépression post-partum s’adresse aux mères qui vivent des difficultés émotionnelles et/ou une dépression post-partum. \nIl y aura aussi une rencontre en couple un samedi durant la session. \nGratuit pour les membres
URL:https://familleacoeur.qc.ca/evenement/groupe-de-soutien-leveil-en-douceur/2025-05-12/
CATEGORIES:Activités
ATTACH;FMTTYPE=image/jpeg:https://familleacoeur.qc.ca/wp-content/uploads/2025/03/hand-5961660_1280.jpg
END:VEVENT
BEGIN:VEVENT
DTSTART;TZID=America/Toronto:20250508T093000
DTEND;TZID=America/Toronto:20250508T113000
DTSTAMP:20260422T195114
CREATED:20250214T162638Z
LAST-MODIFIED:20250214T162800Z
UID:10001861-1746696600-1746703800@familleacoeur.qc.ca
SUMMARY:Les p’tits matins bedons poupons
DESCRIPTION:Cette activité s’adresse aux parents d’enfants de 0 (grossesse) à 2 ans. Les p’tits matins bedons poupons se déroulent de 9 h 30 à 11 h 30 à tous les jeudis. Le but est de permettre à ces parents de rencontrer d’autres parents\, afin d’échanger et d’en apprendre sur des sujets en lien direct avec leur réalité commune\, accompagnés de leur poupon. À l’occasion nous avons des invités qui viennent discuter de différents sujets tels que la nutrition (DME)\, ostéopathie\, massothérapie pour bébé\, etc. \nGratuit pour les membres.
URL:https://familleacoeur.qc.ca/evenement/les-ptits-matins-bedons-poupons-ete-2-2-2/2025-05-08/
CATEGORIES:Activités,Services
ATTACH;FMTTYPE=image/jpeg:https://familleacoeur.qc.ca/wp-content/uploads/2021/02/bedons-poupons.jpg
END:VEVENT
BEGIN:VEVENT
DTSTART;TZID=America/Toronto:20250507T093000
DTEND;TZID=America/Toronto:20250507T113000
DTSTAMP:20260422T195114
CREATED:20250214T163148Z
LAST-MODIFIED:20250214T163246Z
UID:10001872-1746610200-1746617400@familleacoeur.qc.ca
SUMMARY:Café-jasette «Les Galipettes» pour parents et enfants de 2 à 5 ans
DESCRIPTION:Pour parents et enfants âgés de 2 à 5 ans. \nPour connaître les prochaines dates de rencontres pour la session à venir\, consultez la page Facebook de Famille à Cœur ou notre calendrier.
URL:https://familleacoeur.qc.ca/evenement/cafe-jasette-les-galipettes-pour-parents-et-enfants-de-2-a-5-ans-2-2-2/2025-05-07/
CATEGORIES:Activités
ATTACH;FMTTYPE=image/jpeg:https://familleacoeur.qc.ca/wp-content/uploads/2021/02/galipettes2.jpg
END:VEVENT
BEGIN:VEVENT
DTSTART;TZID=America/Toronto:20250506T190000
DTEND;TZID=America/Toronto:20250506T210000
DTSTAMP:20260422T195114
CREATED:20250214T154913Z
LAST-MODIFIED:20250214T154913Z
UID:10001291-1746558000-1746565200@familleacoeur.qc.ca
SUMMARY:Relâche la soupape
DESCRIPTION:Nouveau \nAtelier offert aux hommes aux prises avec des émotions et croyances aux effets néfastes avec leur entourage. Famille à Cœur propose une démarche afin de rehausser et/ou consolider l’estime de soi des participants dans une perspective d’harmoniser leurs relations en général. \nUn service de garde est offert gratuitement aux participants\, sur réservation. \nPour connaître les prochaines dates\, consultez la page Facebook de Maison Oxygène Haut-Richelieu ou notre calendrier.
URL:https://familleacoeur.qc.ca/evenement/relache-de-la-soupape-2-2-2/2025-05-06/
CATEGORIES:Ateliers
ATTACH;FMTTYPE=image/jpeg:https://familleacoeur.qc.ca/wp-content/uploads/2021/02/relache-la-soupape2.jpg
END:VEVENT
BEGIN:VEVENT
DTSTART;TZID=America/Toronto:20250505T093000
DTEND;TZID=America/Toronto:20250505T113000
DTSTAMP:20260422T195114
CREATED:20250319T145544Z
LAST-MODIFIED:20250319T150052Z
UID:10001885-1746437400-1746444600@familleacoeur.qc.ca
SUMMARY:Groupe de soutien « L'Éveil en douceur »
DESCRIPTION:Ce groupe de soutien et de prévention de la dépression post-partum s’adresse aux mères qui vivent des difficultés émotionnelles et/ou une dépression post-partum. \nIl y aura aussi une rencontre en couple un samedi durant la session. \nGratuit pour les membres
URL:https://familleacoeur.qc.ca/evenement/groupe-de-soutien-leveil-en-douceur/2025-05-05/
CATEGORIES:Activités
ATTACH;FMTTYPE=image/jpeg:https://familleacoeur.qc.ca/wp-content/uploads/2025/03/hand-5961660_1280.jpg
END:VEVENT
BEGIN:VEVENT
DTSTART;TZID=America/Toronto:20250501T093000
DTEND;TZID=America/Toronto:20250501T113000
DTSTAMP:20260422T195114
CREATED:20250214T162638Z
LAST-MODIFIED:20250214T162800Z
UID:10001860-1746091800-1746099000@familleacoeur.qc.ca
SUMMARY:Les p’tits matins bedons poupons
DESCRIPTION:Cette activité s’adresse aux parents d’enfants de 0 (grossesse) à 2 ans. Les p’tits matins bedons poupons se déroulent de 9 h 30 à 11 h 30 à tous les jeudis. Le but est de permettre à ces parents de rencontrer d’autres parents\, afin d’échanger et d’en apprendre sur des sujets en lien direct avec leur réalité commune\, accompagnés de leur poupon. À l’occasion nous avons des invités qui viennent discuter de différents sujets tels que la nutrition (DME)\, ostéopathie\, massothérapie pour bébé\, etc. \nGratuit pour les membres.
URL:https://familleacoeur.qc.ca/evenement/les-ptits-matins-bedons-poupons-ete-2-2-2/2025-05-01/
CATEGORIES:Activités,Services
ATTACH;FMTTYPE=image/jpeg:https://familleacoeur.qc.ca/wp-content/uploads/2021/02/bedons-poupons.jpg
END:VEVENT
BEGIN:VEVENT
DTSTART;TZID=America/Toronto:20250430T180000
DTEND;TZID=America/Toronto:20250430T200000
DTSTAMP:20260422T195114
CREATED:20250228T164245Z
LAST-MODIFIED:20250228T165134Z
UID:10001878-1746036000-1746043200@familleacoeur.qc.ca
SUMMARY:Parenthèse détente - Zumba et mocktail
DESCRIPTION:Parenthèse détente du 30 avril 2025 : Zumba et mocktail \nUne belle occasion de se rencontrer et de bouger ensemble ! \nPour les parents seulement.  \nDe 18h à 20h  \nAppelez rapidement pour réserver vos places à la halte-garderie
URL:https://familleacoeur.qc.ca/evenement/parenthese-detente-zumba-et-mocktail/
CATEGORIES:Activités
ATTACH;FMTTYPE=image/jpeg:https://familleacoeur.qc.ca/wp-content/uploads/2025/02/post-atelier--e1740761489178.jpg
END:VEVENT
BEGIN:VEVENT
DTSTART;TZID=America/Toronto:20250430T093000
DTEND;TZID=America/Toronto:20250430T113000
DTSTAMP:20260422T195114
CREATED:20250214T163148Z
LAST-MODIFIED:20250214T163246Z
UID:10001871-1746005400-1746012600@familleacoeur.qc.ca
SUMMARY:Café-jasette «Les Galipettes» pour parents et enfants de 2 à 5 ans
DESCRIPTION:Pour parents et enfants âgés de 2 à 5 ans. \nPour connaître les prochaines dates de rencontres pour la session à venir\, consultez la page Facebook de Famille à Cœur ou notre calendrier.
URL:https://familleacoeur.qc.ca/evenement/cafe-jasette-les-galipettes-pour-parents-et-enfants-de-2-a-5-ans-2-2-2/2025-04-30/
CATEGORIES:Activités
ATTACH;FMTTYPE=image/jpeg:https://familleacoeur.qc.ca/wp-content/uploads/2021/02/galipettes2.jpg
END:VEVENT
BEGIN:VEVENT
DTSTART;TZID=America/Toronto:20250428T093000
DTEND;TZID=America/Toronto:20250428T113000
DTSTAMP:20260422T195114
CREATED:20250319T145544Z
LAST-MODIFIED:20250319T150052Z
UID:10001884-1745832600-1745839800@familleacoeur.qc.ca
SUMMARY:Groupe de soutien « L'Éveil en douceur »
DESCRIPTION:Ce groupe de soutien et de prévention de la dépression post-partum s’adresse aux mères qui vivent des difficultés émotionnelles et/ou une dépression post-partum. \nIl y aura aussi une rencontre en couple un samedi durant la session. \nGratuit pour les membres
URL:https://familleacoeur.qc.ca/evenement/groupe-de-soutien-leveil-en-douceur/2025-04-28/
CATEGORIES:Activités
ATTACH;FMTTYPE=image/jpeg:https://familleacoeur.qc.ca/wp-content/uploads/2025/03/hand-5961660_1280.jpg
END:VEVENT
BEGIN:VEVENT
DTSTART;TZID=America/Toronto:20250424T093000
DTEND;TZID=America/Toronto:20250424T113000
DTSTAMP:20260422T195114
CREATED:20250214T162638Z
LAST-MODIFIED:20250214T162800Z
UID:10001859-1745487000-1745494200@familleacoeur.qc.ca
SUMMARY:Les p’tits matins bedons poupons
DESCRIPTION:Cette activité s’adresse aux parents d’enfants de 0 (grossesse) à 2 ans. Les p’tits matins bedons poupons se déroulent de 9 h 30 à 11 h 30 à tous les jeudis. Le but est de permettre à ces parents de rencontrer d’autres parents\, afin d’échanger et d’en apprendre sur des sujets en lien direct avec leur réalité commune\, accompagnés de leur poupon. À l’occasion nous avons des invités qui viennent discuter de différents sujets tels que la nutrition (DME)\, ostéopathie\, massothérapie pour bébé\, etc. \nGratuit pour les membres.
URL:https://familleacoeur.qc.ca/evenement/les-ptits-matins-bedons-poupons-ete-2-2-2/2025-04-24/
CATEGORIES:Activités,Services
ATTACH;FMTTYPE=image/jpeg:https://familleacoeur.qc.ca/wp-content/uploads/2021/02/bedons-poupons.jpg
END:VEVENT
BEGIN:VEVENT
DTSTART;TZID=America/Toronto:20250423T093000
DTEND;TZID=America/Toronto:20250423T113000
DTSTAMP:20260422T195114
CREATED:20250214T163148Z
LAST-MODIFIED:20250214T163246Z
UID:10001870-1745400600-1745407800@familleacoeur.qc.ca
SUMMARY:Café-jasette «Les Galipettes» pour parents et enfants de 2 à 5 ans
DESCRIPTION:Pour parents et enfants âgés de 2 à 5 ans. \nPour connaître les prochaines dates de rencontres pour la session à venir\, consultez la page Facebook de Famille à Cœur ou notre calendrier.
URL:https://familleacoeur.qc.ca/evenement/cafe-jasette-les-galipettes-pour-parents-et-enfants-de-2-a-5-ans-2-2-2/2025-04-23/
CATEGORIES:Activités
ATTACH;FMTTYPE=image/jpeg:https://familleacoeur.qc.ca/wp-content/uploads/2021/02/galipettes2.jpg
END:VEVENT
BEGIN:VEVENT
DTSTART;TZID=America/Toronto:20250421T093000
DTEND;TZID=America/Toronto:20250421T113000
DTSTAMP:20260422T195114
CREATED:20250319T145544Z
LAST-MODIFIED:20250319T150052Z
UID:10001883-1745227800-1745235000@familleacoeur.qc.ca
SUMMARY:Groupe de soutien « L'Éveil en douceur »
DESCRIPTION:Ce groupe de soutien et de prévention de la dépression post-partum s’adresse aux mères qui vivent des difficultés émotionnelles et/ou une dépression post-partum. \nIl y aura aussi une rencontre en couple un samedi durant la session. \nGratuit pour les membres
URL:https://familleacoeur.qc.ca/evenement/groupe-de-soutien-leveil-en-douceur/2025-04-21/
CATEGORIES:Activités
ATTACH;FMTTYPE=image/jpeg:https://familleacoeur.qc.ca/wp-content/uploads/2025/03/hand-5961660_1280.jpg
END:VEVENT
BEGIN:VEVENT
DTSTART;TZID=America/Toronto:20250417T093000
DTEND;TZID=America/Toronto:20250417T113000
DTSTAMP:20260422T195114
CREATED:20250214T162638Z
LAST-MODIFIED:20250214T162800Z
UID:10001858-1744882200-1744889400@familleacoeur.qc.ca
SUMMARY:Les p’tits matins bedons poupons
DESCRIPTION:Cette activité s’adresse aux parents d’enfants de 0 (grossesse) à 2 ans. Les p’tits matins bedons poupons se déroulent de 9 h 30 à 11 h 30 à tous les jeudis. Le but est de permettre à ces parents de rencontrer d’autres parents\, afin d’échanger et d’en apprendre sur des sujets en lien direct avec leur réalité commune\, accompagnés de leur poupon. À l’occasion nous avons des invités qui viennent discuter de différents sujets tels que la nutrition (DME)\, ostéopathie\, massothérapie pour bébé\, etc. \nGratuit pour les membres.
URL:https://familleacoeur.qc.ca/evenement/les-ptits-matins-bedons-poupons-ete-2-2-2/2025-04-17/
CATEGORIES:Activités,Services
ATTACH;FMTTYPE=image/jpeg:https://familleacoeur.qc.ca/wp-content/uploads/2021/02/bedons-poupons.jpg
END:VEVENT
BEGIN:VEVENT
DTSTART;TZID=America/Toronto:20250416T093000
DTEND;TZID=America/Toronto:20250416T113000
DTSTAMP:20260422T195114
CREATED:20250214T163148Z
LAST-MODIFIED:20250214T163246Z
UID:10001869-1744795800-1744803000@familleacoeur.qc.ca
SUMMARY:Café-jasette «Les Galipettes» pour parents et enfants de 2 à 5 ans
DESCRIPTION:Pour parents et enfants âgés de 2 à 5 ans. \nPour connaître les prochaines dates de rencontres pour la session à venir\, consultez la page Facebook de Famille à Cœur ou notre calendrier.
URL:https://familleacoeur.qc.ca/evenement/cafe-jasette-les-galipettes-pour-parents-et-enfants-de-2-a-5-ans-2-2-2/2025-04-16/
CATEGORIES:Activités
ATTACH;FMTTYPE=image/jpeg:https://familleacoeur.qc.ca/wp-content/uploads/2021/02/galipettes2.jpg
END:VEVENT
BEGIN:VEVENT
DTSTART;TZID=America/Toronto:20250415T190000
DTEND;TZID=America/Toronto:20250415T210000
DTSTAMP:20260422T195114
CREATED:20250214T151427Z
LAST-MODIFIED:20250214T161127Z
UID:10001851-1744743600-1744750800@familleacoeur.qc.ca
SUMMARY:Coéquipiers père-mère - automne
DESCRIPTION:Cet atelier s’adresse à tous les parents qui désirent échanger sur l’importance de faire équipe pour leurs enfants\, ainsi que de prendre conscience de ce qu’ils vivent comme parents\, qu’ils soient en couple ou séparés\, dans le respect de la place de chacun.
URL:https://familleacoeur.qc.ca/evenement/coequipiers-pere-mere-2/2025-04-15/
CATEGORIES:Ateliers
ATTACH;FMTTYPE=image/jpeg:https://familleacoeur.qc.ca/wp-content/uploads/2021/01/apropos-titre.jpg
END:VEVENT
BEGIN:VEVENT
DTSTART;TZID=America/Toronto:20250414T093000
DTEND;TZID=America/Toronto:20250414T113000
DTSTAMP:20260422T195114
CREATED:20250319T145544Z
LAST-MODIFIED:20250319T150052Z
UID:10001882-1744623000-1744630200@familleacoeur.qc.ca
SUMMARY:Groupe de soutien « L'Éveil en douceur »
DESCRIPTION:Ce groupe de soutien et de prévention de la dépression post-partum s’adresse aux mères qui vivent des difficultés émotionnelles et/ou une dépression post-partum. \nIl y aura aussi une rencontre en couple un samedi durant la session. \nGratuit pour les membres
URL:https://familleacoeur.qc.ca/evenement/groupe-de-soutien-leveil-en-douceur/2025-04-14/
CATEGORIES:Activités
ATTACH;FMTTYPE=image/jpeg:https://familleacoeur.qc.ca/wp-content/uploads/2025/03/hand-5961660_1280.jpg
END:VEVENT
BEGIN:VEVENT
DTSTART;TZID=America/Toronto:20250410T093000
DTEND;TZID=America/Toronto:20250410T113000
DTSTAMP:20260422T195114
CREATED:20250214T162638Z
LAST-MODIFIED:20250214T162800Z
UID:10001410-1744277400-1744284600@familleacoeur.qc.ca
SUMMARY:Les p’tits matins bedons poupons
DESCRIPTION:Cette activité s’adresse aux parents d’enfants de 0 (grossesse) à 2 ans. Les p’tits matins bedons poupons se déroulent de 9 h 30 à 11 h 30 à tous les jeudis. Le but est de permettre à ces parents de rencontrer d’autres parents\, afin d’échanger et d’en apprendre sur des sujets en lien direct avec leur réalité commune\, accompagnés de leur poupon. À l’occasion nous avons des invités qui viennent discuter de différents sujets tels que la nutrition (DME)\, ostéopathie\, massothérapie pour bébé\, etc. \nGratuit pour les membres.
URL:https://familleacoeur.qc.ca/evenement/les-ptits-matins-bedons-poupons-ete-2-2-2/2025-04-10/
CATEGORIES:Activités,Services
ATTACH;FMTTYPE=image/jpeg:https://familleacoeur.qc.ca/wp-content/uploads/2021/02/bedons-poupons.jpg
END:VEVENT
END:VCALENDAR