BEGIN:VCALENDAR
VERSION:2.0
PRODID:-//Famille à Coeur - ECPv6.2.2//NONSGML v1.0//EN
CALSCALE:GREGORIAN
METHOD:PUBLISH
X-WR-CALNAME:Famille à Coeur
X-ORIGINAL-URL:https://familleacoeur.qc.ca
X-WR-CALDESC:évènements pour Famille à Coeur
REFRESH-INTERVAL;VALUE=DURATION:PT1H
X-Robots-Tag:noindex
X-PUBLISHED-TTL:PT1H
BEGIN:VTIMEZONE
TZID:America/Toronto
BEGIN:DAYLIGHT
TZOFFSETFROM:-0500
TZOFFSETTO:-0400
TZNAME:EDT
DTSTART:20240310T070000
END:DAYLIGHT
BEGIN:STANDARD
TZOFFSETFROM:-0400
TZOFFSETTO:-0500
TZNAME:EST
DTSTART:20241103T060000
END:STANDARD
BEGIN:DAYLIGHT
TZOFFSETFROM:-0500
TZOFFSETTO:-0400
TZNAME:EDT
DTSTART:20250309T070000
END:DAYLIGHT
BEGIN:STANDARD
TZOFFSETFROM:-0400
TZOFFSETTO:-0500
TZNAME:EST
DTSTART:20251102T060000
END:STANDARD
END:VTIMEZONE
BEGIN:VEVENT
DTSTART;TZID=America/Toronto:20250201T153000
DTEND;TZID=America/Toronto:20250201T203000
DTSTAMP:20260423T054012
CREATED:20241114T184205Z
LAST-MODIFIED:20241114T184343Z
UID:10001642-1738423800-1738441800@familleacoeur.qc.ca
SUMMARY:Samedi d'sortir (pour enfants 0-12 ans)
DESCRIPTION:Besoin d’un répit ? D’une sortie ? \nNous offrons un service de répit\, les samedis\, de 15 h 30 à 20 h 30 pour les enfants de 0-12 ans\, afin que les parents profitent d’une belle soirée\, le temps d’une p’tite sortie ! \nAu menu de la soirée\, jeux extérieurs\, bricolages\, jeux actifs\, jeux calmes et film.
URL:https://familleacoeur.qc.ca/evenement/samedi-dsortir-pour-enfants-0-12-ans/2025-02-01/
CATEGORIES:Services
ATTACH;FMTTYPE=image/jpeg:https://familleacoeur.qc.ca/wp-content/uploads/2021/02/samedi-repit.jpg
END:VEVENT
BEGIN:VEVENT
DTSTART;TZID=America/Toronto:20250130T093000
DTEND;TZID=America/Toronto:20250130T113000
DTSTAMP:20260423T054012
CREATED:20241114T182645Z
LAST-MODIFIED:20241114T182732Z
UID:10001599-1738229400-1738236600@familleacoeur.qc.ca
SUMMARY:Les p’tits matins bedons poupons
DESCRIPTION:Cette activité s’adresse aux parents d’enfants de 0 (grossesse) à 2 ans. Les p’tits matins bedons poupons se déroulent de 9 h 30 à 11 h 30 à tous les jeudis. Le but est de permettre à ces parents de rencontrer d’autres parents\, afin d’échanger et d’en apprendre sur des sujets en lien direct avec leur réalité commune\, accompagnés de leur poupon. À l’occasion nous avons des invités qui viennent discuter de différents sujets tels que la nutrition (DME)\, ostéopathie\, massothérapie pour bébé\, etc. \nGratuit pour les membres.
URL:https://familleacoeur.qc.ca/evenement/les-ptits-matins-bedons-poupons-ete-2-3/2025-01-30/
CATEGORIES:Activités,Services
ATTACH;FMTTYPE=image/jpeg:https://familleacoeur.qc.ca/wp-content/uploads/2021/02/bedons-poupons.jpg
END:VEVENT
BEGIN:VEVENT
DTSTART;TZID=America/Toronto:20250129T190000
DTEND;TZID=America/Toronto:20250129T210000
DTSTAMP:20260423T054012
CREATED:20230616T131357Z
LAST-MODIFIED:20241114T185416Z
UID:10001654-1738177200-1738184400@familleacoeur.qc.ca
SUMMARY:Soirées de pères (mercredi)
DESCRIPTION:Groupe de soutien et discussions entre pères sur le sujet de la paternité. \nGratuit pour les membres \nUn service de garde est offert gratuitement aux participants\, sur réservation. \nPour connaître les prochaines dates\, consultez la page Facebook de Maison Oxygène Haut-Richelieu ou notre calendrier.
URL:https://familleacoeur.qc.ca/evenement/soirees-de-peres-6/2025-01-29/
CATEGORIES:Activités
ATTACH;FMTTYPE=image/jpeg:https://familleacoeur.qc.ca/wp-content/uploads/2021/02/father-son-walking-field-sunset-time-boy-sitting-mans-shoulders-scaled-e1612372286721.jpg
END:VEVENT
BEGIN:VEVENT
DTSTART;TZID=America/Toronto:20250129T180000
DTEND;TZID=America/Toronto:20250129T200000
DTSTAMP:20260423T054012
CREATED:20241119T175708Z
LAST-MODIFIED:20250114T185125Z
UID:10001658-1738173600-1738180800@familleacoeur.qc.ca
SUMMARY:Parenthèse détente - Soirée jeux de société
DESCRIPTION:Parenthèse détente du 29 janvier 2025 : Soirée jeux de société  \nUne belle occasion de venir faire de nouvelles rencontres autour de jeux de société.  \nPour les parents seulement.  \nDe 18h à 20h  \nAppelez rapidement pour réserver vos places à la halte-garderie
URL:https://familleacoeur.qc.ca/evenement/parenthese-detente-soiree-jeux-de-societe/
CATEGORIES:Activités
ATTACH;FMTTYPE=image/jpeg:https://familleacoeur.qc.ca/wp-content/uploads/2024/11/board-761586_1280.jpg
END:VEVENT
BEGIN:VEVENT
DTSTART;TZID=America/Toronto:20250129T093000
DTEND;TZID=America/Toronto:20250129T113000
DTSTAMP:20260423T054012
CREATED:20241114T183136Z
LAST-MODIFIED:20241114T183231Z
UID:10001608-1738143000-1738150200@familleacoeur.qc.ca
SUMMARY:Café-jasette «Les Galipettes» pour parents et enfants de 2 à 5 ans
DESCRIPTION:Pour parents et enfants âgés de 2 à 5 ans. \nPour connaître les prochaines dates de rencontres pour la session à venir\, consultez la page Facebook de Famille à Cœur ou notre calendrier.
URL:https://familleacoeur.qc.ca/evenement/cafe-jasette-les-galipettes-pour-parents-et-enfants-de-2-a-5-ans-2-3/2025-01-29/
CATEGORIES:Activités
ATTACH;FMTTYPE=image/jpeg:https://familleacoeur.qc.ca/wp-content/uploads/2021/02/galipettes2.jpg
END:VEVENT
BEGIN:VEVENT
DTSTART;TZID=America/Toronto:20250126T100000
DTEND;TZID=America/Toronto:20250126T160000
DTSTAMP:20260423T054012
CREATED:20241114T183859Z
LAST-MODIFIED:20241114T183917Z
UID:10001630-1737885600-1737907200@familleacoeur.qc.ca
SUMMARY:Dimanche détente
DESCRIPTION:Besoin d’un répit ? D’une sortie ? \nNous offrons un service de répit\, les dimanches\, de 10h à 16h pour les enfants de 0-12 ans\, afin que les parents profitent d’un moment entre eux ! \nAu menu pour les enfants : jeux extérieurs\, bricolages\, jeux actifs\, jeux calmes et film.
URL:https://familleacoeur.qc.ca/evenement/dimanche-detente/2025-01-26/
CATEGORIES:Services
ATTACH;FMTTYPE=image/jpeg:https://familleacoeur.qc.ca/wp-content/uploads/2023/10/pexels-ksenia-chernaya-8535230-scaled.jpg
END:VEVENT
BEGIN:VEVENT
DTSTART;TZID=America/Toronto:20250125T153000
DTEND;TZID=America/Toronto:20250125T203000
DTSTAMP:20260423T054012
CREATED:20241114T184205Z
LAST-MODIFIED:20241114T184343Z
UID:10001641-1737819000-1737837000@familleacoeur.qc.ca
SUMMARY:Samedi d'sortir (pour enfants 0-12 ans)
DESCRIPTION:Besoin d’un répit ? D’une sortie ? \nNous offrons un service de répit\, les samedis\, de 15 h 30 à 20 h 30 pour les enfants de 0-12 ans\, afin que les parents profitent d’une belle soirée\, le temps d’une p’tite sortie ! \nAu menu de la soirée\, jeux extérieurs\, bricolages\, jeux actifs\, jeux calmes et film.
URL:https://familleacoeur.qc.ca/evenement/samedi-dsortir-pour-enfants-0-12-ans/2025-01-25/
CATEGORIES:Services
ATTACH;FMTTYPE=image/jpeg:https://familleacoeur.qc.ca/wp-content/uploads/2021/02/samedi-repit.jpg
END:VEVENT
BEGIN:VEVENT
DTSTART;TZID=America/Toronto:20250123T093000
DTEND;TZID=America/Toronto:20250123T113000
DTSTAMP:20260423T054012
CREATED:20241114T182645Z
LAST-MODIFIED:20241114T182732Z
UID:10001598-1737624600-1737631800@familleacoeur.qc.ca
SUMMARY:Les p’tits matins bedons poupons
DESCRIPTION:Cette activité s’adresse aux parents d’enfants de 0 (grossesse) à 2 ans. Les p’tits matins bedons poupons se déroulent de 9 h 30 à 11 h 30 à tous les jeudis. Le but est de permettre à ces parents de rencontrer d’autres parents\, afin d’échanger et d’en apprendre sur des sujets en lien direct avec leur réalité commune\, accompagnés de leur poupon. À l’occasion nous avons des invités qui viennent discuter de différents sujets tels que la nutrition (DME)\, ostéopathie\, massothérapie pour bébé\, etc. \nGratuit pour les membres.
URL:https://familleacoeur.qc.ca/evenement/les-ptits-matins-bedons-poupons-ete-2-3/2025-01-23/
CATEGORIES:Activités,Services
ATTACH;FMTTYPE=image/jpeg:https://familleacoeur.qc.ca/wp-content/uploads/2021/02/bedons-poupons.jpg
END:VEVENT
BEGIN:VEVENT
DTSTART;TZID=America/Toronto:20250122T093000
DTEND;TZID=America/Toronto:20250122T113000
DTSTAMP:20260423T054012
CREATED:20241114T183136Z
LAST-MODIFIED:20241114T183231Z
UID:10000960-1737538200-1737545400@familleacoeur.qc.ca
SUMMARY:Café-jasette «Les Galipettes» pour parents et enfants de 2 à 5 ans
DESCRIPTION:Pour parents et enfants âgés de 2 à 5 ans. \nPour connaître les prochaines dates de rencontres pour la session à venir\, consultez la page Facebook de Famille à Cœur ou notre calendrier.
URL:https://familleacoeur.qc.ca/evenement/cafe-jasette-les-galipettes-pour-parents-et-enfants-de-2-a-5-ans-2-3/2025-01-22/
CATEGORIES:Activités
ATTACH;FMTTYPE=image/jpeg:https://familleacoeur.qc.ca/wp-content/uploads/2021/02/galipettes2.jpg
END:VEVENT
BEGIN:VEVENT
DTSTART;TZID=America/Toronto:20250119T100000
DTEND;TZID=America/Toronto:20250119T160000
DTSTAMP:20260423T054012
CREATED:20241114T183859Z
LAST-MODIFIED:20241114T183917Z
UID:10001629-1737280800-1737302400@familleacoeur.qc.ca
SUMMARY:Dimanche détente
DESCRIPTION:Besoin d’un répit ? D’une sortie ? \nNous offrons un service de répit\, les dimanches\, de 10h à 16h pour les enfants de 0-12 ans\, afin que les parents profitent d’un moment entre eux ! \nAu menu pour les enfants : jeux extérieurs\, bricolages\, jeux actifs\, jeux calmes et film.
URL:https://familleacoeur.qc.ca/evenement/dimanche-detente/2025-01-19/
CATEGORIES:Services
ATTACH;FMTTYPE=image/jpeg:https://familleacoeur.qc.ca/wp-content/uploads/2023/10/pexels-ksenia-chernaya-8535230-scaled.jpg
END:VEVENT
BEGIN:VEVENT
DTSTART;TZID=America/Toronto:20250118T153000
DTEND;TZID=America/Toronto:20250118T203000
DTSTAMP:20260423T054012
CREATED:20241114T184205Z
LAST-MODIFIED:20241114T184343Z
UID:10001640-1737214200-1737232200@familleacoeur.qc.ca
SUMMARY:Samedi d'sortir (pour enfants 0-12 ans)
DESCRIPTION:Besoin d’un répit ? D’une sortie ? \nNous offrons un service de répit\, les samedis\, de 15 h 30 à 20 h 30 pour les enfants de 0-12 ans\, afin que les parents profitent d’une belle soirée\, le temps d’une p’tite sortie ! \nAu menu de la soirée\, jeux extérieurs\, bricolages\, jeux actifs\, jeux calmes et film.
URL:https://familleacoeur.qc.ca/evenement/samedi-dsortir-pour-enfants-0-12-ans/2025-01-18/
CATEGORIES:Services
ATTACH;FMTTYPE=image/jpeg:https://familleacoeur.qc.ca/wp-content/uploads/2021/02/samedi-repit.jpg
END:VEVENT
BEGIN:VEVENT
DTSTART;TZID=America/Toronto:20250116T093000
DTEND;TZID=America/Toronto:20250116T113000
DTSTAMP:20260423T054012
CREATED:20241114T182645Z
LAST-MODIFIED:20241114T182732Z
UID:10000857-1737019800-1737027000@familleacoeur.qc.ca
SUMMARY:Les p’tits matins bedons poupons
DESCRIPTION:Cette activité s’adresse aux parents d’enfants de 0 (grossesse) à 2 ans. Les p’tits matins bedons poupons se déroulent de 9 h 30 à 11 h 30 à tous les jeudis. Le but est de permettre à ces parents de rencontrer d’autres parents\, afin d’échanger et d’en apprendre sur des sujets en lien direct avec leur réalité commune\, accompagnés de leur poupon. À l’occasion nous avons des invités qui viennent discuter de différents sujets tels que la nutrition (DME)\, ostéopathie\, massothérapie pour bébé\, etc. \nGratuit pour les membres.
URL:https://familleacoeur.qc.ca/evenement/les-ptits-matins-bedons-poupons-ete-2-3/2025-01-16/
CATEGORIES:Activités,Services
ATTACH;FMTTYPE=image/jpeg:https://familleacoeur.qc.ca/wp-content/uploads/2021/02/bedons-poupons.jpg
END:VEVENT
BEGIN:VEVENT
DTSTART;TZID=America/Toronto:20250112T100000
DTEND;TZID=America/Toronto:20250112T160000
DTSTAMP:20260423T054012
CREATED:20241114T183859Z
LAST-MODIFIED:20241114T183917Z
UID:10001625-1736676000-1736697600@familleacoeur.qc.ca
SUMMARY:Dimanche détente
DESCRIPTION:Besoin d’un répit ? D’une sortie ? \nNous offrons un service de répit\, les dimanches\, de 10h à 16h pour les enfants de 0-12 ans\, afin que les parents profitent d’un moment entre eux ! \nAu menu pour les enfants : jeux extérieurs\, bricolages\, jeux actifs\, jeux calmes et film.
URL:https://familleacoeur.qc.ca/evenement/dimanche-detente/2025-01-12/
CATEGORIES:Services
ATTACH;FMTTYPE=image/jpeg:https://familleacoeur.qc.ca/wp-content/uploads/2023/10/pexels-ksenia-chernaya-8535230-scaled.jpg
END:VEVENT
BEGIN:VEVENT
DTSTART;TZID=America/Toronto:20250111T153000
DTEND;TZID=America/Toronto:20250111T203000
DTSTAMP:20260423T054012
CREATED:20241114T184205Z
LAST-MODIFIED:20241114T184343Z
UID:10001543-1736609400-1736627400@familleacoeur.qc.ca
SUMMARY:Samedi d'sortir (pour enfants 0-12 ans)
DESCRIPTION:Besoin d’un répit ? D’une sortie ? \nNous offrons un service de répit\, les samedis\, de 15 h 30 à 20 h 30 pour les enfants de 0-12 ans\, afin que les parents profitent d’une belle soirée\, le temps d’une p’tite sortie ! \nAu menu de la soirée\, jeux extérieurs\, bricolages\, jeux actifs\, jeux calmes et film.
URL:https://familleacoeur.qc.ca/evenement/samedi-dsortir-pour-enfants-0-12-ans/2025-01-11/
CATEGORIES:Services
ATTACH;FMTTYPE=image/jpeg:https://familleacoeur.qc.ca/wp-content/uploads/2021/02/samedi-repit.jpg
END:VEVENT
BEGIN:VEVENT
DTSTART;TZID=America/Toronto:20241214T153000
DTEND;TZID=America/Toronto:20241214T203000
DTSTAMP:20260423T054012
CREATED:20240912T133946Z
LAST-MODIFIED:20241114T163808Z
UID:10001509-1734190200-1734208200@familleacoeur.qc.ca
SUMMARY:Samedi d'sortir
DESCRIPTION:Besoin d’un répit ? D’une sortie ? \nNous offrons un service de répit\, les samedis\, de 15 h 30 à 20 h 30 pour les enfants de 0-12 ans\, afin que les parents profitent d’une belle soirée\, le temps d’une p’tite sortie ! \nAu menu de la soirée\, jeux extérieurs\, bricolages\, jeux actifs\, jeux calmes et film.
URL:https://familleacoeur.qc.ca/evenement/samedi-dsortir-pour-enfants-0-12-ans-2-2/2024-12-14/
CATEGORIES:Services
ATTACH;FMTTYPE=image/jpeg:https://familleacoeur.qc.ca/wp-content/uploads/2021/02/samedi-repit.jpg
END:VEVENT
BEGIN:VEVENT
DTSTART;TZID=America/Toronto:20241208T100000
DTEND;TZID=America/Toronto:20241208T160000
DTSTAMP:20260423T054012
CREATED:20240912T164555Z
LAST-MODIFIED:20241114T164151Z
UID:10001521-1733652000-1733673600@familleacoeur.qc.ca
SUMMARY:Dimanche détente
DESCRIPTION:Besoin d’un répit ? D’une sortie ? \nNous offrons un service de répit\, les dimanches\, de 10h à 16h pour les enfants de 0-12 ans\, afin que les parents profitent d’un moment entre eux ! \nAu menu pour les enfants : jeux extérieurs\, bricolages\, jeux actifs\, jeux calmes et film.
URL:https://familleacoeur.qc.ca/evenement/repit-du-dimanche/2024-12-08/
CATEGORIES:Services
ATTACH;FMTTYPE=image/jpeg:https://familleacoeur.qc.ca/wp-content/uploads/2023/10/pexels-ksenia-chernaya-8535230-scaled.jpg
END:VEVENT
BEGIN:VEVENT
DTSTART;TZID=America/Toronto:20241207T153000
DTEND;TZID=America/Toronto:20241207T203000
DTSTAMP:20260423T054012
CREATED:20240912T133946Z
LAST-MODIFIED:20241114T163808Z
UID:10001508-1733585400-1733603400@familleacoeur.qc.ca
SUMMARY:Samedi d'sortir
DESCRIPTION:Besoin d’un répit ? D’une sortie ? \nNous offrons un service de répit\, les samedis\, de 15 h 30 à 20 h 30 pour les enfants de 0-12 ans\, afin que les parents profitent d’une belle soirée\, le temps d’une p’tite sortie ! \nAu menu de la soirée\, jeux extérieurs\, bricolages\, jeux actifs\, jeux calmes et film.
URL:https://familleacoeur.qc.ca/evenement/samedi-dsortir-pour-enfants-0-12-ans-2-2/2024-12-07/
CATEGORIES:Services
ATTACH;FMTTYPE=image/jpeg:https://familleacoeur.qc.ca/wp-content/uploads/2021/02/samedi-repit.jpg
END:VEVENT
BEGIN:VEVENT
DTSTART;TZID=America/Toronto:20241206T133000
DTEND;TZID=America/Toronto:20241206T160000
DTSTAMP:20260423T054012
CREATED:20240925T175646Z
LAST-MODIFIED:20241114T161457Z
UID:10001554-1733491800-1733500800@familleacoeur.qc.ca
SUMMARY:1/2 pédago (6-12 ans) - Jeu d'évasion de Noël
DESCRIPTION:Nous vous invitons à venir jouer au jeu d’évasion de Noël : Les cadeaux disparus \nLes enfants pourront s’amuser tout en développant leur esprit de collaboration et de résolution de problèmes dans une atmosphère magique de Noël.
URL:https://familleacoeur.qc.ca/evenement/1-2-pedago-6-12-ans-jeu-devasion-de-noel/2024-12-06/
CATEGORIES:Activités
ATTACH;FMTTYPE=image/jpeg:https://familleacoeur.qc.ca/wp-content/uploads/2024/09/christmas-balls-8449616_1280-e1727287067983.jpg
END:VEVENT
BEGIN:VEVENT
DTSTART;TZID=America/Toronto:20241206T100000
DTEND;TZID=America/Toronto:20241206T110000
DTSTAMP:20260423T054012
CREATED:20240213T194554Z
LAST-MODIFIED:20240807T185738Z
UID:10001332-1733479200-1733482800@familleacoeur.qc.ca
SUMMARY:Jeux et exercices pour enfants et parents (JEEP)
DESCRIPTION:Jeux Exercices Enfants Parents est une activité pour les parents et les enfants âgés de 0-24 mois\, qui désirent se remettre en forme tout en s’amusant. Chacun des exercices est adapté aux groupes d’âges des enfants et à la forme physique du parent. Le but de l’activité ? Se remettre en forme en utilisant des matériaux à notre disposition\, tout en profitant de ce moment pour passer un temps privilégié avec les enfants. \nMatériel requis : vêtements de sport\, souliers de course et gourde d’eau \nVenez bouger avec nous ! \nContre-indications : Limitations physiques tels que blessures et douleurs aux jambes\, épaules\, dos\, etc. \n\n\n\n\n\n\nDevenir membre : 20.00 $ par famille pour une année.
URL:https://familleacoeur.qc.ca/evenement/jeux-et-exercices-pour-enfants-et-parents-jeep-3/2024-12-06/
CATEGORIES:Activités
ATTACH;FMTTYPE=image/jpeg:https://familleacoeur.qc.ca/wp-content/uploads/2021/02/jeep-2.jpg
END:VEVENT
BEGIN:VEVENT
DTSTART;TZID=America/Toronto:20241205T093000
DTEND;TZID=America/Toronto:20241205T113000
DTSTAMP:20260423T054012
CREATED:20240807T190754Z
LAST-MODIFIED:20240807T190905Z
UID:10001409-1733391000-1733398200@familleacoeur.qc.ca
SUMMARY:Les p’tits matins bedons poupons
DESCRIPTION:Cette activité s’adresse aux parents d’enfants de 0 (grossesse) à 2 ans. Les p’tits matins bedons poupons se déroulent de 9 h 30 à 11 h 30 à tous les jeudis. Le but est de permettre à ces parents de rencontrer d’autres parents\, afin d’échanger et d’en apprendre sur des sujets en lien direct avec leur réalité commune\, accompagnés de leur poupon. À l’occasion nous avons des invités qui viennent discuter de différents sujets tels que la nutrition (DME)\, ostéopathie\, massothérapie pour bébé\, etc. \nGratuit pour les membres.
URL:https://familleacoeur.qc.ca/evenement/les-ptits-matins-bedons-poupons-ete-2-2/2024-12-05/
CATEGORIES:Activités,Services
ATTACH;FMTTYPE=image/jpeg:https://familleacoeur.qc.ca/wp-content/uploads/2021/02/bedons-poupons.jpg
END:VEVENT
BEGIN:VEVENT
DTSTART;TZID=America/Toronto:20241204T093000
DTEND;TZID=America/Toronto:20241204T113000
DTSTAMP:20260423T054012
CREATED:20240807T191132Z
LAST-MODIFIED:20240807T191227Z
UID:10001422-1733304600-1733311800@familleacoeur.qc.ca
SUMMARY:Café-jasette «Les Galipettes» pour parents et enfants de 2 à 5 ans
DESCRIPTION:Pour parents et enfants âgés de 2 à 5 ans. \nPour connaître les prochaines dates de rencontres pour la session à venir\, consultez la page Facebook de Famille à Cœur ou notre calendrier.
URL:https://familleacoeur.qc.ca/evenement/cafe-jasette-les-galipettes-pour-parents-et-enfants-de-2-a-5-ans-2-2/2024-12-04/
CATEGORIES:Activités
ATTACH;FMTTYPE=image/jpeg:https://familleacoeur.qc.ca/wp-content/uploads/2021/02/galipettes2.jpg
END:VEVENT
BEGIN:VEVENT
DTSTART;TZID=America/Toronto:20241203T080000
DTEND;TZID=America/Toronto:20241203T170000
DTSTAMP:20260423T054012
CREATED:20220810T175031Z
LAST-MODIFIED:20240807T192623Z
UID:10001427-1733212800-1733245200@familleacoeur.qc.ca
SUMMARY:Groupe de soutien au deuil périnatal
DESCRIPTION:Que ce soit en début de grossesse\, durant la grossesse\, à l’accouchement ou dans les premiers mois de vie de votre enfant\, le décès d’un petit être est toujours un moment difficile à traverser. Vous vivez un deuil périnatal\, vous vous sentez seul(e)\, incompris(e) et perdu(e). C’est vraiment normal et vous n’êtes pas seul(e) à vivre toute cette vague d’émotions. \nGratuit pour les membres. \n\n\nRéservation obligatoire auprès de Geneviève Boileau\n\n\n\n\n\nPar courriel : crp@familleacoeur.qc.ca\nPar téléphone : 450 346-1734\, poste 233
URL:https://familleacoeur.qc.ca/evenement/groupe-de-soutien-au-deuil-perinatal/2024-12-03/
ATTACH;FMTTYPE=image/jpeg:https://familleacoeur.qc.ca/wp-content/uploads/2021/02/deuil-perinatal-1.jpg
END:VEVENT
BEGIN:VEVENT
DTSTART;TZID=America/Toronto:20241202T100000
DTEND;TZID=America/Toronto:20241202T110000
DTSTAMP:20260423T054012
CREATED:20240807T184543Z
LAST-MODIFIED:20241104T144212Z
UID:10001562-1733133600-1733137200@familleacoeur.qc.ca
SUMMARY:Massage bébé
DESCRIPTION:Avec enfants âgés de 0 à 12 mois. \nCet atelier permet de créer ou renforcer le lien d’attachement parent-enfant\, de se détendre et se relaxer\, diminuer le stress (masseur et massé)\, favoriser le développement psychomoteur de bébé\, rencontrer et échanger avec d’autres parents. \nVous apprendrez une routine complète pour masser votre bébé\, quelques petits exercices adaptés et d’autres petits trucs afin d’aider à soulager certains maux (gaz\, coliques\, congestion\, poussée dentaire\, etc.). Vous pourrez comprendre les bienfaits du massage chez votre enfant\, les moments favorables au massage pour vous et lui. Merveilleux moment pour apprendre à connaître le langage du corps de votre bébé et de créer de solides liens ! \nMatériel requis : piqué\, couverture\, petite serviette\, jouet préféré de votre bébé \nHabillement suggéré : vêtements confortables
URL:https://familleacoeur.qc.ca/evenement/massage-bebe-3-2-2-3/2024-12-02/
CATEGORIES:Activités
ATTACH;FMTTYPE=image/jpeg:https://familleacoeur.qc.ca/wp-content/uploads/2021/02/massage-bebe1.jpg
END:VEVENT
BEGIN:VEVENT
DTSTART;TZID=America/Toronto:20241201T100000
DTEND;TZID=America/Toronto:20241201T160000
DTSTAMP:20260423T054012
CREATED:20240912T164555Z
LAST-MODIFIED:20241114T164151Z
UID:10001520-1733047200-1733068800@familleacoeur.qc.ca
SUMMARY:Dimanche détente
DESCRIPTION:Besoin d’un répit ? D’une sortie ? \nNous offrons un service de répit\, les dimanches\, de 10h à 16h pour les enfants de 0-12 ans\, afin que les parents profitent d’un moment entre eux ! \nAu menu pour les enfants : jeux extérieurs\, bricolages\, jeux actifs\, jeux calmes et film.
URL:https://familleacoeur.qc.ca/evenement/repit-du-dimanche/2024-12-01/
CATEGORIES:Services
ATTACH;FMTTYPE=image/jpeg:https://familleacoeur.qc.ca/wp-content/uploads/2023/10/pexels-ksenia-chernaya-8535230-scaled.jpg
END:VEVENT
BEGIN:VEVENT
DTSTART;TZID=America/Toronto:20241130T153000
DTEND;TZID=America/Toronto:20241130T203000
DTSTAMP:20260423T054012
CREATED:20240912T133946Z
LAST-MODIFIED:20241114T163808Z
UID:10001507-1732980600-1732998600@familleacoeur.qc.ca
SUMMARY:Samedi d'sortir
DESCRIPTION:Besoin d’un répit ? D’une sortie ? \nNous offrons un service de répit\, les samedis\, de 15 h 30 à 20 h 30 pour les enfants de 0-12 ans\, afin que les parents profitent d’une belle soirée\, le temps d’une p’tite sortie ! \nAu menu de la soirée\, jeux extérieurs\, bricolages\, jeux actifs\, jeux calmes et film.
URL:https://familleacoeur.qc.ca/evenement/samedi-dsortir-pour-enfants-0-12-ans-2-2/2024-11-30/
CATEGORIES:Services
ATTACH;FMTTYPE=image/jpeg:https://familleacoeur.qc.ca/wp-content/uploads/2021/02/samedi-repit.jpg
END:VEVENT
BEGIN:VEVENT
DTSTART;TZID=America/Toronto:20241129T100000
DTEND;TZID=America/Toronto:20241129T110000
DTSTAMP:20260423T054012
CREATED:20240213T194554Z
LAST-MODIFIED:20240807T185738Z
UID:10001331-1732874400-1732878000@familleacoeur.qc.ca
SUMMARY:Jeux et exercices pour enfants et parents (JEEP)
DESCRIPTION:Jeux Exercices Enfants Parents est une activité pour les parents et les enfants âgés de 0-24 mois\, qui désirent se remettre en forme tout en s’amusant. Chacun des exercices est adapté aux groupes d’âges des enfants et à la forme physique du parent. Le but de l’activité ? Se remettre en forme en utilisant des matériaux à notre disposition\, tout en profitant de ce moment pour passer un temps privilégié avec les enfants. \nMatériel requis : vêtements de sport\, souliers de course et gourde d’eau \nVenez bouger avec nous ! \nContre-indications : Limitations physiques tels que blessures et douleurs aux jambes\, épaules\, dos\, etc. \n\n\n\n\n\n\nDevenir membre : 20.00 $ par famille pour une année.
URL:https://familleacoeur.qc.ca/evenement/jeux-et-exercices-pour-enfants-et-parents-jeep-3/2024-11-29/
CATEGORIES:Activités
ATTACH;FMTTYPE=image/jpeg:https://familleacoeur.qc.ca/wp-content/uploads/2021/02/jeep-2.jpg
END:VEVENT
BEGIN:VEVENT
DTSTART;TZID=America/Toronto:20241128T093000
DTEND;TZID=America/Toronto:20241128T113000
DTSTAMP:20260423T054012
CREATED:20240807T190754Z
LAST-MODIFIED:20240807T190905Z
UID:10001408-1732786200-1732793400@familleacoeur.qc.ca
SUMMARY:Les p’tits matins bedons poupons
DESCRIPTION:Cette activité s’adresse aux parents d’enfants de 0 (grossesse) à 2 ans. Les p’tits matins bedons poupons se déroulent de 9 h 30 à 11 h 30 à tous les jeudis. Le but est de permettre à ces parents de rencontrer d’autres parents\, afin d’échanger et d’en apprendre sur des sujets en lien direct avec leur réalité commune\, accompagnés de leur poupon. À l’occasion nous avons des invités qui viennent discuter de différents sujets tels que la nutrition (DME)\, ostéopathie\, massothérapie pour bébé\, etc. \nGratuit pour les membres.
URL:https://familleacoeur.qc.ca/evenement/les-ptits-matins-bedons-poupons-ete-2-2/2024-11-28/
CATEGORIES:Activités,Services
ATTACH;FMTTYPE=image/jpeg:https://familleacoeur.qc.ca/wp-content/uploads/2021/02/bedons-poupons.jpg
END:VEVENT
BEGIN:VEVENT
DTSTART;TZID=America/Toronto:20241127T093000
DTEND;TZID=America/Toronto:20241127T113000
DTSTAMP:20260423T054012
CREATED:20240807T191132Z
LAST-MODIFIED:20240807T191227Z
UID:10001421-1732699800-1732707000@familleacoeur.qc.ca
SUMMARY:Café-jasette «Les Galipettes» pour parents et enfants de 2 à 5 ans
DESCRIPTION:Pour parents et enfants âgés de 2 à 5 ans. \nPour connaître les prochaines dates de rencontres pour la session à venir\, consultez la page Facebook de Famille à Cœur ou notre calendrier.
URL:https://familleacoeur.qc.ca/evenement/cafe-jasette-les-galipettes-pour-parents-et-enfants-de-2-a-5-ans-2-2/2024-11-27/
CATEGORIES:Activités
ATTACH;FMTTYPE=image/jpeg:https://familleacoeur.qc.ca/wp-content/uploads/2021/02/galipettes2.jpg
END:VEVENT
BEGIN:VEVENT
DTSTART;TZID=America/Toronto:20241126T100000
DTEND;TZID=America/Toronto:20241126T113000
DTSTAMP:20260423T054012
CREATED:20240807T182441Z
LAST-MODIFIED:20240807T182442Z
UID:10001193-1732615200-1732620600@familleacoeur.qc.ca
SUMMARY:Marche poussette
DESCRIPTION:Marche en poussette à l’extérieur \nAfin de briser l’isolement et profiter du beau temps ! \nPossibilité d’apporter un pique-nique et manger en famille sur place. \nAnnulé en cas de pluie.
URL:https://familleacoeur.qc.ca/evenement/marche-poussette-2/2024-11-26/
CATEGORIES:Activités
ATTACH;FMTTYPE=image/jpeg:https://familleacoeur.qc.ca/wp-content/uploads/2024/05/iStock-184299673-scaled.jpg
END:VEVENT
BEGIN:VEVENT
DTSTART;TZID=America/Toronto:20241125T100000
DTEND;TZID=America/Toronto:20241125T110000
DTSTAMP:20260423T054012
CREATED:20240807T184543Z
LAST-MODIFIED:20241104T144212Z
UID:10001561-1732528800-1732532400@familleacoeur.qc.ca
SUMMARY:Massage bébé
DESCRIPTION:Avec enfants âgés de 0 à 12 mois. \nCet atelier permet de créer ou renforcer le lien d’attachement parent-enfant\, de se détendre et se relaxer\, diminuer le stress (masseur et massé)\, favoriser le développement psychomoteur de bébé\, rencontrer et échanger avec d’autres parents. \nVous apprendrez une routine complète pour masser votre bébé\, quelques petits exercices adaptés et d’autres petits trucs afin d’aider à soulager certains maux (gaz\, coliques\, congestion\, poussée dentaire\, etc.). Vous pourrez comprendre les bienfaits du massage chez votre enfant\, les moments favorables au massage pour vous et lui. Merveilleux moment pour apprendre à connaître le langage du corps de votre bébé et de créer de solides liens ! \nMatériel requis : piqué\, couverture\, petite serviette\, jouet préféré de votre bébé \nHabillement suggéré : vêtements confortables
URL:https://familleacoeur.qc.ca/evenement/massage-bebe-3-2-2-3/2024-11-25/
CATEGORIES:Activités
ATTACH;FMTTYPE=image/jpeg:https://familleacoeur.qc.ca/wp-content/uploads/2021/02/massage-bebe1.jpg
END:VEVENT
END:VCALENDAR