BEGIN:VCALENDAR
VERSION:2.0
PRODID:-//Famille à Coeur - ECPv6.2.2//NONSGML v1.0//EN
CALSCALE:GREGORIAN
METHOD:PUBLISH
X-ORIGINAL-URL:https://familleacoeur.qc.ca
X-WR-CALDESC:évènements pour Famille à Coeur
REFRESH-INTERVAL;VALUE=DURATION:PT1H
X-Robots-Tag:noindex
X-PUBLISHED-TTL:PT1H
BEGIN:VTIMEZONE
TZID:America/Toronto
BEGIN:DAYLIGHT
TZOFFSETFROM:-0500
TZOFFSETTO:-0400
TZNAME:EDT
DTSTART:20260308T070000
END:DAYLIGHT
BEGIN:STANDARD
TZOFFSETFROM:-0400
TZOFFSETTO:-0500
TZNAME:EST
DTSTART:20261101T060000
END:STANDARD
END:VTIMEZONE
BEGIN:VEVENT
DTSTART;TZID=America/Toronto:20260320T093000
DTEND;TZID=America/Toronto:20260320T113000
DTSTAMP:20260419T160748
CREATED:20241114T161909Z
LAST-MODIFIED:20260128T153315Z
UID:10002255-1773999000-1774006200@familleacoeur.qc.ca
SUMMARY:Langagibou
DESCRIPTION:L’atelier LANGAGIBOU invite le parent et son enfant à travailler le développement du langage. \nLe but est d’acquérir des stratégies langagières selon une approche personnalisée. \nLa rencontre est d’une durée de 2 heures assistée par deux accompagnatrices et divisée en quelques modules : causerie\, parcours dirigé\, activité de groupe structuré (thématique)\, collation et jeux libre(enfants) + causette (parents)\, histoire et départ. \nNote : Une pré-inscription est requise pour participer à l’atelier \nCOÛT : 90$ pour la session (revient à 10$ l’atelier)
URL:https://familleacoeur.qc.ca/evenement/langagibou-3/2026-03-20/
CATEGORIES:Activités
ATTACH;FMTTYPE=image/jpeg:https://familleacoeur.qc.ca/wp-content/uploads/2024/02/pexels-mart-production-7414905-scaled-e1708617596238.jpg
END:VEVENT
BEGIN:VEVENT
DTSTART;TZID=America/Toronto:20260319T084500
DTEND;TZID=America/Toronto:20260319T113000
DTSTAMP:20260419T160748
CREATED:20260113T195752Z
LAST-MODIFIED:20260113T200401Z
UID:10002488-1773909900-1773919800@familleacoeur.qc.ca
SUMMARY:Groupe de soutien « L'Éveil en douceur »
DESCRIPTION:Ce groupe de soutien et de prévention de la dépression post-partum s’adresse aux mères qui vivent des difficultés émotionnelles et/ou une dépression post-partum. \nIl y aura aussi une rencontre en couple un samedi durant la session. \nGratuit pour les membres
URL:https://familleacoeur.qc.ca/evenement/groupe-de-soutien-leveil-en-douceur-3/2026-03-19/
CATEGORIES:Activités
ATTACH;FMTTYPE=image/jpeg:https://familleacoeur.qc.ca/wp-content/uploads/2025/03/hand-5961660_1280.jpg
END:VEVENT
BEGIN:VEVENT
DTSTART;TZID=America/Toronto:20260318T093000
DTEND;TZID=America/Toronto:20260318T113000
DTSTAMP:20260419T160748
CREATED:20251110T192342Z
LAST-MODIFIED:20260204T162930Z
UID:10002238-1773826200-1773833400@familleacoeur.qc.ca
SUMMARY:Café-jasette «Les Galipettes» pour parents et enfants de 2 à 5 ans
DESCRIPTION:Pour parents et enfants âgés de 2 à 5 ans. \nPour connaître les prochaines dates de rencontres pour la session à venir\, consultez la page Facebook de Famille à Cœur ou notre calendrier.
URL:https://familleacoeur.qc.ca/evenement/cafe-jasette-les-galipettes-pour-parents-et-enfants-de-2-a-5-ans/2026-03-18/
CATEGORIES:Activités
ATTACH;FMTTYPE=image/jpeg:https://familleacoeur.qc.ca/wp-content/uploads/2021/02/galipettes2.jpg
END:VEVENT
BEGIN:VEVENT
DTSTART;TZID=America/Toronto:20260317T090000
DTEND;TZID=America/Toronto:20260317T120000
DTSTAMP:20260419T160748
CREATED:20251110T192848Z
LAST-MODIFIED:20260204T163153Z
UID:10002435-1773738000-1773748800@familleacoeur.qc.ca
SUMMARY:Les mères... Entre-Nous !
DESCRIPTION:l’« Entre-Nous » est un local mis à la disposition des mères qui désirent rencontrer d’autres mères… \nC’est GRATUIT et sans inscription.
URL:https://familleacoeur.qc.ca/evenement/les-meres-entre-nous-le-matin-2-2-3/2026-03-17/
CATEGORIES:Services
ATTACH;FMTTYPE=image/jpeg:https://familleacoeur.qc.ca/wp-content/uploads/2023/08/Bedons_12mai2022_007.jpg
END:VEVENT
BEGIN:VEVENT
DTSTART;TZID=America/Toronto:20260316T093000
DTEND;TZID=America/Toronto:20260316T113000
DTSTAMP:20260419T160748
CREATED:20260209T194319Z
LAST-MODIFIED:20260209T194529Z
UID:10002582-1773653400-1773660600@familleacoeur.qc.ca
SUMMARY:Espace nourrisson
DESCRIPTION:Grâce à cet espace\, les parents d’enfants de 0 à 6 mois peuvent venir rencontrer une intervenante périnatale pour du soutien et pour poser leurs questions. \nBienvenue !
URL:https://familleacoeur.qc.ca/evenement/espace-nourrisson/2026-03-16/
CATEGORIES:Activités,Services
ATTACH;FMTTYPE=image/jpeg:https://familleacoeur.qc.ca/wp-content/uploads/2026/01/pexels-polina-tankilevitch-3875280-scaled-e1768588875268.jpg
END:VEVENT
BEGIN:VEVENT
DTSTART;TZID=America/Toronto:20260316T093000
DTEND;TZID=America/Toronto:20260316T113000
DTSTAMP:20260419T160748
CREATED:20241114T161909Z
LAST-MODIFIED:20260128T153315Z
UID:10002254-1773653400-1773660600@familleacoeur.qc.ca
SUMMARY:Langagibou
DESCRIPTION:L’atelier LANGAGIBOU invite le parent et son enfant à travailler le développement du langage. \nLe but est d’acquérir des stratégies langagières selon une approche personnalisée. \nLa rencontre est d’une durée de 2 heures assistée par deux accompagnatrices et divisée en quelques modules : causerie\, parcours dirigé\, activité de groupe structuré (thématique)\, collation et jeux libre(enfants) + causette (parents)\, histoire et départ. \nNote : Une pré-inscription est requise pour participer à l’atelier \nCOÛT : 90$ pour la session (revient à 10$ l’atelier)
URL:https://familleacoeur.qc.ca/evenement/langagibou-3/2026-03-16/
CATEGORIES:Activités
ATTACH;FMTTYPE=image/jpeg:https://familleacoeur.qc.ca/wp-content/uploads/2024/02/pexels-mart-production-7414905-scaled-e1708617596238.jpg
END:VEVENT
BEGIN:VEVENT
DTSTART;TZID=America/Toronto:20260316T090000
DTEND;TZID=America/Toronto:20260316T113000
DTSTAMP:20260419T160748
CREATED:20251110T193737Z
LAST-MODIFIED:20260105T154547Z
UID:10002446-1773651600-1773660600@familleacoeur.qc.ca
SUMMARY:Groupe de soutien « L'Éveil en douceur »
DESCRIPTION:Ce groupe de soutien et de prévention de la dépression post-partum s’adresse aux mères qui vivent des difficultés émotionnelles et/ou une dépression post-partum. \nIl y aura aussi une rencontre en couple un samedi durant la session. \nGratuit pour les membres
URL:https://familleacoeur.qc.ca/evenement/groupe-de-soutien-leveil-en-douceur-2-2/2026-03-16/
CATEGORIES:Activités
ATTACH;FMTTYPE=image/jpeg:https://familleacoeur.qc.ca/wp-content/uploads/2025/03/hand-5961660_1280.jpg
END:VEVENT
BEGIN:VEVENT
DTSTART;TZID=America/Toronto:20260313T093000
DTEND;TZID=America/Toronto:20260313T113000
DTSTAMP:20260419T160748
CREATED:20241114T161909Z
LAST-MODIFIED:20260128T153315Z
UID:10002253-1773394200-1773401400@familleacoeur.qc.ca
SUMMARY:Langagibou
DESCRIPTION:L’atelier LANGAGIBOU invite le parent et son enfant à travailler le développement du langage. \nLe but est d’acquérir des stratégies langagières selon une approche personnalisée. \nLa rencontre est d’une durée de 2 heures assistée par deux accompagnatrices et divisée en quelques modules : causerie\, parcours dirigé\, activité de groupe structuré (thématique)\, collation et jeux libre(enfants) + causette (parents)\, histoire et départ. \nNote : Une pré-inscription est requise pour participer à l’atelier \nCOÛT : 90$ pour la session (revient à 10$ l’atelier)
URL:https://familleacoeur.qc.ca/evenement/langagibou-3/2026-03-13/
CATEGORIES:Activités
ATTACH;FMTTYPE=image/jpeg:https://familleacoeur.qc.ca/wp-content/uploads/2024/02/pexels-mart-production-7414905-scaled-e1708617596238.jpg
END:VEVENT
BEGIN:VEVENT
DTSTART;TZID=America/Toronto:20260312T084500
DTEND;TZID=America/Toronto:20260312T113000
DTSTAMP:20260419T160748
CREATED:20260113T195752Z
LAST-MODIFIED:20260113T200401Z
UID:10002487-1773305100-1773315000@familleacoeur.qc.ca
SUMMARY:Groupe de soutien « L'Éveil en douceur »
DESCRIPTION:Ce groupe de soutien et de prévention de la dépression post-partum s’adresse aux mères qui vivent des difficultés émotionnelles et/ou une dépression post-partum. \nIl y aura aussi une rencontre en couple un samedi durant la session. \nGratuit pour les membres
URL:https://familleacoeur.qc.ca/evenement/groupe-de-soutien-leveil-en-douceur-3/2026-03-12/
CATEGORIES:Activités
ATTACH;FMTTYPE=image/jpeg:https://familleacoeur.qc.ca/wp-content/uploads/2025/03/hand-5961660_1280.jpg
END:VEVENT
BEGIN:VEVENT
DTSTART;TZID=America/Toronto:20260311T093000
DTEND;TZID=America/Toronto:20260311T113000
DTSTAMP:20260419T160748
CREATED:20251110T192342Z
LAST-MODIFIED:20260204T162930Z
UID:10002237-1773221400-1773228600@familleacoeur.qc.ca
SUMMARY:Café-jasette «Les Galipettes» pour parents et enfants de 2 à 5 ans
DESCRIPTION:Pour parents et enfants âgés de 2 à 5 ans. \nPour connaître les prochaines dates de rencontres pour la session à venir\, consultez la page Facebook de Famille à Cœur ou notre calendrier.
URL:https://familleacoeur.qc.ca/evenement/cafe-jasette-les-galipettes-pour-parents-et-enfants-de-2-a-5-ans/2026-03-11/
CATEGORIES:Activités
ATTACH;FMTTYPE=image/jpeg:https://familleacoeur.qc.ca/wp-content/uploads/2021/02/galipettes2.jpg
END:VEVENT
BEGIN:VEVENT
DTSTART;TZID=America/Toronto:20260310T090000
DTEND;TZID=America/Toronto:20260310T120000
DTSTAMP:20260419T160748
CREATED:20251110T192848Z
LAST-MODIFIED:20260204T163153Z
UID:10002434-1773133200-1773144000@familleacoeur.qc.ca
SUMMARY:Les mères... Entre-Nous !
DESCRIPTION:l’« Entre-Nous » est un local mis à la disposition des mères qui désirent rencontrer d’autres mères… \nC’est GRATUIT et sans inscription.
URL:https://familleacoeur.qc.ca/evenement/les-meres-entre-nous-le-matin-2-2-3/2026-03-10/
CATEGORIES:Services
ATTACH;FMTTYPE=image/jpeg:https://familleacoeur.qc.ca/wp-content/uploads/2023/08/Bedons_12mai2022_007.jpg
END:VEVENT
BEGIN:VEVENT
DTSTART;TZID=America/Toronto:20260309T093000
DTEND;TZID=America/Toronto:20260309T113000
DTSTAMP:20260419T160748
CREATED:20260209T194319Z
LAST-MODIFIED:20260209T194529Z
UID:10002581-1773048600-1773055800@familleacoeur.qc.ca
SUMMARY:Espace nourrisson
DESCRIPTION:Grâce à cet espace\, les parents d’enfants de 0 à 6 mois peuvent venir rencontrer une intervenante périnatale pour du soutien et pour poser leurs questions. \nBienvenue !
URL:https://familleacoeur.qc.ca/evenement/espace-nourrisson/2026-03-09/
CATEGORIES:Activités,Services
ATTACH;FMTTYPE=image/jpeg:https://familleacoeur.qc.ca/wp-content/uploads/2026/01/pexels-polina-tankilevitch-3875280-scaled-e1768588875268.jpg
END:VEVENT
BEGIN:VEVENT
DTSTART;TZID=America/Toronto:20260309T093000
DTEND;TZID=America/Toronto:20260309T113000
DTSTAMP:20260419T160748
CREATED:20241114T161909Z
LAST-MODIFIED:20260128T153315Z
UID:10002252-1773048600-1773055800@familleacoeur.qc.ca
SUMMARY:Langagibou
DESCRIPTION:L’atelier LANGAGIBOU invite le parent et son enfant à travailler le développement du langage. \nLe but est d’acquérir des stratégies langagières selon une approche personnalisée. \nLa rencontre est d’une durée de 2 heures assistée par deux accompagnatrices et divisée en quelques modules : causerie\, parcours dirigé\, activité de groupe structuré (thématique)\, collation et jeux libre(enfants) + causette (parents)\, histoire et départ. \nNote : Une pré-inscription est requise pour participer à l’atelier \nCOÛT : 90$ pour la session (revient à 10$ l’atelier)
URL:https://familleacoeur.qc.ca/evenement/langagibou-3/2026-03-09/
CATEGORIES:Activités
ATTACH;FMTTYPE=image/jpeg:https://familleacoeur.qc.ca/wp-content/uploads/2024/02/pexels-mart-production-7414905-scaled-e1708617596238.jpg
END:VEVENT
BEGIN:VEVENT
DTSTART;TZID=America/Toronto:20260309T090000
DTEND;TZID=America/Toronto:20260309T113000
DTSTAMP:20260419T160748
CREATED:20251110T193737Z
LAST-MODIFIED:20260105T154547Z
UID:10002445-1773046800-1773055800@familleacoeur.qc.ca
SUMMARY:Groupe de soutien « L'Éveil en douceur »
DESCRIPTION:Ce groupe de soutien et de prévention de la dépression post-partum s’adresse aux mères qui vivent des difficultés émotionnelles et/ou une dépression post-partum. \nIl y aura aussi une rencontre en couple un samedi durant la session. \nGratuit pour les membres
URL:https://familleacoeur.qc.ca/evenement/groupe-de-soutien-leveil-en-douceur-2-2/2026-03-09/
CATEGORIES:Activités
ATTACH;FMTTYPE=image/jpeg:https://familleacoeur.qc.ca/wp-content/uploads/2025/03/hand-5961660_1280.jpg
END:VEVENT
BEGIN:VEVENT
DTSTART;TZID=America/Toronto:20260305T190000
DTEND;TZID=America/Toronto:20260305T203000
DTSTAMP:20260419T160748
CREATED:20260113T195752Z
LAST-MODIFIED:20260113T200401Z
UID:10002474-1772737200-1772742600@familleacoeur.qc.ca
SUMMARY:Groupe de soutien « L'Éveil en douceur »
DESCRIPTION:Ce groupe de soutien et de prévention de la dépression post-partum s’adresse aux mères qui vivent des difficultés émotionnelles et/ou une dépression post-partum. \nIl y aura aussi une rencontre en couple un samedi durant la session. \nGratuit pour les membres
URL:https://familleacoeur.qc.ca/evenement/groupe-de-soutien-leveil-en-douceur-3/2026-03-05/2/
CATEGORIES:Activités
ATTACH;FMTTYPE=image/jpeg:https://familleacoeur.qc.ca/wp-content/uploads/2025/03/hand-5961660_1280.jpg
END:VEVENT
BEGIN:VEVENT
DTSTART;TZID=America/Toronto:20260305T084500
DTEND;TZID=America/Toronto:20260305T113000
DTSTAMP:20260419T160748
CREATED:20260113T195752Z
LAST-MODIFIED:20260113T200401Z
UID:10002486-1772700300-1772710200@familleacoeur.qc.ca
SUMMARY:Groupe de soutien « L'Éveil en douceur »
DESCRIPTION:Ce groupe de soutien et de prévention de la dépression post-partum s’adresse aux mères qui vivent des difficultés émotionnelles et/ou une dépression post-partum. \nIl y aura aussi une rencontre en couple un samedi durant la session. \nGratuit pour les membres
URL:https://familleacoeur.qc.ca/evenement/groupe-de-soutien-leveil-en-douceur-3/2026-03-05/1/
CATEGORIES:Activités
ATTACH;FMTTYPE=image/jpeg:https://familleacoeur.qc.ca/wp-content/uploads/2025/03/hand-5961660_1280.jpg
END:VEVENT
BEGIN:VEVENT
DTSTART;TZID=America/Toronto:20260304T093000
DTEND;TZID=America/Toronto:20260304T113000
DTSTAMP:20260419T160748
CREATED:20251110T192342Z
LAST-MODIFIED:20260204T162930Z
UID:10002236-1772616600-1772623800@familleacoeur.qc.ca
SUMMARY:Café-jasette «Les Galipettes» pour parents et enfants de 2 à 5 ans
DESCRIPTION:Pour parents et enfants âgés de 2 à 5 ans. \nPour connaître les prochaines dates de rencontres pour la session à venir\, consultez la page Facebook de Famille à Cœur ou notre calendrier.
URL:https://familleacoeur.qc.ca/evenement/cafe-jasette-les-galipettes-pour-parents-et-enfants-de-2-a-5-ans/2026-03-04/
CATEGORIES:Activités
ATTACH;FMTTYPE=image/jpeg:https://familleacoeur.qc.ca/wp-content/uploads/2021/02/galipettes2.jpg
END:VEVENT
BEGIN:VEVENT
DTSTART;TZID=America/Toronto:20260303T183000
DTEND;TZID=America/Toronto:20260303T203000
DTSTAMP:20260419T160748
CREATED:20251119T174410Z
LAST-MODIFIED:20260121T201712Z
UID:10002342-1772562600-1772569800@familleacoeur.qc.ca
SUMMARY:Préparation prénatale de groupe
DESCRIPTION:Préparation prénatale pour mieux se préparer à l’accouchement. \nPour connaître les prochaines dates de rencontres pour la session à venir\, consultez la page Facebook de Famille à Cœur ou notre calendrier.
URL:https://familleacoeur.qc.ca/evenement/preparation-prenatale-de-groupe-printemps-3-2/2026-03-03/
CATEGORIES:Services
ATTACH;FMTTYPE=image/jpeg:https://familleacoeur.qc.ca/wp-content/uploads/2021/08/rencontres-prenatales-1.jpg
END:VEVENT
BEGIN:VEVENT
DTSTART;TZID=America/Toronto:20260303T090000
DTEND;TZID=America/Toronto:20260303T120000
DTSTAMP:20260419T160748
CREATED:20251110T192848Z
LAST-MODIFIED:20260204T163153Z
UID:10002433-1772528400-1772539200@familleacoeur.qc.ca
SUMMARY:Les mères... Entre-Nous !
DESCRIPTION:l’« Entre-Nous » est un local mis à la disposition des mères qui désirent rencontrer d’autres mères… \nC’est GRATUIT et sans inscription.
URL:https://familleacoeur.qc.ca/evenement/les-meres-entre-nous-le-matin-2-2-3/2026-03-03/
CATEGORIES:Services
ATTACH;FMTTYPE=image/jpeg:https://familleacoeur.qc.ca/wp-content/uploads/2023/08/Bedons_12mai2022_007.jpg
END:VEVENT
BEGIN:VEVENT
DTSTART;TZID=America/Toronto:20260302T093000
DTEND;TZID=America/Toronto:20260302T113000
DTSTAMP:20260419T160748
CREATED:20260209T194319Z
LAST-MODIFIED:20260209T194529Z
UID:10002580-1772443800-1772451000@familleacoeur.qc.ca
SUMMARY:Espace nourrisson
DESCRIPTION:Grâce à cet espace\, les parents d’enfants de 0 à 6 mois peuvent venir rencontrer une intervenante périnatale pour du soutien et pour poser leurs questions. \nBienvenue !
URL:https://familleacoeur.qc.ca/evenement/espace-nourrisson/2026-03-02/
CATEGORIES:Activités,Services
ATTACH;FMTTYPE=image/jpeg:https://familleacoeur.qc.ca/wp-content/uploads/2026/01/pexels-polina-tankilevitch-3875280-scaled-e1768588875268.jpg
END:VEVENT
BEGIN:VEVENT
DTSTART;TZID=America/Toronto:20260302T093000
DTEND;TZID=America/Toronto:20260302T113000
DTSTAMP:20260419T160748
CREATED:20241114T161909Z
LAST-MODIFIED:20260128T153315Z
UID:10002251-1772443800-1772451000@familleacoeur.qc.ca
SUMMARY:Langagibou
DESCRIPTION:L’atelier LANGAGIBOU invite le parent et son enfant à travailler le développement du langage. \nLe but est d’acquérir des stratégies langagières selon une approche personnalisée. \nLa rencontre est d’une durée de 2 heures assistée par deux accompagnatrices et divisée en quelques modules : causerie\, parcours dirigé\, activité de groupe structuré (thématique)\, collation et jeux libre(enfants) + causette (parents)\, histoire et départ. \nNote : Une pré-inscription est requise pour participer à l’atelier \nCOÛT : 90$ pour la session (revient à 10$ l’atelier)
URL:https://familleacoeur.qc.ca/evenement/langagibou-3/2026-03-02/
CATEGORIES:Activités
ATTACH;FMTTYPE=image/jpeg:https://familleacoeur.qc.ca/wp-content/uploads/2024/02/pexels-mart-production-7414905-scaled-e1708617596238.jpg
END:VEVENT
BEGIN:VEVENT
DTSTART;TZID=America/Toronto:20260302T090000
DTEND;TZID=America/Toronto:20260302T113000
DTSTAMP:20260419T160748
CREATED:20251110T193737Z
LAST-MODIFIED:20260105T154547Z
UID:10002444-1772442000-1772451000@familleacoeur.qc.ca
SUMMARY:Groupe de soutien « L'Éveil en douceur »
DESCRIPTION:Ce groupe de soutien et de prévention de la dépression post-partum s’adresse aux mères qui vivent des difficultés émotionnelles et/ou une dépression post-partum. \nIl y aura aussi une rencontre en couple un samedi durant la session. \nGratuit pour les membres
URL:https://familleacoeur.qc.ca/evenement/groupe-de-soutien-leveil-en-douceur-2-2/2026-03-02/
CATEGORIES:Activités
ATTACH;FMTTYPE=image/jpeg:https://familleacoeur.qc.ca/wp-content/uploads/2025/03/hand-5961660_1280.jpg
END:VEVENT
BEGIN:VEVENT
DTSTART;TZID=America/Toronto:20260228T084500
DTEND;TZID=America/Toronto:20260228T113000
DTSTAMP:20260419T160748
CREATED:20260113T195752Z
LAST-MODIFIED:20260113T200401Z
UID:10002472-1772268300-1772278200@familleacoeur.qc.ca
SUMMARY:Groupe de soutien « L'Éveil en douceur »
DESCRIPTION:Ce groupe de soutien et de prévention de la dépression post-partum s’adresse aux mères qui vivent des difficultés émotionnelles et/ou une dépression post-partum. \nIl y aura aussi une rencontre en couple un samedi durant la session. \nGratuit pour les membres
URL:https://familleacoeur.qc.ca/evenement/groupe-de-soutien-leveil-en-douceur-3/2026-02-28/
CATEGORIES:Activités
ATTACH;FMTTYPE=image/jpeg:https://familleacoeur.qc.ca/wp-content/uploads/2025/03/hand-5961660_1280.jpg
END:VEVENT
BEGIN:VEVENT
DTSTART;TZID=America/Toronto:20260227T093000
DTEND;TZID=America/Toronto:20260227T113000
DTSTAMP:20260419T160748
CREATED:20241114T161909Z
LAST-MODIFIED:20260128T153315Z
UID:10002250-1772184600-1772191800@familleacoeur.qc.ca
SUMMARY:Langagibou
DESCRIPTION:L’atelier LANGAGIBOU invite le parent et son enfant à travailler le développement du langage. \nLe but est d’acquérir des stratégies langagières selon une approche personnalisée. \nLa rencontre est d’une durée de 2 heures assistée par deux accompagnatrices et divisée en quelques modules : causerie\, parcours dirigé\, activité de groupe structuré (thématique)\, collation et jeux libre(enfants) + causette (parents)\, histoire et départ. \nNote : Une pré-inscription est requise pour participer à l’atelier \nCOÛT : 90$ pour la session (revient à 10$ l’atelier)
URL:https://familleacoeur.qc.ca/evenement/langagibou-3/2026-02-27/
CATEGORIES:Activités
ATTACH;FMTTYPE=image/jpeg:https://familleacoeur.qc.ca/wp-content/uploads/2024/02/pexels-mart-production-7414905-scaled-e1708617596238.jpg
END:VEVENT
BEGIN:VEVENT
DTSTART;TZID=America/Toronto:20260226T084500
DTEND;TZID=America/Toronto:20260226T113000
DTSTAMP:20260419T160748
CREATED:20260113T195752Z
LAST-MODIFIED:20260113T200401Z
UID:10002485-1772095500-1772105400@familleacoeur.qc.ca
SUMMARY:Groupe de soutien « L'Éveil en douceur »
DESCRIPTION:Ce groupe de soutien et de prévention de la dépression post-partum s’adresse aux mères qui vivent des difficultés émotionnelles et/ou une dépression post-partum. \nIl y aura aussi une rencontre en couple un samedi durant la session. \nGratuit pour les membres
URL:https://familleacoeur.qc.ca/evenement/groupe-de-soutien-leveil-en-douceur-3/2026-02-26/
CATEGORIES:Activités
ATTACH;FMTTYPE=image/jpeg:https://familleacoeur.qc.ca/wp-content/uploads/2025/03/hand-5961660_1280.jpg
END:VEVENT
BEGIN:VEVENT
DTSTART;TZID=America/Toronto:20260225T093000
DTEND;TZID=America/Toronto:20260225T113000
DTSTAMP:20260419T160748
CREATED:20251110T192342Z
LAST-MODIFIED:20260204T162930Z
UID:10002235-1772011800-1772019000@familleacoeur.qc.ca
SUMMARY:Café-jasette «Les Galipettes» pour parents et enfants de 2 à 5 ans
DESCRIPTION:Pour parents et enfants âgés de 2 à 5 ans. \nPour connaître les prochaines dates de rencontres pour la session à venir\, consultez la page Facebook de Famille à Cœur ou notre calendrier.
URL:https://familleacoeur.qc.ca/evenement/cafe-jasette-les-galipettes-pour-parents-et-enfants-de-2-a-5-ans/2026-02-25/
CATEGORIES:Activités
ATTACH;FMTTYPE=image/jpeg:https://familleacoeur.qc.ca/wp-content/uploads/2021/02/galipettes2.jpg
END:VEVENT
BEGIN:VEVENT
DTSTART;TZID=America/Toronto:20260224T183000
DTEND;TZID=America/Toronto:20260224T203000
DTSTAMP:20260419T160748
CREATED:20251119T174410Z
LAST-MODIFIED:20260121T201712Z
UID:10002341-1771957800-1771965000@familleacoeur.qc.ca
SUMMARY:Préparation prénatale de groupe
DESCRIPTION:Préparation prénatale pour mieux se préparer à l’accouchement. \nPour connaître les prochaines dates de rencontres pour la session à venir\, consultez la page Facebook de Famille à Cœur ou notre calendrier.
URL:https://familleacoeur.qc.ca/evenement/preparation-prenatale-de-groupe-printemps-3-2/2026-02-24/
CATEGORIES:Services
ATTACH;FMTTYPE=image/jpeg:https://familleacoeur.qc.ca/wp-content/uploads/2021/08/rencontres-prenatales-1.jpg
END:VEVENT
BEGIN:VEVENT
DTSTART;TZID=America/Toronto:20260224T090000
DTEND;TZID=America/Toronto:20260224T120000
DTSTAMP:20260419T160748
CREATED:20251110T192848Z
LAST-MODIFIED:20260204T163153Z
UID:10002432-1771923600-1771934400@familleacoeur.qc.ca
SUMMARY:Les mères... Entre-Nous !
DESCRIPTION:l’« Entre-Nous » est un local mis à la disposition des mères qui désirent rencontrer d’autres mères… \nC’est GRATUIT et sans inscription.
URL:https://familleacoeur.qc.ca/evenement/les-meres-entre-nous-le-matin-2-2-3/2026-02-24/
CATEGORIES:Services
ATTACH;FMTTYPE=image/jpeg:https://familleacoeur.qc.ca/wp-content/uploads/2023/08/Bedons_12mai2022_007.jpg
END:VEVENT
BEGIN:VEVENT
DTSTART;TZID=America/Toronto:20260223T093000
DTEND;TZID=America/Toronto:20260223T113000
DTSTAMP:20260419T160748
CREATED:20260209T194319Z
LAST-MODIFIED:20260209T194529Z
UID:10002579-1771839000-1771846200@familleacoeur.qc.ca
SUMMARY:Espace nourrisson
DESCRIPTION:Grâce à cet espace\, les parents d’enfants de 0 à 6 mois peuvent venir rencontrer une intervenante périnatale pour du soutien et pour poser leurs questions. \nBienvenue !
URL:https://familleacoeur.qc.ca/evenement/espace-nourrisson/2026-02-23/
CATEGORIES:Activités,Services
ATTACH;FMTTYPE=image/jpeg:https://familleacoeur.qc.ca/wp-content/uploads/2026/01/pexels-polina-tankilevitch-3875280-scaled-e1768588875268.jpg
END:VEVENT
BEGIN:VEVENT
DTSTART;TZID=America/Toronto:20260223T093000
DTEND;TZID=America/Toronto:20260223T113000
DTSTAMP:20260419T160748
CREATED:20241114T161909Z
LAST-MODIFIED:20260128T153315Z
UID:10002249-1771839000-1771846200@familleacoeur.qc.ca
SUMMARY:Langagibou
DESCRIPTION:L’atelier LANGAGIBOU invite le parent et son enfant à travailler le développement du langage. \nLe but est d’acquérir des stratégies langagières selon une approche personnalisée. \nLa rencontre est d’une durée de 2 heures assistée par deux accompagnatrices et divisée en quelques modules : causerie\, parcours dirigé\, activité de groupe structuré (thématique)\, collation et jeux libre(enfants) + causette (parents)\, histoire et départ. \nNote : Une pré-inscription est requise pour participer à l’atelier \nCOÛT : 90$ pour la session (revient à 10$ l’atelier)
URL:https://familleacoeur.qc.ca/evenement/langagibou-3/2026-02-23/
CATEGORIES:Activités
ATTACH;FMTTYPE=image/jpeg:https://familleacoeur.qc.ca/wp-content/uploads/2024/02/pexels-mart-production-7414905-scaled-e1708617596238.jpg
END:VEVENT
END:VCALENDAR