BEGIN:VCALENDAR
VERSION:2.0
PRODID:-//Famille à Coeur - ECPv6.2.2//NONSGML v1.0//EN
CALSCALE:GREGORIAN
METHOD:PUBLISH
X-ORIGINAL-URL:https://familleacoeur.qc.ca
X-WR-CALDESC:évènements pour Famille à Coeur
REFRESH-INTERVAL;VALUE=DURATION:PT1H
X-Robots-Tag:noindex
X-PUBLISHED-TTL:PT1H
BEGIN:VTIMEZONE
TZID:America/Toronto
BEGIN:DAYLIGHT
TZOFFSETFROM:-0500
TZOFFSETTO:-0400
TZNAME:EDT
DTSTART:20260308T070000
END:DAYLIGHT
BEGIN:STANDARD
TZOFFSETFROM:-0400
TZOFFSETTO:-0500
TZNAME:EST
DTSTART:20261101T060000
END:STANDARD
END:VTIMEZONE
BEGIN:VEVENT
DTSTART;TZID=America/Toronto:20260520T093000
DTEND;TZID=America/Toronto:20260520T113000
DTSTAMP:20260419T144305
CREATED:20251110T192342Z
LAST-MODIFIED:20260204T162930Z
UID:10002534-1779269400-1779276600@familleacoeur.qc.ca
SUMMARY:Café-jasette «Les Galipettes» pour parents et enfants de 2 à 5 ans
DESCRIPTION:Pour parents et enfants âgés de 2 à 5 ans. \nPour connaître les prochaines dates de rencontres pour la session à venir\, consultez la page Facebook de Famille à Cœur ou notre calendrier.
URL:https://familleacoeur.qc.ca/evenement/cafe-jasette-les-galipettes-pour-parents-et-enfants-de-2-a-5-ans/2026-05-20/
CATEGORIES:Activités
ATTACH;FMTTYPE=image/jpeg:https://familleacoeur.qc.ca/wp-content/uploads/2021/02/galipettes2.jpg
END:VEVENT
BEGIN:VEVENT
DTSTART;TZID=America/Toronto:20260520T093000
DTEND;TZID=America/Toronto:20260520T113000
DTSTAMP:20260419T144305
CREATED:20260408T154617Z
LAST-MODIFIED:20260408T154640Z
UID:10002593-1779269400-1779276600@familleacoeur.qc.ca
SUMMARY:Parents sécurisants - café-rencontre
DESCRIPTION:Ces rencontres parentales servent à discuter de notre vision de la parentalité\, selon différents thèmes chaque semaine. \nElles s’adressent aux femmes enceintes\, aux pères et aux parents d’enfants âgés de 0 à 2 ans. \nLes mercredis de 9h30 à 11h30 \nGRATUIT
URL:https://familleacoeur.qc.ca/evenement/parents-securisants-cafe-rencontre-3-2/2026-05-20/
CATEGORIES:Activités,Services
ATTACH;FMTTYPE=image/jpeg:https://familleacoeur.qc.ca/wp-content/uploads/2026/01/pexels-yankrukov-7155106-scaled-e1768589536665.jpg
END:VEVENT
BEGIN:VEVENT
DTSTART;TZID=America/Toronto:20260520T180000
DTEND;TZID=America/Toronto:20260520T203000
DTSTAMP:20260419T144305
CREATED:20260204T163332Z
LAST-MODIFIED:20260204T164235Z
UID:10002553-1779300000-1779309000@familleacoeur.qc.ca
SUMMARY:Parler pour que les enfants écoutent\, écouter pour que les enfants parlent
DESCRIPTION:Description : Ce programme est conçu pour permettre à votre famille de vivre des relations plus harmonieuses. Échelonné sur 8 rencontres\, il sera question de présence\, de leadership\, de communication\, d’écoute\, d’attention et de beauté du moment présent. Ces ateliers ont pour objectif d’aider les parents à développer divers outils en passant par six thèmes : \n1. Accueillir les sentiments pénibles \n2. Susciter la coopération \n3. Remplacer la punition \n4. Encourager l’autonomie \n5. Compliments et estime de soi \n6. Aider les enfants à se dégager des rôles
URL:https://familleacoeur.qc.ca/evenement/parler-pour-que-les-enfants-ecoutent-ecouter-pour-que-les-enfants-parlent-2-2-2/2026-05-20/
CATEGORIES:Ateliers
ATTACH;FMTTYPE=image/jpeg:https://familleacoeur.qc.ca/wp-content/uploads/2021/02/parler-ecouter2.jpg
END:VEVENT
BEGIN:VEVENT
DTSTART;TZID=America/Toronto:20260521T190000
DTEND;TZID=America/Toronto:20260521T203000
DTSTAMP:20260419T144305
CREATED:20250813T185032Z
LAST-MODIFIED:20260414T192716Z
UID:10002499-1779390000-1779395400@familleacoeur.qc.ca
SUMMARY:Groupe E.S.P.O.I.R.
DESCRIPTION:Ce groupe de soutien s’adresse aux familles qui vivent une grossesse à la suite d’un deuil périnatal. \nLes participants pourront échanger sur la réalité qu’ils vivent tout au long de la grossesse. \nGratuit pour les membres. \nÉmotion – Soutien – Parentalité – Optimisme – Intensité – Réalité \n\n\n450 346-1734
URL:https://familleacoeur.qc.ca/evenement/groupe-e-s-p-o-i-r/2026-05-21/
CATEGORIES:Services
ATTACH;FMTTYPE=image/jpeg:https://familleacoeur.qc.ca/wp-content/uploads/2022/12/pregnant-gc77da4c24_1280.jpg
END:VEVENT
BEGIN:VEVENT
DTSTART;TZID=America/Toronto:20260521T190000
DTEND;TZID=America/Toronto:20260521T210000
DTSTAMP:20260419T144305
CREATED:20260123T202232Z
LAST-MODIFIED:20260123T202314Z
UID:10002517-1779390000-1779397200@familleacoeur.qc.ca
SUMMARY:Relâche la soupape
DESCRIPTION:Nouveau \nAtelier offert aux hommes aux prises avec des émotions et croyances aux effets néfastes avec leur entourage. Famille à Cœur propose une démarche afin de rehausser et/ou consolider l’estime de soi des participants dans une perspective d’harmoniser leurs relations en général. \nUn service de garde est offert gratuitement aux participants\, sur réservation. \nPour connaître les prochaines dates\, consultez la page Facebook de Maison Oxygène Haut-Richelieu ou notre calendrier.
URL:https://familleacoeur.qc.ca/evenement/relache-de-la-soupape-2-2-2-2/2026-05-21/
CATEGORIES:Ateliers
ATTACH;FMTTYPE=image/jpeg:https://familleacoeur.qc.ca/wp-content/uploads/2021/02/relache-la-soupape2.jpg
END:VEVENT
BEGIN:VEVENT
DTSTART;TZID=America/Toronto:20260525T090000
DTEND;TZID=America/Toronto:20260525T113000
DTSTAMP:20260419T144305
CREATED:20260204T165336Z
LAST-MODIFIED:20260204T165455Z
UID:10002561-1779699600-1779708600@familleacoeur.qc.ca
SUMMARY:Groupe de soutien « L'Éveil en douceur »
DESCRIPTION:Ce groupe de soutien et de prévention de la dépression post-partum s’adresse aux mères qui vivent des difficultés émotionnelles et/ou une dépression post-partum. \nIl y aura aussi une rencontre en couple un samedi durant la session. \nGratuit pour les membres
URL:https://familleacoeur.qc.ca/evenement/groupe-de-soutien-leveil-en-douceur-2-3/2026-05-25/
CATEGORIES:Activités
ATTACH;FMTTYPE=image/jpeg:https://familleacoeur.qc.ca/wp-content/uploads/2025/03/hand-5961660_1280.jpg
END:VEVENT
BEGIN:VEVENT
DTSTART;TZID=America/Toronto:20260525T093000
DTEND;TZID=America/Toronto:20260525T113000
DTSTAMP:20260419T144305
CREATED:20260408T181753Z
LAST-MODIFIED:20260408T181911Z
UID:10002604-1779701400-1779708600@familleacoeur.qc.ca
SUMMARY:Espace nourrisson
DESCRIPTION:Grâce à cet espace\, les parents d’enfants de 0 à 6 mois peuvent venir rencontrer une intervenante périnatale pour du soutien et pour poser leurs questions. \nBienvenue !
URL:https://familleacoeur.qc.ca/evenement/espace-nourrisson-2/2026-05-25/
CATEGORIES:Activités,Services
ATTACH;FMTTYPE=image/jpeg:https://familleacoeur.qc.ca/wp-content/uploads/2026/01/pexels-polina-tankilevitch-3875280-scaled-e1768588875268.jpg
END:VEVENT
BEGIN:VEVENT
DTSTART;TZID=America/Toronto:20260526T090000
DTEND;TZID=America/Toronto:20260526T120000
DTSTAMP:20260419T144305
CREATED:20251110T192848Z
LAST-MODIFIED:20260204T163153Z
UID:10002547-1779786000-1779796800@familleacoeur.qc.ca
SUMMARY:Les mères... Entre-Nous !
DESCRIPTION:l’« Entre-Nous » est un local mis à la disposition des mères qui désirent rencontrer d’autres mères… \nC’est GRATUIT et sans inscription.
URL:https://familleacoeur.qc.ca/evenement/les-meres-entre-nous-le-matin-2-2-3/2026-05-26/
CATEGORIES:Services
ATTACH;FMTTYPE=image/jpeg:https://familleacoeur.qc.ca/wp-content/uploads/2023/08/Bedons_12mai2022_007.jpg
END:VEVENT
BEGIN:VEVENT
DTSTART;TZID=America/Toronto:20260526T183000
DTEND;TZID=America/Toronto:20260526T203000
DTSTAMP:20260419T144305
CREATED:20260123T194123Z
LAST-MODIFIED:20260204T141457Z
UID:10002021-1779820200-1779827400@familleacoeur.qc.ca
SUMMARY:Préparation prénatale de groupe
DESCRIPTION:Préparation prénatale pour mieux se préparer à l’accouchement. \nPour connaître les prochaines dates de rencontres pour la session à venir\, consultez la page Facebook de Famille à Cœur ou notre calendrier.
URL:https://familleacoeur.qc.ca/evenement/preparation-prenatale-de-groupe-printemps-2-2-2-2/2026-05-26/
CATEGORIES:Services
ATTACH;FMTTYPE=image/jpeg:https://familleacoeur.qc.ca/wp-content/uploads/2021/08/rencontres-prenatales-1.jpg
END:VEVENT
BEGIN:VEVENT
DTSTART;TZID=America/Toronto:20260527T093000
DTEND;TZID=America/Toronto:20260527T113000
DTSTAMP:20260419T144305
CREATED:20251110T192342Z
LAST-MODIFIED:20260204T162930Z
UID:10002535-1779874200-1779881400@familleacoeur.qc.ca
SUMMARY:Café-jasette «Les Galipettes» pour parents et enfants de 2 à 5 ans
DESCRIPTION:Pour parents et enfants âgés de 2 à 5 ans. \nPour connaître les prochaines dates de rencontres pour la session à venir\, consultez la page Facebook de Famille à Cœur ou notre calendrier.
URL:https://familleacoeur.qc.ca/evenement/cafe-jasette-les-galipettes-pour-parents-et-enfants-de-2-a-5-ans/2026-05-27/
CATEGORIES:Activités
ATTACH;FMTTYPE=image/jpeg:https://familleacoeur.qc.ca/wp-content/uploads/2021/02/galipettes2.jpg
END:VEVENT
BEGIN:VEVENT
DTSTART;TZID=America/Toronto:20260527T093000
DTEND;TZID=America/Toronto:20260527T113000
DTSTAMP:20260419T144305
CREATED:20260408T154617Z
LAST-MODIFIED:20260408T154640Z
UID:10002594-1779874200-1779881400@familleacoeur.qc.ca
SUMMARY:Parents sécurisants - café-rencontre
DESCRIPTION:Ces rencontres parentales servent à discuter de notre vision de la parentalité\, selon différents thèmes chaque semaine. \nElles s’adressent aux femmes enceintes\, aux pères et aux parents d’enfants âgés de 0 à 2 ans. \nLes mercredis de 9h30 à 11h30 \nGRATUIT
URL:https://familleacoeur.qc.ca/evenement/parents-securisants-cafe-rencontre-3-2/2026-05-27/
CATEGORIES:Activités,Services
ATTACH;FMTTYPE=image/jpeg:https://familleacoeur.qc.ca/wp-content/uploads/2026/01/pexels-yankrukov-7155106-scaled-e1768589536665.jpg
END:VEVENT
BEGIN:VEVENT
DTSTART;TZID=America/Toronto:20260527T180000
DTEND;TZID=America/Toronto:20260527T203000
DTSTAMP:20260419T144305
CREATED:20260204T163332Z
LAST-MODIFIED:20260204T164235Z
UID:10002554-1779904800-1779913800@familleacoeur.qc.ca
SUMMARY:Parler pour que les enfants écoutent\, écouter pour que les enfants parlent
DESCRIPTION:Description : Ce programme est conçu pour permettre à votre famille de vivre des relations plus harmonieuses. Échelonné sur 8 rencontres\, il sera question de présence\, de leadership\, de communication\, d’écoute\, d’attention et de beauté du moment présent. Ces ateliers ont pour objectif d’aider les parents à développer divers outils en passant par six thèmes : \n1. Accueillir les sentiments pénibles \n2. Susciter la coopération \n3. Remplacer la punition \n4. Encourager l’autonomie \n5. Compliments et estime de soi \n6. Aider les enfants à se dégager des rôles
URL:https://familleacoeur.qc.ca/evenement/parler-pour-que-les-enfants-ecoutent-ecouter-pour-que-les-enfants-parlent-2-2-2/2026-05-27/
CATEGORIES:Ateliers
ATTACH;FMTTYPE=image/jpeg:https://familleacoeur.qc.ca/wp-content/uploads/2021/02/parler-ecouter2.jpg
END:VEVENT
BEGIN:VEVENT
DTSTART;TZID=America/Toronto:20260528T190000
DTEND;TZID=America/Toronto:20260528T210000
DTSTAMP:20260419T144305
CREATED:20260123T202232Z
LAST-MODIFIED:20260123T202314Z
UID:10002518-1779994800-1780002000@familleacoeur.qc.ca
SUMMARY:Relâche la soupape
DESCRIPTION:Nouveau \nAtelier offert aux hommes aux prises avec des émotions et croyances aux effets néfastes avec leur entourage. Famille à Cœur propose une démarche afin de rehausser et/ou consolider l’estime de soi des participants dans une perspective d’harmoniser leurs relations en général. \nUn service de garde est offert gratuitement aux participants\, sur réservation. \nPour connaître les prochaines dates\, consultez la page Facebook de Maison Oxygène Haut-Richelieu ou notre calendrier.
URL:https://familleacoeur.qc.ca/evenement/relache-de-la-soupape-2-2-2-2/2026-05-28/
CATEGORIES:Ateliers
ATTACH;FMTTYPE=image/jpeg:https://familleacoeur.qc.ca/wp-content/uploads/2021/02/relache-la-soupape2.jpg
END:VEVENT
BEGIN:VEVENT
DTSTART;TZID=America/Toronto:20260530T100000
DTEND;TZID=America/Toronto:20260530T113000
DTSTAMP:20260419T144305
CREATED:20231212T181020Z
LAST-MODIFIED:20260204T162802Z
UID:10000005-1780135200-1780140600@familleacoeur.qc.ca
SUMMARY:Atelier-conférence «Étouffement et RCR bébé et enfant 0-12 ans»
DESCRIPTION:Cet atelier s’adresse aux personnes qui désirent en savoir davantage sur les techniques de soins d’urgence pour des jeunes enfants de 0 à 12 ans. \nCoût de 40.00$/personne* \nUn service de garde est offert gratuitement aux participants\, sur réservation. \n*Si le coût est un frein à votre participation\, svp veuillez communiquer avec nous pour en discuter. Ensemble\, nous trouverons une solution.
URL:https://familleacoeur.qc.ca/evenement/atelier-conference-etouffement-et-rcr-bebe-et-enfant-0-12-ans-2/
CATEGORIES:Ateliers
ATTACH;FMTTYPE=image/jpeg:https://familleacoeur.qc.ca/wp-content/uploads/2021/02/rcr-bebe-enfants1.jpg
END:VEVENT
BEGIN:VEVENT
DTSTART;TZID=America/Toronto:20260601T090000
DTEND;TZID=America/Toronto:20260601T113000
DTSTAMP:20260419T144305
CREATED:20260204T165336Z
LAST-MODIFIED:20260204T165455Z
UID:10002562-1780304400-1780313400@familleacoeur.qc.ca
SUMMARY:Groupe de soutien « L'Éveil en douceur »
DESCRIPTION:Ce groupe de soutien et de prévention de la dépression post-partum s’adresse aux mères qui vivent des difficultés émotionnelles et/ou une dépression post-partum. \nIl y aura aussi une rencontre en couple un samedi durant la session. \nGratuit pour les membres
URL:https://familleacoeur.qc.ca/evenement/groupe-de-soutien-leveil-en-douceur-2-3/2026-06-01/
CATEGORIES:Activités
ATTACH;FMTTYPE=image/jpeg:https://familleacoeur.qc.ca/wp-content/uploads/2025/03/hand-5961660_1280.jpg
END:VEVENT
BEGIN:VEVENT
DTSTART;TZID=America/Toronto:20260601T093000
DTEND;TZID=America/Toronto:20260601T113000
DTSTAMP:20260419T144305
CREATED:20260408T181753Z
LAST-MODIFIED:20260408T181911Z
UID:10002605-1780306200-1780313400@familleacoeur.qc.ca
SUMMARY:Espace nourrisson
DESCRIPTION:Grâce à cet espace\, les parents d’enfants de 0 à 6 mois peuvent venir rencontrer une intervenante périnatale pour du soutien et pour poser leurs questions. \nBienvenue !
URL:https://familleacoeur.qc.ca/evenement/espace-nourrisson-2/2026-06-01/
CATEGORIES:Activités,Services
ATTACH;FMTTYPE=image/jpeg:https://familleacoeur.qc.ca/wp-content/uploads/2026/01/pexels-polina-tankilevitch-3875280-scaled-e1768588875268.jpg
END:VEVENT
BEGIN:VEVENT
DTSTART;TZID=America/Toronto:20260602T090000
DTEND;TZID=America/Toronto:20260602T120000
DTSTAMP:20260419T144305
CREATED:20251110T192848Z
LAST-MODIFIED:20260204T163153Z
UID:10002548-1780390800-1780401600@familleacoeur.qc.ca
SUMMARY:Les mères... Entre-Nous !
DESCRIPTION:l’« Entre-Nous » est un local mis à la disposition des mères qui désirent rencontrer d’autres mères… \nC’est GRATUIT et sans inscription.
URL:https://familleacoeur.qc.ca/evenement/les-meres-entre-nous-le-matin-2-2-3/2026-06-02/
CATEGORIES:Services
ATTACH;FMTTYPE=image/jpeg:https://familleacoeur.qc.ca/wp-content/uploads/2023/08/Bedons_12mai2022_007.jpg
END:VEVENT
BEGIN:VEVENT
DTSTART;TZID=America/Toronto:20260602T183000
DTEND;TZID=America/Toronto:20260602T203000
DTSTAMP:20260419T144305
CREATED:20260123T194123Z
LAST-MODIFIED:20260204T141457Z
UID:10002521-1780425000-1780432200@familleacoeur.qc.ca
SUMMARY:Préparation prénatale de groupe
DESCRIPTION:Préparation prénatale pour mieux se préparer à l’accouchement. \nPour connaître les prochaines dates de rencontres pour la session à venir\, consultez la page Facebook de Famille à Cœur ou notre calendrier.
URL:https://familleacoeur.qc.ca/evenement/preparation-prenatale-de-groupe-printemps-2-2-2-2/2026-06-02/
CATEGORIES:Services
ATTACH;FMTTYPE=image/jpeg:https://familleacoeur.qc.ca/wp-content/uploads/2021/08/rencontres-prenatales-1.jpg
END:VEVENT
BEGIN:VEVENT
DTSTART;TZID=America/Toronto:20260603T093000
DTEND;TZID=America/Toronto:20260603T113000
DTSTAMP:20260419T144305
CREATED:20251110T192342Z
LAST-MODIFIED:20260204T162930Z
UID:10002536-1780479000-1780486200@familleacoeur.qc.ca
SUMMARY:Café-jasette «Les Galipettes» pour parents et enfants de 2 à 5 ans
DESCRIPTION:Pour parents et enfants âgés de 2 à 5 ans. \nPour connaître les prochaines dates de rencontres pour la session à venir\, consultez la page Facebook de Famille à Cœur ou notre calendrier.
URL:https://familleacoeur.qc.ca/evenement/cafe-jasette-les-galipettes-pour-parents-et-enfants-de-2-a-5-ans/2026-06-03/
CATEGORIES:Activités
ATTACH;FMTTYPE=image/jpeg:https://familleacoeur.qc.ca/wp-content/uploads/2021/02/galipettes2.jpg
END:VEVENT
BEGIN:VEVENT
DTSTART;TZID=America/Toronto:20260603T093000
DTEND;TZID=America/Toronto:20260603T113000
DTSTAMP:20260419T144305
CREATED:20260408T154617Z
LAST-MODIFIED:20260408T154640Z
UID:10002595-1780479000-1780486200@familleacoeur.qc.ca
SUMMARY:Parents sécurisants - café-rencontre
DESCRIPTION:Ces rencontres parentales servent à discuter de notre vision de la parentalité\, selon différents thèmes chaque semaine. \nElles s’adressent aux femmes enceintes\, aux pères et aux parents d’enfants âgés de 0 à 2 ans. \nLes mercredis de 9h30 à 11h30 \nGRATUIT
URL:https://familleacoeur.qc.ca/evenement/parents-securisants-cafe-rencontre-3-2/2026-06-03/
CATEGORIES:Activités,Services
ATTACH;FMTTYPE=image/jpeg:https://familleacoeur.qc.ca/wp-content/uploads/2026/01/pexels-yankrukov-7155106-scaled-e1768589536665.jpg
END:VEVENT
BEGIN:VEVENT
DTSTART;TZID=America/Toronto:20260603T180000
DTEND;TZID=America/Toronto:20260603T203000
DTSTAMP:20260419T144305
CREATED:20260204T163332Z
LAST-MODIFIED:20260204T164235Z
UID:10002555-1780509600-1780518600@familleacoeur.qc.ca
SUMMARY:Parler pour que les enfants écoutent\, écouter pour que les enfants parlent
DESCRIPTION:Description : Ce programme est conçu pour permettre à votre famille de vivre des relations plus harmonieuses. Échelonné sur 8 rencontres\, il sera question de présence\, de leadership\, de communication\, d’écoute\, d’attention et de beauté du moment présent. Ces ateliers ont pour objectif d’aider les parents à développer divers outils en passant par six thèmes : \n1. Accueillir les sentiments pénibles \n2. Susciter la coopération \n3. Remplacer la punition \n4. Encourager l’autonomie \n5. Compliments et estime de soi \n6. Aider les enfants à se dégager des rôles
URL:https://familleacoeur.qc.ca/evenement/parler-pour-que-les-enfants-ecoutent-ecouter-pour-que-les-enfants-parlent-2-2-2/2026-06-03/
CATEGORIES:Ateliers
ATTACH;FMTTYPE=image/jpeg:https://familleacoeur.qc.ca/wp-content/uploads/2021/02/parler-ecouter2.jpg
END:VEVENT
BEGIN:VEVENT
DTSTART;TZID=America/Toronto:20260608T090000
DTEND;TZID=America/Toronto:20260608T113000
DTSTAMP:20260419T144305
CREATED:20260204T165336Z
LAST-MODIFIED:20260204T165455Z
UID:10002563-1780909200-1780918200@familleacoeur.qc.ca
SUMMARY:Groupe de soutien « L'Éveil en douceur »
DESCRIPTION:Ce groupe de soutien et de prévention de la dépression post-partum s’adresse aux mères qui vivent des difficultés émotionnelles et/ou une dépression post-partum. \nIl y aura aussi une rencontre en couple un samedi durant la session. \nGratuit pour les membres
URL:https://familleacoeur.qc.ca/evenement/groupe-de-soutien-leveil-en-douceur-2-3/2026-06-08/
CATEGORIES:Activités
ATTACH;FMTTYPE=image/jpeg:https://familleacoeur.qc.ca/wp-content/uploads/2025/03/hand-5961660_1280.jpg
END:VEVENT
BEGIN:VEVENT
DTSTART;TZID=America/Toronto:20260608T093000
DTEND;TZID=America/Toronto:20260608T113000
DTSTAMP:20260419T144305
CREATED:20260408T181753Z
LAST-MODIFIED:20260408T181911Z
UID:10002606-1780911000-1780918200@familleacoeur.qc.ca
SUMMARY:Espace nourrisson
DESCRIPTION:Grâce à cet espace\, les parents d’enfants de 0 à 6 mois peuvent venir rencontrer une intervenante périnatale pour du soutien et pour poser leurs questions. \nBienvenue !
URL:https://familleacoeur.qc.ca/evenement/espace-nourrisson-2/2026-06-08/
CATEGORIES:Activités,Services
ATTACH;FMTTYPE=image/jpeg:https://familleacoeur.qc.ca/wp-content/uploads/2026/01/pexels-polina-tankilevitch-3875280-scaled-e1768588875268.jpg
END:VEVENT
BEGIN:VEVENT
DTSTART;TZID=America/Toronto:20260609T090000
DTEND;TZID=America/Toronto:20260609T120000
DTSTAMP:20260419T144305
CREATED:20251110T192848Z
LAST-MODIFIED:20260204T163153Z
UID:10002549-1780995600-1781006400@familleacoeur.qc.ca
SUMMARY:Les mères... Entre-Nous !
DESCRIPTION:l’« Entre-Nous » est un local mis à la disposition des mères qui désirent rencontrer d’autres mères… \nC’est GRATUIT et sans inscription.
URL:https://familleacoeur.qc.ca/evenement/les-meres-entre-nous-le-matin-2-2-3/2026-06-09/
CATEGORIES:Services
ATTACH;FMTTYPE=image/jpeg:https://familleacoeur.qc.ca/wp-content/uploads/2023/08/Bedons_12mai2022_007.jpg
END:VEVENT
BEGIN:VEVENT
DTSTART;TZID=America/Toronto:20260609T183000
DTEND;TZID=America/Toronto:20260609T203000
DTSTAMP:20260419T144305
CREATED:20260123T194123Z
LAST-MODIFIED:20260204T141457Z
UID:10002522-1781029800-1781037000@familleacoeur.qc.ca
SUMMARY:Préparation prénatale de groupe
DESCRIPTION:Préparation prénatale pour mieux se préparer à l’accouchement. \nPour connaître les prochaines dates de rencontres pour la session à venir\, consultez la page Facebook de Famille à Cœur ou notre calendrier.
URL:https://familleacoeur.qc.ca/evenement/preparation-prenatale-de-groupe-printemps-2-2-2-2/2026-06-09/
CATEGORIES:Services
ATTACH;FMTTYPE=image/jpeg:https://familleacoeur.qc.ca/wp-content/uploads/2021/08/rencontres-prenatales-1.jpg
END:VEVENT
BEGIN:VEVENT
DTSTART;TZID=America/Toronto:20260610T093000
DTEND;TZID=America/Toronto:20260610T113000
DTSTAMP:20260419T144305
CREATED:20251110T192342Z
LAST-MODIFIED:20260204T162930Z
UID:10002537-1781083800-1781091000@familleacoeur.qc.ca
SUMMARY:Café-jasette «Les Galipettes» pour parents et enfants de 2 à 5 ans
DESCRIPTION:Pour parents et enfants âgés de 2 à 5 ans. \nPour connaître les prochaines dates de rencontres pour la session à venir\, consultez la page Facebook de Famille à Cœur ou notre calendrier.
URL:https://familleacoeur.qc.ca/evenement/cafe-jasette-les-galipettes-pour-parents-et-enfants-de-2-a-5-ans/2026-06-10/
CATEGORIES:Activités
ATTACH;FMTTYPE=image/jpeg:https://familleacoeur.qc.ca/wp-content/uploads/2021/02/galipettes2.jpg
END:VEVENT
BEGIN:VEVENT
DTSTART;TZID=America/Toronto:20260610T093000
DTEND;TZID=America/Toronto:20260610T113000
DTSTAMP:20260419T144305
CREATED:20260408T154617Z
LAST-MODIFIED:20260408T154640Z
UID:10002596-1781083800-1781091000@familleacoeur.qc.ca
SUMMARY:Parents sécurisants - café-rencontre
DESCRIPTION:Ces rencontres parentales servent à discuter de notre vision de la parentalité\, selon différents thèmes chaque semaine. \nElles s’adressent aux femmes enceintes\, aux pères et aux parents d’enfants âgés de 0 à 2 ans. \nLes mercredis de 9h30 à 11h30 \nGRATUIT
URL:https://familleacoeur.qc.ca/evenement/parents-securisants-cafe-rencontre-3-2/2026-06-10/
CATEGORIES:Activités,Services
ATTACH;FMTTYPE=image/jpeg:https://familleacoeur.qc.ca/wp-content/uploads/2026/01/pexels-yankrukov-7155106-scaled-e1768589536665.jpg
END:VEVENT
BEGIN:VEVENT
DTSTART;TZID=America/Toronto:20260610T180000
DTEND;TZID=America/Toronto:20260610T203000
DTSTAMP:20260419T144305
CREATED:20260204T163332Z
LAST-MODIFIED:20260204T164235Z
UID:10002556-1781114400-1781123400@familleacoeur.qc.ca
SUMMARY:Parler pour que les enfants écoutent\, écouter pour que les enfants parlent
DESCRIPTION:Description : Ce programme est conçu pour permettre à votre famille de vivre des relations plus harmonieuses. Échelonné sur 8 rencontres\, il sera question de présence\, de leadership\, de communication\, d’écoute\, d’attention et de beauté du moment présent. Ces ateliers ont pour objectif d’aider les parents à développer divers outils en passant par six thèmes : \n1. Accueillir les sentiments pénibles \n2. Susciter la coopération \n3. Remplacer la punition \n4. Encourager l’autonomie \n5. Compliments et estime de soi \n6. Aider les enfants à se dégager des rôles
URL:https://familleacoeur.qc.ca/evenement/parler-pour-que-les-enfants-ecoutent-ecouter-pour-que-les-enfants-parlent-2-2-2/2026-06-10/
CATEGORIES:Ateliers
ATTACH;FMTTYPE=image/jpeg:https://familleacoeur.qc.ca/wp-content/uploads/2021/02/parler-ecouter2.jpg
END:VEVENT
BEGIN:VEVENT
DTSTART;TZID=America/Toronto:20260615T090000
DTEND;TZID=America/Toronto:20260615T113000
DTSTAMP:20260419T144305
CREATED:20260204T165336Z
LAST-MODIFIED:20260204T165455Z
UID:10002564-1781514000-1781523000@familleacoeur.qc.ca
SUMMARY:Groupe de soutien « L'Éveil en douceur »
DESCRIPTION:Ce groupe de soutien et de prévention de la dépression post-partum s’adresse aux mères qui vivent des difficultés émotionnelles et/ou une dépression post-partum. \nIl y aura aussi une rencontre en couple un samedi durant la session. \nGratuit pour les membres
URL:https://familleacoeur.qc.ca/evenement/groupe-de-soutien-leveil-en-douceur-2-3/2026-06-15/
CATEGORIES:Activités
ATTACH;FMTTYPE=image/jpeg:https://familleacoeur.qc.ca/wp-content/uploads/2025/03/hand-5961660_1280.jpg
END:VEVENT
BEGIN:VEVENT
DTSTART;TZID=America/Toronto:20260615T093000
DTEND;TZID=America/Toronto:20260615T113000
DTSTAMP:20260419T144305
CREATED:20260408T181753Z
LAST-MODIFIED:20260408T181911Z
UID:10002607-1781515800-1781523000@familleacoeur.qc.ca
SUMMARY:Espace nourrisson
DESCRIPTION:Grâce à cet espace\, les parents d’enfants de 0 à 6 mois peuvent venir rencontrer une intervenante périnatale pour du soutien et pour poser leurs questions. \nBienvenue !
URL:https://familleacoeur.qc.ca/evenement/espace-nourrisson-2/2026-06-15/
CATEGORIES:Activités,Services
ATTACH;FMTTYPE=image/jpeg:https://familleacoeur.qc.ca/wp-content/uploads/2026/01/pexels-polina-tankilevitch-3875280-scaled-e1768588875268.jpg
END:VEVENT
END:VCALENDAR