BEGIN:VCALENDAR
VERSION:2.0
PRODID:-//Famille à Coeur - ECPv6.2.2//NONSGML v1.0//EN
CALSCALE:GREGORIAN
METHOD:PUBLISH
X-ORIGINAL-URL:https://familleacoeur.qc.ca
X-WR-CALDESC:évènements pour Famille à Coeur
REFRESH-INTERVAL;VALUE=DURATION:PT1H
X-Robots-Tag:noindex
X-PUBLISHED-TTL:PT1H
BEGIN:VTIMEZONE
TZID:America/Toronto
BEGIN:DAYLIGHT
TZOFFSETFROM:-0500
TZOFFSETTO:-0400
TZNAME:EDT
DTSTART:20240310T070000
END:DAYLIGHT
BEGIN:STANDARD
TZOFFSETFROM:-0400
TZOFFSETTO:-0500
TZNAME:EST
DTSTART:20241103T060000
END:STANDARD
END:VTIMEZONE
BEGIN:VEVENT
DTSTART;TZID=America/Toronto:20240929T100000
DTEND;TZID=America/Toronto:20240929T160000
DTSTAMP:20260423T181010
CREATED:20240912T164555Z
LAST-MODIFIED:20241114T164151Z
UID:10001512-1727604000-1727625600@familleacoeur.qc.ca
SUMMARY:Dimanche détente
DESCRIPTION:Besoin d’un répit ? D’une sortie ? \nNous offrons un service de répit\, les dimanches\, de 10h à 16h pour les enfants de 0-12 ans\, afin que les parents profitent d’un moment entre eux ! \nAu menu pour les enfants : jeux extérieurs\, bricolages\, jeux actifs\, jeux calmes et film.
URL:https://familleacoeur.qc.ca/evenement/repit-du-dimanche/2024-09-29/
CATEGORIES:Services
ATTACH;FMTTYPE=image/jpeg:https://familleacoeur.qc.ca/wp-content/uploads/2023/10/pexels-ksenia-chernaya-8535230-scaled.jpg
END:VEVENT
BEGIN:VEVENT
DTSTART;TZID=America/Toronto:20240928T153000
DTEND;TZID=America/Toronto:20240928T203000
DTSTAMP:20260423T181010
CREATED:20240912T133946Z
LAST-MODIFIED:20241114T163808Z
UID:10001499-1727537400-1727555400@familleacoeur.qc.ca
SUMMARY:Samedi d'sortir
DESCRIPTION:Besoin d’un répit ? D’une sortie ? \nNous offrons un service de répit\, les samedis\, de 15 h 30 à 20 h 30 pour les enfants de 0-12 ans\, afin que les parents profitent d’une belle soirée\, le temps d’une p’tite sortie ! \nAu menu de la soirée\, jeux extérieurs\, bricolages\, jeux actifs\, jeux calmes et film.
URL:https://familleacoeur.qc.ca/evenement/samedi-dsortir-pour-enfants-0-12-ans-2-2/2024-09-28/
CATEGORIES:Services
ATTACH;FMTTYPE=image/jpeg:https://familleacoeur.qc.ca/wp-content/uploads/2021/02/samedi-repit.jpg
END:VEVENT
BEGIN:VEVENT
DTSTART;TZID=America/Toronto:20240928T093000
DTEND;TZID=America/Toronto:20240928T113000
DTSTAMP:20260423T181010
CREATED:20240807T185953Z
LAST-MODIFIED:20240807T190124Z
UID:10001333-1727515800-1727523000@familleacoeur.qc.ca
SUMMARY:Langagibou
DESCRIPTION:L’atelier LANGAGIBOU invite le parent et son enfant à travailler le développement du langage. \nLe but est d’acquérir des stratégies langagières selon une approche personnalisée. \nLa rencontre est d’une durée de 2 heures assistée par deux accompagnatrices et divisée en quelques modules : causerie\, parcours dirigé\, activité de groupe structuré (thématique)\, collation et jeux libre(enfants) + causette (parents)\, histoire et départ. \nNote : Une pré-inscription est requise pour participer à l’atelier
URL:https://familleacoeur.qc.ca/evenement/langagibou-2/2024-09-28/
CATEGORIES:Activités
ATTACH;FMTTYPE=image/jpeg:https://familleacoeur.qc.ca/wp-content/uploads/2024/02/pexels-mart-production-7414905-scaled-e1708617596238.jpg
END:VEVENT
BEGIN:VEVENT
DTSTART;TZID=America/Toronto:20240926T183000
DTEND;TZID=America/Toronto:20240926T203000
DTSTAMP:20260423T181010
CREATED:20240807T183558Z
LAST-MODIFIED:20240821T200620Z
UID:10001208-1727375400-1727382600@familleacoeur.qc.ca
SUMMARY:Préparation prénatale de groupe
DESCRIPTION:Préparation prénatale pour mieux se préparer à l’accouchement. \nPour connaître les prochaines dates de rencontres pour la session à venir\, consultez la page Facebook de Famille à Cœur ou notre calendrier.
URL:https://familleacoeur.qc.ca/evenement/preparation-prenatale-de-groupe-printemps-2/2024-09-26/
CATEGORIES:Services
ATTACH;FMTTYPE=image/jpeg:https://familleacoeur.qc.ca/wp-content/uploads/2021/08/rencontres-prenatales-1.jpg
END:VEVENT
BEGIN:VEVENT
DTSTART;TZID=America/Toronto:20240926T093000
DTEND;TZID=America/Toronto:20240926T113000
DTSTAMP:20260423T181010
CREATED:20240807T190754Z
LAST-MODIFIED:20240807T190905Z
UID:10001399-1727343000-1727350200@familleacoeur.qc.ca
SUMMARY:Les p’tits matins bedons poupons
DESCRIPTION:Cette activité s’adresse aux parents d’enfants de 0 (grossesse) à 2 ans. Les p’tits matins bedons poupons se déroulent de 9 h 30 à 11 h 30 à tous les jeudis. Le but est de permettre à ces parents de rencontrer d’autres parents\, afin d’échanger et d’en apprendre sur des sujets en lien direct avec leur réalité commune\, accompagnés de leur poupon. À l’occasion nous avons des invités qui viennent discuter de différents sujets tels que la nutrition (DME)\, ostéopathie\, massothérapie pour bébé\, etc. \nGratuit pour les membres.
URL:https://familleacoeur.qc.ca/evenement/les-ptits-matins-bedons-poupons-ete-2-2/2024-09-26/
CATEGORIES:Activités,Services
ATTACH;FMTTYPE=image/jpeg:https://familleacoeur.qc.ca/wp-content/uploads/2021/02/bedons-poupons.jpg
END:VEVENT
BEGIN:VEVENT
DTSTART;TZID=America/Toronto:20240925T093000
DTEND;TZID=America/Toronto:20240925T113000
DTSTAMP:20260423T181010
CREATED:20240807T191132Z
LAST-MODIFIED:20240807T191227Z
UID:10001412-1727256600-1727263800@familleacoeur.qc.ca
SUMMARY:Café-jasette «Les Galipettes» pour parents et enfants de 2 à 5 ans
DESCRIPTION:Pour parents et enfants âgés de 2 à 5 ans. \nPour connaître les prochaines dates de rencontres pour la session à venir\, consultez la page Facebook de Famille à Cœur ou notre calendrier.
URL:https://familleacoeur.qc.ca/evenement/cafe-jasette-les-galipettes-pour-parents-et-enfants-de-2-a-5-ans-2-2/2024-09-25/
CATEGORIES:Activités
ATTACH;FMTTYPE=image/jpeg:https://familleacoeur.qc.ca/wp-content/uploads/2021/02/galipettes2.jpg
END:VEVENT
BEGIN:VEVENT
DTSTART;TZID=America/Toronto:20240924T180000
DTEND;TZID=America/Toronto:20240924T203000
DTSTAMP:20260423T181010
CREATED:20240808T152801Z
LAST-MODIFIED:20240821T153926Z
UID:10001460-1727200800-1727209800@familleacoeur.qc.ca
SUMMARY:Vie de famille\, de la discipline à l’amour
DESCRIPTION:D’une durée de 7 semaines\, à raison de 2h30 par rencontre\, le programme s’adresse à tout parent désirant harmoniser sa relation avec son ou ses enfants. \nCe programme vise à appuyer les parents dans l’encadrement de leurs enfants par une saine discipline\, dans l’établissement de règles de vie familiales justes et à favoriser entre eux l’entraide dans leurs responsabilités parentales tout en tenant compte de leur réalité familiale. \nCoût : 40$ par personne ou 60$ par couple
URL:https://familleacoeur.qc.ca/evenement/vie-de-famille-de-la-discipline-a-lamour/2024-09-24/
CATEGORIES:Ateliers
ATTACH;FMTTYPE=image/jpeg:https://familleacoeur.qc.ca/wp-content/uploads/2024/08/family-5412437_1280.jpg
END:VEVENT
BEGIN:VEVENT
DTSTART;TZID=America/Toronto:20240924T100000
DTEND;TZID=America/Toronto:20240924T113000
DTSTAMP:20260423T181010
CREATED:20240807T182441Z
LAST-MODIFIED:20240807T182442Z
UID:10001184-1727172000-1727177400@familleacoeur.qc.ca
SUMMARY:Marche poussette
DESCRIPTION:Marche en poussette à l’extérieur \nAfin de briser l’isolement et profiter du beau temps ! \nPossibilité d’apporter un pique-nique et manger en famille sur place. \nAnnulé en cas de pluie.
URL:https://familleacoeur.qc.ca/evenement/marche-poussette-2/2024-09-24/
CATEGORIES:Activités
ATTACH;FMTTYPE=image/jpeg:https://familleacoeur.qc.ca/wp-content/uploads/2024/05/iStock-184299673-scaled.jpg
END:VEVENT
BEGIN:VEVENT
DTSTART;TZID=America/Toronto:20240923T110000
DTEND;TZID=America/Toronto:20240923T120000
DTSTAMP:20260423T181010
CREATED:20240807T184006Z
LAST-MODIFIED:20240807T184108Z
UID:10001213-1727089200-1727092800@familleacoeur.qc.ca
SUMMARY:Massage bébé (session 1)
DESCRIPTION:Avec enfants âgés de 0 à 12 mois. \nCet atelier permet de créer ou renforcer le lien d’attachement parent-enfant\, de se détendre et se relaxer\, diminuer le stress (masseur et massé)\, favoriser le développement psychomoteur de bébé\, rencontrer et échanger avec d’autres parents. \nVous apprendrez une routine complète pour masser votre bébé\, quelques petits exercices adaptés et d’autres petits trucs afin d’aider à soulager certains maux (gaz\, coliques\, congestion\, poussée dentaire\, etc.). Vous pourrez comprendre les bienfaits du massage chez votre enfant\, les moments favorables au massage pour vous et lui. Merveilleux moment pour apprendre à connaître le langage du corps de votre bébé et de créer de solides liens ! \nMatériel requis : piqué\, couverture\, petite serviette\, jouet préféré de votre bébé \nHabillement suggéré : vêtements confortables
URL:https://familleacoeur.qc.ca/evenement/massage-bebe-3-2-2-2/2024-09-23/
CATEGORIES:Activités
ATTACH;FMTTYPE=image/jpeg:https://familleacoeur.qc.ca/wp-content/uploads/2021/02/massage-bebe1.jpg
END:VEVENT
BEGIN:VEVENT
DTSTART;TZID=America/Toronto:20240922T100000
DTEND;TZID=America/Toronto:20240922T160000
DTSTAMP:20260423T181010
CREATED:20240912T164555Z
LAST-MODIFIED:20241114T164151Z
UID:10001511-1726999200-1727020800@familleacoeur.qc.ca
SUMMARY:Dimanche détente
DESCRIPTION:Besoin d’un répit ? D’une sortie ? \nNous offrons un service de répit\, les dimanches\, de 10h à 16h pour les enfants de 0-12 ans\, afin que les parents profitent d’un moment entre eux ! \nAu menu pour les enfants : jeux extérieurs\, bricolages\, jeux actifs\, jeux calmes et film.
URL:https://familleacoeur.qc.ca/evenement/repit-du-dimanche/2024-09-22/
CATEGORIES:Services
ATTACH;FMTTYPE=image/jpeg:https://familleacoeur.qc.ca/wp-content/uploads/2023/10/pexels-ksenia-chernaya-8535230-scaled.jpg
END:VEVENT
BEGIN:VEVENT
DTSTART;TZID=America/Toronto:20240921T153000
DTEND;TZID=America/Toronto:20240921T203000
DTSTAMP:20260423T181010
CREATED:20240912T133946Z
LAST-MODIFIED:20241114T163808Z
UID:10001498-1726932600-1726950600@familleacoeur.qc.ca
SUMMARY:Samedi d'sortir
DESCRIPTION:Besoin d’un répit ? D’une sortie ? \nNous offrons un service de répit\, les samedis\, de 15 h 30 à 20 h 30 pour les enfants de 0-12 ans\, afin que les parents profitent d’une belle soirée\, le temps d’une p’tite sortie ! \nAu menu de la soirée\, jeux extérieurs\, bricolages\, jeux actifs\, jeux calmes et film.
URL:https://familleacoeur.qc.ca/evenement/samedi-dsortir-pour-enfants-0-12-ans-2-2/2024-09-21/
CATEGORIES:Services
ATTACH;FMTTYPE=image/jpeg:https://familleacoeur.qc.ca/wp-content/uploads/2021/02/samedi-repit.jpg
END:VEVENT
BEGIN:VEVENT
DTSTART;TZID=America/Toronto:20240921T093000
DTEND;TZID=America/Toronto:20240921T113000
DTSTAMP:20260423T181010
CREATED:20240807T185953Z
LAST-MODIFIED:20240807T190124Z
UID:10001116-1726911000-1726918200@familleacoeur.qc.ca
SUMMARY:Langagibou
DESCRIPTION:L’atelier LANGAGIBOU invite le parent et son enfant à travailler le développement du langage. \nLe but est d’acquérir des stratégies langagières selon une approche personnalisée. \nLa rencontre est d’une durée de 2 heures assistée par deux accompagnatrices et divisée en quelques modules : causerie\, parcours dirigé\, activité de groupe structuré (thématique)\, collation et jeux libre(enfants) + causette (parents)\, histoire et départ. \nNote : Une pré-inscription est requise pour participer à l’atelier
URL:https://familleacoeur.qc.ca/evenement/langagibou-2/2024-09-21/
CATEGORIES:Activités
ATTACH;FMTTYPE=image/jpeg:https://familleacoeur.qc.ca/wp-content/uploads/2024/02/pexels-mart-production-7414905-scaled-e1708617596238.jpg
END:VEVENT
BEGIN:VEVENT
DTSTART;TZID=America/Toronto:20240919T183000
DTEND;TZID=America/Toronto:20240919T203000
DTSTAMP:20260423T181010
CREATED:20240807T183558Z
LAST-MODIFIED:20240821T200620Z
UID:10000880-1726770600-1726777800@familleacoeur.qc.ca
SUMMARY:Préparation prénatale de groupe
DESCRIPTION:Préparation prénatale pour mieux se préparer à l’accouchement. \nPour connaître les prochaines dates de rencontres pour la session à venir\, consultez la page Facebook de Famille à Cœur ou notre calendrier.
URL:https://familleacoeur.qc.ca/evenement/preparation-prenatale-de-groupe-printemps-2/2024-09-19/
CATEGORIES:Services
ATTACH;FMTTYPE=image/jpeg:https://familleacoeur.qc.ca/wp-content/uploads/2021/08/rencontres-prenatales-1.jpg
END:VEVENT
BEGIN:VEVENT
DTSTART;TZID=America/Toronto:20240919T093000
DTEND;TZID=America/Toronto:20240919T113000
DTSTAMP:20260423T181010
CREATED:20240807T190754Z
LAST-MODIFIED:20240807T190905Z
UID:10001398-1726738200-1726745400@familleacoeur.qc.ca
SUMMARY:Les p’tits matins bedons poupons
DESCRIPTION:Cette activité s’adresse aux parents d’enfants de 0 (grossesse) à 2 ans. Les p’tits matins bedons poupons se déroulent de 9 h 30 à 11 h 30 à tous les jeudis. Le but est de permettre à ces parents de rencontrer d’autres parents\, afin d’échanger et d’en apprendre sur des sujets en lien direct avec leur réalité commune\, accompagnés de leur poupon. À l’occasion nous avons des invités qui viennent discuter de différents sujets tels que la nutrition (DME)\, ostéopathie\, massothérapie pour bébé\, etc. \nGratuit pour les membres.
URL:https://familleacoeur.qc.ca/evenement/les-ptits-matins-bedons-poupons-ete-2-2/2024-09-19/
CATEGORIES:Activités,Services
ATTACH;FMTTYPE=image/jpeg:https://familleacoeur.qc.ca/wp-content/uploads/2021/02/bedons-poupons.jpg
END:VEVENT
BEGIN:VEVENT
DTSTART;TZID=America/Toronto:20240918T093000
DTEND;TZID=America/Toronto:20240918T113000
DTSTAMP:20260423T181010
CREATED:20240807T191132Z
LAST-MODIFIED:20240807T191227Z
UID:10001411-1726651800-1726659000@familleacoeur.qc.ca
SUMMARY:Café-jasette «Les Galipettes» pour parents et enfants de 2 à 5 ans
DESCRIPTION:Pour parents et enfants âgés de 2 à 5 ans. \nPour connaître les prochaines dates de rencontres pour la session à venir\, consultez la page Facebook de Famille à Cœur ou notre calendrier.
URL:https://familleacoeur.qc.ca/evenement/cafe-jasette-les-galipettes-pour-parents-et-enfants-de-2-a-5-ans-2-2/2024-09-18/
CATEGORIES:Activités
ATTACH;FMTTYPE=image/jpeg:https://familleacoeur.qc.ca/wp-content/uploads/2021/02/galipettes2.jpg
END:VEVENT
BEGIN:VEVENT
DTSTART;TZID=America/Toronto:20240917T100000
DTEND;TZID=America/Toronto:20240917T113000
DTSTAMP:20260423T181010
CREATED:20240807T182441Z
LAST-MODIFIED:20240807T182442Z
UID:10001183-1726567200-1726572600@familleacoeur.qc.ca
SUMMARY:Marche poussette
DESCRIPTION:Marche en poussette à l’extérieur \nAfin de briser l’isolement et profiter du beau temps ! \nPossibilité d’apporter un pique-nique et manger en famille sur place. \nAnnulé en cas de pluie.
URL:https://familleacoeur.qc.ca/evenement/marche-poussette-2/2024-09-17/
CATEGORIES:Activités
ATTACH;FMTTYPE=image/jpeg:https://familleacoeur.qc.ca/wp-content/uploads/2024/05/iStock-184299673-scaled.jpg
END:VEVENT
BEGIN:VEVENT
DTSTART;TZID=America/Toronto:20240916T110000
DTEND;TZID=America/Toronto:20240916T120000
DTSTAMP:20260423T181010
CREATED:20240807T184006Z
LAST-MODIFIED:20240807T184108Z
UID:10001212-1726484400-1726488000@familleacoeur.qc.ca
SUMMARY:Massage bébé (session 1)
DESCRIPTION:Avec enfants âgés de 0 à 12 mois. \nCet atelier permet de créer ou renforcer le lien d’attachement parent-enfant\, de se détendre et se relaxer\, diminuer le stress (masseur et massé)\, favoriser le développement psychomoteur de bébé\, rencontrer et échanger avec d’autres parents. \nVous apprendrez une routine complète pour masser votre bébé\, quelques petits exercices adaptés et d’autres petits trucs afin d’aider à soulager certains maux (gaz\, coliques\, congestion\, poussée dentaire\, etc.). Vous pourrez comprendre les bienfaits du massage chez votre enfant\, les moments favorables au massage pour vous et lui. Merveilleux moment pour apprendre à connaître le langage du corps de votre bébé et de créer de solides liens ! \nMatériel requis : piqué\, couverture\, petite serviette\, jouet préféré de votre bébé \nHabillement suggéré : vêtements confortables
URL:https://familleacoeur.qc.ca/evenement/massage-bebe-3-2-2-2/2024-09-16/
CATEGORIES:Activités
ATTACH;FMTTYPE=image/jpeg:https://familleacoeur.qc.ca/wp-content/uploads/2021/02/massage-bebe1.jpg
END:VEVENT
BEGIN:VEVENT
DTSTART;TZID=America/Toronto:20240915T100000
DTEND;TZID=America/Toronto:20240915T160000
DTSTAMP:20260423T181010
CREATED:20240912T164555Z
LAST-MODIFIED:20241114T164151Z
UID:10001510-1726394400-1726416000@familleacoeur.qc.ca
SUMMARY:Dimanche détente
DESCRIPTION:Besoin d’un répit ? D’une sortie ? \nNous offrons un service de répit\, les dimanches\, de 10h à 16h pour les enfants de 0-12 ans\, afin que les parents profitent d’un moment entre eux ! \nAu menu pour les enfants : jeux extérieurs\, bricolages\, jeux actifs\, jeux calmes et film.
URL:https://familleacoeur.qc.ca/evenement/repit-du-dimanche/2024-09-15/
CATEGORIES:Services
ATTACH;FMTTYPE=image/jpeg:https://familleacoeur.qc.ca/wp-content/uploads/2023/10/pexels-ksenia-chernaya-8535230-scaled.jpg
END:VEVENT
BEGIN:VEVENT
DTSTART;TZID=America/Toronto:20240914T153000
DTEND;TZID=America/Toronto:20240914T203000
DTSTAMP:20260423T181010
CREATED:20240912T133946Z
LAST-MODIFIED:20241114T163808Z
UID:10001497-1726327800-1726345800@familleacoeur.qc.ca
SUMMARY:Samedi d'sortir
DESCRIPTION:Besoin d’un répit ? D’une sortie ? \nNous offrons un service de répit\, les samedis\, de 15 h 30 à 20 h 30 pour les enfants de 0-12 ans\, afin que les parents profitent d’une belle soirée\, le temps d’une p’tite sortie ! \nAu menu de la soirée\, jeux extérieurs\, bricolages\, jeux actifs\, jeux calmes et film.
URL:https://familleacoeur.qc.ca/evenement/samedi-dsortir-pour-enfants-0-12-ans-2-2/2024-09-14/
CATEGORIES:Services
ATTACH;FMTTYPE=image/jpeg:https://familleacoeur.qc.ca/wp-content/uploads/2021/02/samedi-repit.jpg
END:VEVENT
BEGIN:VEVENT
DTSTART;TZID=America/Toronto:20240912T093000
DTEND;TZID=America/Toronto:20240912T113000
DTSTAMP:20260423T181010
CREATED:20240807T190754Z
LAST-MODIFIED:20240807T190905Z
UID:10000858-1726133400-1726140600@familleacoeur.qc.ca
SUMMARY:Les p’tits matins bedons poupons
DESCRIPTION:Cette activité s’adresse aux parents d’enfants de 0 (grossesse) à 2 ans. Les p’tits matins bedons poupons se déroulent de 9 h 30 à 11 h 30 à tous les jeudis. Le but est de permettre à ces parents de rencontrer d’autres parents\, afin d’échanger et d’en apprendre sur des sujets en lien direct avec leur réalité commune\, accompagnés de leur poupon. À l’occasion nous avons des invités qui viennent discuter de différents sujets tels que la nutrition (DME)\, ostéopathie\, massothérapie pour bébé\, etc. \nGratuit pour les membres.
URL:https://familleacoeur.qc.ca/evenement/les-ptits-matins-bedons-poupons-ete-2-2/2024-09-12/
CATEGORIES:Activités,Services
ATTACH;FMTTYPE=image/jpeg:https://familleacoeur.qc.ca/wp-content/uploads/2021/02/bedons-poupons.jpg
END:VEVENT
BEGIN:VEVENT
DTSTART;TZID=America/Toronto:20240911T093000
DTEND;TZID=America/Toronto:20240911T113000
DTSTAMP:20260423T181010
CREATED:20240807T191132Z
LAST-MODIFIED:20240807T191227Z
UID:10000961-1726047000-1726054200@familleacoeur.qc.ca
SUMMARY:Café-jasette «Les Galipettes» pour parents et enfants de 2 à 5 ans
DESCRIPTION:Pour parents et enfants âgés de 2 à 5 ans. \nPour connaître les prochaines dates de rencontres pour la session à venir\, consultez la page Facebook de Famille à Cœur ou notre calendrier.
URL:https://familleacoeur.qc.ca/evenement/cafe-jasette-les-galipettes-pour-parents-et-enfants-de-2-a-5-ans-2-2/2024-09-11/
CATEGORIES:Activités
ATTACH;FMTTYPE=image/jpeg:https://familleacoeur.qc.ca/wp-content/uploads/2021/02/galipettes2.jpg
END:VEVENT
BEGIN:VEVENT
DTSTART;TZID=America/Toronto:20240909T110000
DTEND;TZID=America/Toronto:20240909T120000
DTSTAMP:20260423T181010
CREATED:20240807T184006Z
LAST-MODIFIED:20240807T184108Z
UID:10001120-1725879600-1725883200@familleacoeur.qc.ca
SUMMARY:Massage bébé (session 1)
DESCRIPTION:Avec enfants âgés de 0 à 12 mois. \nCet atelier permet de créer ou renforcer le lien d’attachement parent-enfant\, de se détendre et se relaxer\, diminuer le stress (masseur et massé)\, favoriser le développement psychomoteur de bébé\, rencontrer et échanger avec d’autres parents. \nVous apprendrez une routine complète pour masser votre bébé\, quelques petits exercices adaptés et d’autres petits trucs afin d’aider à soulager certains maux (gaz\, coliques\, congestion\, poussée dentaire\, etc.). Vous pourrez comprendre les bienfaits du massage chez votre enfant\, les moments favorables au massage pour vous et lui. Merveilleux moment pour apprendre à connaître le langage du corps de votre bébé et de créer de solides liens ! \nMatériel requis : piqué\, couverture\, petite serviette\, jouet préféré de votre bébé \nHabillement suggéré : vêtements confortables
URL:https://familleacoeur.qc.ca/evenement/massage-bebe-3-2-2-2/2024-09-09/
CATEGORIES:Activités
ATTACH;FMTTYPE=image/jpeg:https://familleacoeur.qc.ca/wp-content/uploads/2021/02/massage-bebe1.jpg
END:VEVENT
BEGIN:VEVENT
DTSTART;TZID=America/Toronto:20240907T153000
DTEND;TZID=America/Toronto:20240907T203000
DTSTAMP:20260423T181010
CREATED:20240912T133946Z
LAST-MODIFIED:20241114T163808Z
UID:10001033-1725723000-1725741000@familleacoeur.qc.ca
SUMMARY:Samedi d'sortir
DESCRIPTION:Besoin d’un répit ? D’une sortie ? \nNous offrons un service de répit\, les samedis\, de 15 h 30 à 20 h 30 pour les enfants de 0-12 ans\, afin que les parents profitent d’une belle soirée\, le temps d’une p’tite sortie ! \nAu menu de la soirée\, jeux extérieurs\, bricolages\, jeux actifs\, jeux calmes et film.
URL:https://familleacoeur.qc.ca/evenement/samedi-dsortir-pour-enfants-0-12-ans-2-2/2024-09-07/
CATEGORIES:Services
ATTACH;FMTTYPE=image/jpeg:https://familleacoeur.qc.ca/wp-content/uploads/2021/02/samedi-repit.jpg
END:VEVENT
BEGIN:VEVENT
DTSTART;TZID=America/Toronto:20240907T113000
DTEND;TZID=America/Toronto:20240907T160000
DTSTAMP:20260423T181010
CREATED:20240925T175646Z
LAST-MODIFIED:20241114T161457Z
UID:10001563-1725708600-1725724800@familleacoeur.qc.ca
SUMMARY:1/2 pédago (6-12 ans) - Jeu d'évasion de Noël
DESCRIPTION:Nous vous invitons à venir jouer au jeu d’évasion de Noël : Les cadeaux disparus \nLes enfants pourront s’amuser tout en développant leur esprit de collaboration et de résolution de problèmes dans une atmosphère magique de Noël.
URL:https://familleacoeur.qc.ca/evenement/1-2-pedago-6-12-ans-jeu-devasion-de-noel/2024-09-07/
CATEGORIES:Activités
ATTACH;FMTTYPE=image/jpeg:https://familleacoeur.qc.ca/wp-content/uploads/2024/09/christmas-balls-8449616_1280-e1727287067983.jpg
END:VEVENT
BEGIN:VEVENT
DTSTART;TZID=America/Toronto:20240903T190000
DTEND;TZID=America/Toronto:20240903T203000
DTSTAMP:20260423T181010
CREATED:20220810T175031Z
LAST-MODIFIED:20240807T192623Z
UID:10001424-1725390000-1725395400@familleacoeur.qc.ca
SUMMARY:Groupe de soutien au deuil périnatal
DESCRIPTION:Que ce soit en début de grossesse\, durant la grossesse\, à l’accouchement ou dans les premiers mois de vie de votre enfant\, le décès d’un petit être est toujours un moment difficile à traverser. Vous vivez un deuil périnatal\, vous vous sentez seul(e)\, incompris(e) et perdu(e). C’est vraiment normal et vous n’êtes pas seul(e) à vivre toute cette vague d’émotions. \nGratuit pour les membres. \n\n\nRéservation obligatoire auprès de Geneviève Boileau\n\n\n\n\n\nPar courriel : crp@familleacoeur.qc.ca\nPar téléphone : 450 346-1734\, poste 233
URL:https://familleacoeur.qc.ca/evenement/groupe-de-soutien-au-deuil-perinatal/2024-09-03/
ATTACH;FMTTYPE=image/jpeg:https://familleacoeur.qc.ca/wp-content/uploads/2021/02/deuil-perinatal-1.jpg
END:VEVENT
BEGIN:VEVENT
DTSTART;TZID=America/Toronto:20240805T100000
DTEND;TZID=America/Toronto:20240805T113000
DTSTAMP:20260423T181010
CREATED:20240523T222046Z
LAST-MODIFIED:20240523T222046Z
UID:10001129-1722852000-1722857400@familleacoeur.qc.ca
SUMMARY:Marche poussette
DESCRIPTION:Marche en poussette à l’extérieur \nAfin de briser l’isolement et profiter du beau temps ! \nPossibilité d’apporter un pique-nique et manger en famille sur place. \nAnnulé en cas de pluie.
URL:https://familleacoeur.qc.ca/evenement/marche-poussette/2024-08-05/
CATEGORIES:Activités
ATTACH;FMTTYPE=image/jpeg:https://familleacoeur.qc.ca/wp-content/uploads/2024/05/iStock-184299673-scaled.jpg
END:VEVENT
BEGIN:VEVENT
DTSTART;TZID=America/Toronto:20240729T100000
DTEND;TZID=America/Toronto:20240729T113000
DTSTAMP:20260423T181010
CREATED:20240523T222046Z
LAST-MODIFIED:20240523T222046Z
UID:10001128-1722247200-1722252600@familleacoeur.qc.ca
SUMMARY:Marche poussette
DESCRIPTION:Marche en poussette à l’extérieur \nAfin de briser l’isolement et profiter du beau temps ! \nPossibilité d’apporter un pique-nique et manger en famille sur place. \nAnnulé en cas de pluie.
URL:https://familleacoeur.qc.ca/evenement/marche-poussette/2024-07-29/
CATEGORIES:Activités
ATTACH;FMTTYPE=image/jpeg:https://familleacoeur.qc.ca/wp-content/uploads/2024/05/iStock-184299673-scaled.jpg
END:VEVENT
BEGIN:VEVENT
DTSTART;TZID=America/Toronto:20240722T100000
DTEND;TZID=America/Toronto:20240722T113000
DTSTAMP:20260423T181010
CREATED:20240523T222046Z
LAST-MODIFIED:20240523T222046Z
UID:10001127-1721642400-1721647800@familleacoeur.qc.ca
SUMMARY:Marche poussette
DESCRIPTION:Marche en poussette à l’extérieur \nAfin de briser l’isolement et profiter du beau temps ! \nPossibilité d’apporter un pique-nique et manger en famille sur place. \nAnnulé en cas de pluie.
URL:https://familleacoeur.qc.ca/evenement/marche-poussette/2024-07-22/
CATEGORIES:Activités
ATTACH;FMTTYPE=image/jpeg:https://familleacoeur.qc.ca/wp-content/uploads/2024/05/iStock-184299673-scaled.jpg
END:VEVENT
BEGIN:VEVENT
DTSTART;TZID=America/Toronto:20240715T100000
DTEND;TZID=America/Toronto:20240715T113000
DTSTAMP:20260423T181010
CREATED:20240523T222046Z
LAST-MODIFIED:20240523T222046Z
UID:10001126-1721037600-1721043000@familleacoeur.qc.ca
SUMMARY:Marche poussette
DESCRIPTION:Marche en poussette à l’extérieur \nAfin de briser l’isolement et profiter du beau temps ! \nPossibilité d’apporter un pique-nique et manger en famille sur place. \nAnnulé en cas de pluie.
URL:https://familleacoeur.qc.ca/evenement/marche-poussette/2024-07-15/
CATEGORIES:Activités
ATTACH;FMTTYPE=image/jpeg:https://familleacoeur.qc.ca/wp-content/uploads/2024/05/iStock-184299673-scaled.jpg
END:VEVENT
BEGIN:VEVENT
DTSTART;TZID=America/Toronto:20240708T100000
DTEND;TZID=America/Toronto:20240708T113000
DTSTAMP:20260423T181010
CREATED:20240523T222046Z
LAST-MODIFIED:20240523T222046Z
UID:10001125-1720432800-1720438200@familleacoeur.qc.ca
SUMMARY:Marche poussette
DESCRIPTION:Marche en poussette à l’extérieur \nAfin de briser l’isolement et profiter du beau temps ! \nPossibilité d’apporter un pique-nique et manger en famille sur place. \nAnnulé en cas de pluie.
URL:https://familleacoeur.qc.ca/evenement/marche-poussette/2024-07-08/
CATEGORIES:Activités
ATTACH;FMTTYPE=image/jpeg:https://familleacoeur.qc.ca/wp-content/uploads/2024/05/iStock-184299673-scaled.jpg
END:VEVENT
END:VCALENDAR