BEGIN:VCALENDAR
VERSION:2.0
PRODID:-//Famille à Coeur - ECPv6.2.2//NONSGML v1.0//EN
CALSCALE:GREGORIAN
METHOD:PUBLISH
X-WR-CALNAME:Famille à Coeur
X-ORIGINAL-URL:https://familleacoeur.qc.ca
X-WR-CALDESC:évènements pour Famille à Coeur
REFRESH-INTERVAL;VALUE=DURATION:PT1H
X-Robots-Tag:noindex
X-PUBLISHED-TTL:PT1H
BEGIN:VTIMEZONE
TZID:America/Toronto
BEGIN:DAYLIGHT
TZOFFSETFROM:-0500
TZOFFSETTO:-0400
TZNAME:EDT
DTSTART:20230312T070000
END:DAYLIGHT
BEGIN:STANDARD
TZOFFSETFROM:-0400
TZOFFSETTO:-0500
TZNAME:EST
DTSTART:20231105T060000
END:STANDARD
BEGIN:DAYLIGHT
TZOFFSETFROM:-0500
TZOFFSETTO:-0400
TZNAME:EDT
DTSTART:20240310T070000
END:DAYLIGHT
BEGIN:STANDARD
TZOFFSETFROM:-0400
TZOFFSETTO:-0500
TZNAME:EST
DTSTART:20241103T060000
END:STANDARD
END:VTIMEZONE
BEGIN:VEVENT
DTSTART;TZID=America/Toronto:20240306T093000
DTEND;TZID=America/Toronto:20240306T113000
DTSTAMP:20260424T055448
CREATED:20231109T175255Z
LAST-MODIFIED:20240213T195506Z
UID:10000629-1709717400-1709724600@familleacoeur.qc.ca
SUMMARY:Café-jasette «Les Galipettes» pour parents et enfants de 2 à 5 ans
DESCRIPTION:Pour parents et enfants âgés de 2 à 5 ans. \nPour connaître les prochaines dates de rencontres pour la session à venir\, consultez la page Facebook de Famille à Cœur ou notre calendrier.
URL:https://familleacoeur.qc.ca/evenement/cafe-jasette-les-galipettes-pour-parents-et-enfants-de-2-a-5-ans-2/2024-03-06/
CATEGORIES:Activités
ATTACH;FMTTYPE=image/jpeg:https://familleacoeur.qc.ca/wp-content/uploads/2021/02/galipettes2.jpg
END:VEVENT
BEGIN:VEVENT
DTSTART;TZID=America/Toronto:20240305T190000
DTEND;TZID=America/Toronto:20240305T203000
DTSTAMP:20260424T055448
CREATED:20220921T164833Z
LAST-MODIFIED:20240213T201038Z
UID:10000397-1709665200-1709670600@familleacoeur.qc.ca
SUMMARY:Groupe de soutien au deuil périnatal
DESCRIPTION:Que ce soit en début de grossesse\, durant la grossesse\, à l’accouchement ou dans les premiers mois de vie de votre enfant\, le décès d’un petit être est toujours un moment difficile à traverser. Vous vivez un deuil périnatal\, vous vous sentez seul(e)\, incompris(e) et perdu(e). C’est vraiment normal et vous n’êtes pas seul(e) à vivre toute cette vague d’émotions. \nGratuit pour les membres. \n\n\nRéservation obligatoire auprès de Geneviève Boileau\n\n\n\n\n\nPar courriel : crp@familleacoeur.qc.ca\nPar téléphone : 450 346-1734\, poste 233
URL:https://familleacoeur.qc.ca/evenement/groupe-de-soutien-au-deuil-perinatal-2/2024-03-05/
ATTACH;FMTTYPE=image/jpeg:https://familleacoeur.qc.ca/wp-content/uploads/2021/02/deuil-perinatal-1.jpg
END:VEVENT
BEGIN:VEVENT
DTSTART;TZID=America/Toronto:20240302T153000
DTEND;TZID=America/Toronto:20240302T203000
DTSTAMP:20260424T055448
CREATED:20231109T180329Z
LAST-MODIFIED:20240213T200530Z
UID:10000778-1709393400-1709411400@familleacoeur.qc.ca
SUMMARY:Samedi d'sortir (pour enfants 0-12 ans)
DESCRIPTION:Besoin d’un répit ? D’une sortie ? \nNous offrons un service de répit\, les samedis\, de 15 h 30 à 20 h 30 pour les enfants de 0-12 ans\, afin que les parents profitent d’une belle soirée\, le temps d’une p’tite sortie ! \nAu menu de la soirée\, jeux extérieurs\, bricolages\, jeux actifs\, jeux calmes et film.
URL:https://familleacoeur.qc.ca/evenement/samedi-dsortir-pour-enfants-0-12-ans-2/2024-03-02/
CATEGORIES:Services
ATTACH;FMTTYPE=image/jpeg:https://familleacoeur.qc.ca/wp-content/uploads/2021/02/samedi-repit.jpg
END:VEVENT
BEGIN:VEVENT
DTSTART;TZID=America/Toronto:20240229T093000
DTEND;TZID=America/Toronto:20240229T113000
DTSTAMP:20260424T055448
CREATED:20231109T173000Z
LAST-MODIFIED:20240213T192522Z
UID:10000409-1709199000-1709206200@familleacoeur.qc.ca
SUMMARY:Les p’tits matins bedons poupons
DESCRIPTION:Cette activité s’adresse aux parents d’enfants de 0 (grossesse) à 2 ans. Les p’tits matins bedons poupons se déroulent de 9 h 30 à 11 h 30 à tous les jeudis. Le but est de permettre à ces parents de rencontrer d’autres parents\, afin d’échanger et d’en apprendre sur des sujets en lien direct avec leur réalité commune\, accompagnés de leur poupon. À l’occasion nous avons des invités qui viennent discuter de différents sujets tels que la nutrition (DME)\, ostéopathie\, massothérapie pour bébé\, etc. \nGratuit pour les membres.
URL:https://familleacoeur.qc.ca/evenement/les-ptits-matins-bedons-poupons-ete-2/2024-02-29/
CATEGORIES:Activités,Services
ATTACH;FMTTYPE=image/jpeg:https://familleacoeur.qc.ca/wp-content/uploads/2021/02/bedons-poupons.jpg
END:VEVENT
BEGIN:VEVENT
DTSTART;TZID=America/Toronto:20240228T093000
DTEND;TZID=America/Toronto:20240228T113000
DTSTAMP:20260424T055448
CREATED:20231109T175255Z
LAST-MODIFIED:20240213T195506Z
UID:10000628-1709112600-1709119800@familleacoeur.qc.ca
SUMMARY:Café-jasette «Les Galipettes» pour parents et enfants de 2 à 5 ans
DESCRIPTION:Pour parents et enfants âgés de 2 à 5 ans. \nPour connaître les prochaines dates de rencontres pour la session à venir\, consultez la page Facebook de Famille à Cœur ou notre calendrier.
URL:https://familleacoeur.qc.ca/evenement/cafe-jasette-les-galipettes-pour-parents-et-enfants-de-2-a-5-ans-2/2024-02-28/
CATEGORIES:Activités
ATTACH;FMTTYPE=image/jpeg:https://familleacoeur.qc.ca/wp-content/uploads/2021/02/galipettes2.jpg
END:VEVENT
BEGIN:VEVENT
DTSTART;TZID=America/Toronto:20240224T153000
DTEND;TZID=America/Toronto:20240224T203000
DTSTAMP:20260424T055448
CREATED:20231109T180329Z
LAST-MODIFIED:20240213T200530Z
UID:10000777-1708788600-1708806600@familleacoeur.qc.ca
SUMMARY:Samedi d'sortir (pour enfants 0-12 ans)
DESCRIPTION:Besoin d’un répit ? D’une sortie ? \nNous offrons un service de répit\, les samedis\, de 15 h 30 à 20 h 30 pour les enfants de 0-12 ans\, afin que les parents profitent d’une belle soirée\, le temps d’une p’tite sortie ! \nAu menu de la soirée\, jeux extérieurs\, bricolages\, jeux actifs\, jeux calmes et film.
URL:https://familleacoeur.qc.ca/evenement/samedi-dsortir-pour-enfants-0-12-ans-2/2024-02-24/
CATEGORIES:Services
ATTACH;FMTTYPE=image/jpeg:https://familleacoeur.qc.ca/wp-content/uploads/2021/02/samedi-repit.jpg
END:VEVENT
BEGIN:VEVENT
DTSTART;TZID=America/Toronto:20240222T093000
DTEND;TZID=America/Toronto:20240222T113000
DTSTAMP:20260424T055448
CREATED:20231109T173000Z
LAST-MODIFIED:20240213T192522Z
UID:10000408-1708594200-1708601400@familleacoeur.qc.ca
SUMMARY:Les p’tits matins bedons poupons
DESCRIPTION:Cette activité s’adresse aux parents d’enfants de 0 (grossesse) à 2 ans. Les p’tits matins bedons poupons se déroulent de 9 h 30 à 11 h 30 à tous les jeudis. Le but est de permettre à ces parents de rencontrer d’autres parents\, afin d’échanger et d’en apprendre sur des sujets en lien direct avec leur réalité commune\, accompagnés de leur poupon. À l’occasion nous avons des invités qui viennent discuter de différents sujets tels que la nutrition (DME)\, ostéopathie\, massothérapie pour bébé\, etc. \nGratuit pour les membres.
URL:https://familleacoeur.qc.ca/evenement/les-ptits-matins-bedons-poupons-ete-2/2024-02-22/
CATEGORIES:Activités,Services
ATTACH;FMTTYPE=image/jpeg:https://familleacoeur.qc.ca/wp-content/uploads/2021/02/bedons-poupons.jpg
END:VEVENT
BEGIN:VEVENT
DTSTART;TZID=America/Toronto:20240221T093000
DTEND;TZID=America/Toronto:20240221T113000
DTSTAMP:20260424T055448
CREATED:20231109T175255Z
LAST-MODIFIED:20240213T195506Z
UID:10000627-1708507800-1708515000@familleacoeur.qc.ca
SUMMARY:Café-jasette «Les Galipettes» pour parents et enfants de 2 à 5 ans
DESCRIPTION:Pour parents et enfants âgés de 2 à 5 ans. \nPour connaître les prochaines dates de rencontres pour la session à venir\, consultez la page Facebook de Famille à Cœur ou notre calendrier.
URL:https://familleacoeur.qc.ca/evenement/cafe-jasette-les-galipettes-pour-parents-et-enfants-de-2-a-5-ans-2/2024-02-21/
CATEGORIES:Activités
ATTACH;FMTTYPE=image/jpeg:https://familleacoeur.qc.ca/wp-content/uploads/2021/02/galipettes2.jpg
END:VEVENT
BEGIN:VEVENT
DTSTART;TZID=America/Toronto:20240217T153000
DTEND;TZID=America/Toronto:20240217T203000
DTSTAMP:20260424T055448
CREATED:20231109T180329Z
LAST-MODIFIED:20240213T200530Z
UID:10000776-1708183800-1708201800@familleacoeur.qc.ca
SUMMARY:Samedi d'sortir (pour enfants 0-12 ans)
DESCRIPTION:Besoin d’un répit ? D’une sortie ? \nNous offrons un service de répit\, les samedis\, de 15 h 30 à 20 h 30 pour les enfants de 0-12 ans\, afin que les parents profitent d’une belle soirée\, le temps d’une p’tite sortie ! \nAu menu de la soirée\, jeux extérieurs\, bricolages\, jeux actifs\, jeux calmes et film.
URL:https://familleacoeur.qc.ca/evenement/samedi-dsortir-pour-enfants-0-12-ans-2/2024-02-17/
CATEGORIES:Services
ATTACH;FMTTYPE=image/jpeg:https://familleacoeur.qc.ca/wp-content/uploads/2021/02/samedi-repit.jpg
END:VEVENT
BEGIN:VEVENT
DTSTART;TZID=America/Toronto:20240215T093000
DTEND;TZID=America/Toronto:20240215T113000
DTSTAMP:20260424T055448
CREATED:20231109T173000Z
LAST-MODIFIED:20240213T192522Z
UID:10000407-1707989400-1707996600@familleacoeur.qc.ca
SUMMARY:Les p’tits matins bedons poupons
DESCRIPTION:Cette activité s’adresse aux parents d’enfants de 0 (grossesse) à 2 ans. Les p’tits matins bedons poupons se déroulent de 9 h 30 à 11 h 30 à tous les jeudis. Le but est de permettre à ces parents de rencontrer d’autres parents\, afin d’échanger et d’en apprendre sur des sujets en lien direct avec leur réalité commune\, accompagnés de leur poupon. À l’occasion nous avons des invités qui viennent discuter de différents sujets tels que la nutrition (DME)\, ostéopathie\, massothérapie pour bébé\, etc. \nGratuit pour les membres.
URL:https://familleacoeur.qc.ca/evenement/les-ptits-matins-bedons-poupons-ete-2/2024-02-15/
CATEGORIES:Activités,Services
ATTACH;FMTTYPE=image/jpeg:https://familleacoeur.qc.ca/wp-content/uploads/2021/02/bedons-poupons.jpg
END:VEVENT
BEGIN:VEVENT
DTSTART;TZID=America/Toronto:20240214T093000
DTEND;TZID=America/Toronto:20240214T113000
DTSTAMP:20260424T055448
CREATED:20231109T175255Z
LAST-MODIFIED:20240213T195506Z
UID:10000626-1707903000-1707910200@familleacoeur.qc.ca
SUMMARY:Café-jasette «Les Galipettes» pour parents et enfants de 2 à 5 ans
DESCRIPTION:Pour parents et enfants âgés de 2 à 5 ans. \nPour connaître les prochaines dates de rencontres pour la session à venir\, consultez la page Facebook de Famille à Cœur ou notre calendrier.
URL:https://familleacoeur.qc.ca/evenement/cafe-jasette-les-galipettes-pour-parents-et-enfants-de-2-a-5-ans-2/2024-02-14/
CATEGORIES:Activités
ATTACH;FMTTYPE=image/jpeg:https://familleacoeur.qc.ca/wp-content/uploads/2021/02/galipettes2.jpg
END:VEVENT
BEGIN:VEVENT
DTSTART;TZID=America/Toronto:20240210T153000
DTEND;TZID=America/Toronto:20240210T203000
DTSTAMP:20260424T055448
CREATED:20231109T180329Z
LAST-MODIFIED:20240213T200530Z
UID:10000775-1707579000-1707597000@familleacoeur.qc.ca
SUMMARY:Samedi d'sortir (pour enfants 0-12 ans)
DESCRIPTION:Besoin d’un répit ? D’une sortie ? \nNous offrons un service de répit\, les samedis\, de 15 h 30 à 20 h 30 pour les enfants de 0-12 ans\, afin que les parents profitent d’une belle soirée\, le temps d’une p’tite sortie ! \nAu menu de la soirée\, jeux extérieurs\, bricolages\, jeux actifs\, jeux calmes et film.
URL:https://familleacoeur.qc.ca/evenement/samedi-dsortir-pour-enfants-0-12-ans-2/2024-02-10/
CATEGORIES:Services
ATTACH;FMTTYPE=image/jpeg:https://familleacoeur.qc.ca/wp-content/uploads/2021/02/samedi-repit.jpg
END:VEVENT
BEGIN:VEVENT
DTSTART;TZID=America/Toronto:20240208T093000
DTEND;TZID=America/Toronto:20240208T113000
DTSTAMP:20260424T055448
CREATED:20231109T173000Z
LAST-MODIFIED:20240213T192522Z
UID:10000406-1707384600-1707391800@familleacoeur.qc.ca
SUMMARY:Les p’tits matins bedons poupons
DESCRIPTION:Cette activité s’adresse aux parents d’enfants de 0 (grossesse) à 2 ans. Les p’tits matins bedons poupons se déroulent de 9 h 30 à 11 h 30 à tous les jeudis. Le but est de permettre à ces parents de rencontrer d’autres parents\, afin d’échanger et d’en apprendre sur des sujets en lien direct avec leur réalité commune\, accompagnés de leur poupon. À l’occasion nous avons des invités qui viennent discuter de différents sujets tels que la nutrition (DME)\, ostéopathie\, massothérapie pour bébé\, etc. \nGratuit pour les membres.
URL:https://familleacoeur.qc.ca/evenement/les-ptits-matins-bedons-poupons-ete-2/2024-02-08/
CATEGORIES:Activités,Services
ATTACH;FMTTYPE=image/jpeg:https://familleacoeur.qc.ca/wp-content/uploads/2021/02/bedons-poupons.jpg
END:VEVENT
BEGIN:VEVENT
DTSTART;TZID=America/Toronto:20240207T093000
DTEND;TZID=America/Toronto:20240207T113000
DTSTAMP:20260424T055448
CREATED:20231109T175255Z
LAST-MODIFIED:20240213T195506Z
UID:10000625-1707298200-1707305400@familleacoeur.qc.ca
SUMMARY:Café-jasette «Les Galipettes» pour parents et enfants de 2 à 5 ans
DESCRIPTION:Pour parents et enfants âgés de 2 à 5 ans. \nPour connaître les prochaines dates de rencontres pour la session à venir\, consultez la page Facebook de Famille à Cœur ou notre calendrier.
URL:https://familleacoeur.qc.ca/evenement/cafe-jasette-les-galipettes-pour-parents-et-enfants-de-2-a-5-ans-2/2024-02-07/
CATEGORIES:Activités
ATTACH;FMTTYPE=image/jpeg:https://familleacoeur.qc.ca/wp-content/uploads/2021/02/galipettes2.jpg
END:VEVENT
BEGIN:VEVENT
DTSTART;TZID=America/Toronto:20240206T190000
DTEND;TZID=America/Toronto:20240206T203000
DTSTAMP:20260424T055448
CREATED:20220921T164833Z
LAST-MODIFIED:20240213T201038Z
UID:10000396-1707246000-1707251400@familleacoeur.qc.ca
SUMMARY:Groupe de soutien au deuil périnatal
DESCRIPTION:Que ce soit en début de grossesse\, durant la grossesse\, à l’accouchement ou dans les premiers mois de vie de votre enfant\, le décès d’un petit être est toujours un moment difficile à traverser. Vous vivez un deuil périnatal\, vous vous sentez seul(e)\, incompris(e) et perdu(e). C’est vraiment normal et vous n’êtes pas seul(e) à vivre toute cette vague d’émotions. \nGratuit pour les membres. \n\n\nRéservation obligatoire auprès de Geneviève Boileau\n\n\n\n\n\nPar courriel : crp@familleacoeur.qc.ca\nPar téléphone : 450 346-1734\, poste 233
URL:https://familleacoeur.qc.ca/evenement/groupe-de-soutien-au-deuil-perinatal-2/2024-02-06/
ATTACH;FMTTYPE=image/jpeg:https://familleacoeur.qc.ca/wp-content/uploads/2021/02/deuil-perinatal-1.jpg
END:VEVENT
BEGIN:VEVENT
DTSTART;TZID=America/Toronto:20240203T153000
DTEND;TZID=America/Toronto:20240203T203000
DTSTAMP:20260424T055448
CREATED:20231109T180329Z
LAST-MODIFIED:20240213T200530Z
UID:10000774-1706974200-1706992200@familleacoeur.qc.ca
SUMMARY:Samedi d'sortir (pour enfants 0-12 ans)
DESCRIPTION:Besoin d’un répit ? D’une sortie ? \nNous offrons un service de répit\, les samedis\, de 15 h 30 à 20 h 30 pour les enfants de 0-12 ans\, afin que les parents profitent d’une belle soirée\, le temps d’une p’tite sortie ! \nAu menu de la soirée\, jeux extérieurs\, bricolages\, jeux actifs\, jeux calmes et film.
URL:https://familleacoeur.qc.ca/evenement/samedi-dsortir-pour-enfants-0-12-ans-2/2024-02-03/
CATEGORIES:Services
ATTACH;FMTTYPE=image/jpeg:https://familleacoeur.qc.ca/wp-content/uploads/2021/02/samedi-repit.jpg
END:VEVENT
BEGIN:VEVENT
DTSTART;TZID=America/Toronto:20240201T093000
DTEND;TZID=America/Toronto:20240201T113000
DTSTAMP:20260424T055448
CREATED:20231109T173000Z
LAST-MODIFIED:20240213T192522Z
UID:10000405-1706779800-1706787000@familleacoeur.qc.ca
SUMMARY:Les p’tits matins bedons poupons
DESCRIPTION:Cette activité s’adresse aux parents d’enfants de 0 (grossesse) à 2 ans. Les p’tits matins bedons poupons se déroulent de 9 h 30 à 11 h 30 à tous les jeudis. Le but est de permettre à ces parents de rencontrer d’autres parents\, afin d’échanger et d’en apprendre sur des sujets en lien direct avec leur réalité commune\, accompagnés de leur poupon. À l’occasion nous avons des invités qui viennent discuter de différents sujets tels que la nutrition (DME)\, ostéopathie\, massothérapie pour bébé\, etc. \nGratuit pour les membres.
URL:https://familleacoeur.qc.ca/evenement/les-ptits-matins-bedons-poupons-ete-2/2024-02-01/
CATEGORIES:Activités,Services
ATTACH;FMTTYPE=image/jpeg:https://familleacoeur.qc.ca/wp-content/uploads/2021/02/bedons-poupons.jpg
END:VEVENT
BEGIN:VEVENT
DTSTART;TZID=America/Toronto:20240131T093000
DTEND;TZID=America/Toronto:20240131T113000
DTSTAMP:20260424T055448
CREATED:20231109T175255Z
LAST-MODIFIED:20240213T195506Z
UID:10000624-1706693400-1706700600@familleacoeur.qc.ca
SUMMARY:Café-jasette «Les Galipettes» pour parents et enfants de 2 à 5 ans
DESCRIPTION:Pour parents et enfants âgés de 2 à 5 ans. \nPour connaître les prochaines dates de rencontres pour la session à venir\, consultez la page Facebook de Famille à Cœur ou notre calendrier.
URL:https://familleacoeur.qc.ca/evenement/cafe-jasette-les-galipettes-pour-parents-et-enfants-de-2-a-5-ans-2/2024-01-31/
CATEGORIES:Activités
ATTACH;FMTTYPE=image/jpeg:https://familleacoeur.qc.ca/wp-content/uploads/2021/02/galipettes2.jpg
END:VEVENT
BEGIN:VEVENT
DTSTART;TZID=America/Toronto:20240127T153000
DTEND;TZID=America/Toronto:20240127T203000
DTSTAMP:20260424T055448
CREATED:20231109T180329Z
LAST-MODIFIED:20240213T200530Z
UID:10000773-1706369400-1706387400@familleacoeur.qc.ca
SUMMARY:Samedi d'sortir (pour enfants 0-12 ans)
DESCRIPTION:Besoin d’un répit ? D’une sortie ? \nNous offrons un service de répit\, les samedis\, de 15 h 30 à 20 h 30 pour les enfants de 0-12 ans\, afin que les parents profitent d’une belle soirée\, le temps d’une p’tite sortie ! \nAu menu de la soirée\, jeux extérieurs\, bricolages\, jeux actifs\, jeux calmes et film.
URL:https://familleacoeur.qc.ca/evenement/samedi-dsortir-pour-enfants-0-12-ans-2/2024-01-27/
CATEGORIES:Services
ATTACH;FMTTYPE=image/jpeg:https://familleacoeur.qc.ca/wp-content/uploads/2021/02/samedi-repit.jpg
END:VEVENT
BEGIN:VEVENT
DTSTART;TZID=America/Toronto:20240125T093000
DTEND;TZID=America/Toronto:20240125T113000
DTSTAMP:20260424T055448
CREATED:20231109T173000Z
LAST-MODIFIED:20240213T192522Z
UID:10000404-1706175000-1706182200@familleacoeur.qc.ca
SUMMARY:Les p’tits matins bedons poupons
DESCRIPTION:Cette activité s’adresse aux parents d’enfants de 0 (grossesse) à 2 ans. Les p’tits matins bedons poupons se déroulent de 9 h 30 à 11 h 30 à tous les jeudis. Le but est de permettre à ces parents de rencontrer d’autres parents\, afin d’échanger et d’en apprendre sur des sujets en lien direct avec leur réalité commune\, accompagnés de leur poupon. À l’occasion nous avons des invités qui viennent discuter de différents sujets tels que la nutrition (DME)\, ostéopathie\, massothérapie pour bébé\, etc. \nGratuit pour les membres.
URL:https://familleacoeur.qc.ca/evenement/les-ptits-matins-bedons-poupons-ete-2/2024-01-25/
CATEGORIES:Activités,Services
ATTACH;FMTTYPE=image/jpeg:https://familleacoeur.qc.ca/wp-content/uploads/2021/02/bedons-poupons.jpg
END:VEVENT
BEGIN:VEVENT
DTSTART;TZID=America/Toronto:20240124T093000
DTEND;TZID=America/Toronto:20240124T113000
DTSTAMP:20260424T055448
CREATED:20231109T175255Z
LAST-MODIFIED:20240213T195506Z
UID:10000623-1706088600-1706095800@familleacoeur.qc.ca
SUMMARY:Café-jasette «Les Galipettes» pour parents et enfants de 2 à 5 ans
DESCRIPTION:Pour parents et enfants âgés de 2 à 5 ans. \nPour connaître les prochaines dates de rencontres pour la session à venir\, consultez la page Facebook de Famille à Cœur ou notre calendrier.
URL:https://familleacoeur.qc.ca/evenement/cafe-jasette-les-galipettes-pour-parents-et-enfants-de-2-a-5-ans-2/2024-01-24/
CATEGORIES:Activités
ATTACH;FMTTYPE=image/jpeg:https://familleacoeur.qc.ca/wp-content/uploads/2021/02/galipettes2.jpg
END:VEVENT
BEGIN:VEVENT
DTSTART;TZID=America/Toronto:20240120T153000
DTEND;TZID=America/Toronto:20240120T203000
DTSTAMP:20260424T055448
CREATED:20231109T180329Z
LAST-MODIFIED:20240213T200530Z
UID:10000772-1705764600-1705782600@familleacoeur.qc.ca
SUMMARY:Samedi d'sortir (pour enfants 0-12 ans)
DESCRIPTION:Besoin d’un répit ? D’une sortie ? \nNous offrons un service de répit\, les samedis\, de 15 h 30 à 20 h 30 pour les enfants de 0-12 ans\, afin que les parents profitent d’une belle soirée\, le temps d’une p’tite sortie ! \nAu menu de la soirée\, jeux extérieurs\, bricolages\, jeux actifs\, jeux calmes et film.
URL:https://familleacoeur.qc.ca/evenement/samedi-dsortir-pour-enfants-0-12-ans-2/2024-01-20/
CATEGORIES:Services
ATTACH;FMTTYPE=image/jpeg:https://familleacoeur.qc.ca/wp-content/uploads/2021/02/samedi-repit.jpg
END:VEVENT
BEGIN:VEVENT
DTSTART;TZID=America/Toronto:20240118T093000
DTEND;TZID=America/Toronto:20240118T113000
DTSTAMP:20260424T055448
CREATED:20231109T173000Z
LAST-MODIFIED:20240213T192522Z
UID:10000043-1705570200-1705577400@familleacoeur.qc.ca
SUMMARY:Les p’tits matins bedons poupons
DESCRIPTION:Cette activité s’adresse aux parents d’enfants de 0 (grossesse) à 2 ans. Les p’tits matins bedons poupons se déroulent de 9 h 30 à 11 h 30 à tous les jeudis. Le but est de permettre à ces parents de rencontrer d’autres parents\, afin d’échanger et d’en apprendre sur des sujets en lien direct avec leur réalité commune\, accompagnés de leur poupon. À l’occasion nous avons des invités qui viennent discuter de différents sujets tels que la nutrition (DME)\, ostéopathie\, massothérapie pour bébé\, etc. \nGratuit pour les membres.
URL:https://familleacoeur.qc.ca/evenement/les-ptits-matins-bedons-poupons-ete-2/2024-01-18/
CATEGORIES:Activités,Services
ATTACH;FMTTYPE=image/jpeg:https://familleacoeur.qc.ca/wp-content/uploads/2021/02/bedons-poupons.jpg
END:VEVENT
BEGIN:VEVENT
DTSTART;TZID=America/Toronto:20240117T093000
DTEND;TZID=America/Toronto:20240117T113000
DTSTAMP:20260424T055448
CREATED:20231109T175255Z
LAST-MODIFIED:20240213T195506Z
UID:10000540-1705483800-1705491000@familleacoeur.qc.ca
SUMMARY:Café-jasette «Les Galipettes» pour parents et enfants de 2 à 5 ans
DESCRIPTION:Pour parents et enfants âgés de 2 à 5 ans. \nPour connaître les prochaines dates de rencontres pour la session à venir\, consultez la page Facebook de Famille à Cœur ou notre calendrier.
URL:https://familleacoeur.qc.ca/evenement/cafe-jasette-les-galipettes-pour-parents-et-enfants-de-2-a-5-ans-2/2024-01-17/
CATEGORIES:Activités
ATTACH;FMTTYPE=image/jpeg:https://familleacoeur.qc.ca/wp-content/uploads/2021/02/galipettes2.jpg
END:VEVENT
BEGIN:VEVENT
DTSTART;TZID=America/Toronto:20240113T153000
DTEND;TZID=America/Toronto:20240113T203000
DTSTAMP:20260424T055448
CREATED:20231109T180329Z
LAST-MODIFIED:20240213T200530Z
UID:10000688-1705159800-1705177800@familleacoeur.qc.ca
SUMMARY:Samedi d'sortir (pour enfants 0-12 ans)
DESCRIPTION:Besoin d’un répit ? D’une sortie ? \nNous offrons un service de répit\, les samedis\, de 15 h 30 à 20 h 30 pour les enfants de 0-12 ans\, afin que les parents profitent d’une belle soirée\, le temps d’une p’tite sortie ! \nAu menu de la soirée\, jeux extérieurs\, bricolages\, jeux actifs\, jeux calmes et film.
URL:https://familleacoeur.qc.ca/evenement/samedi-dsortir-pour-enfants-0-12-ans-2/2024-01-13/
CATEGORIES:Services
ATTACH;FMTTYPE=image/jpeg:https://familleacoeur.qc.ca/wp-content/uploads/2021/02/samedi-repit.jpg
END:VEVENT
BEGIN:VEVENT
DTSTART;TZID=America/Toronto:20240109T190000
DTEND;TZID=America/Toronto:20240109T203000
DTSTAMP:20260424T055448
CREATED:20220921T164833Z
LAST-MODIFIED:20240213T201038Z
UID:10000395-1704826800-1704832200@familleacoeur.qc.ca
SUMMARY:Groupe de soutien au deuil périnatal
DESCRIPTION:Que ce soit en début de grossesse\, durant la grossesse\, à l’accouchement ou dans les premiers mois de vie de votre enfant\, le décès d’un petit être est toujours un moment difficile à traverser. Vous vivez un deuil périnatal\, vous vous sentez seul(e)\, incompris(e) et perdu(e). C’est vraiment normal et vous n’êtes pas seul(e) à vivre toute cette vague d’émotions. \nGratuit pour les membres. \n\n\nRéservation obligatoire auprès de Geneviève Boileau\n\n\n\n\n\nPar courriel : crp@familleacoeur.qc.ca\nPar téléphone : 450 346-1734\, poste 233
URL:https://familleacoeur.qc.ca/evenement/groupe-de-soutien-au-deuil-perinatal-2/2024-01-09/
ATTACH;FMTTYPE=image/jpeg:https://familleacoeur.qc.ca/wp-content/uploads/2021/02/deuil-perinatal-1.jpg
END:VEVENT
BEGIN:VEVENT
DTSTART;TZID=America/Toronto:20231215T110000
DTEND;TZID=America/Toronto:20231215T120000
DTSTAMP:20260424T055448
CREATED:20230828T153522Z
LAST-MODIFIED:20231011T171706Z
UID:10000394-1702638000-1702641600@familleacoeur.qc.ca
SUMMARY:Massage bébé - automne (session 2)
DESCRIPTION:Voici une belle façon d’apprendre à connaître ton bébé et de lui communiquer tout l’amour que tu lui portes grâce aux avantages du toucher. En plus de stimuler ton bébé et de relaxer avec lui\, tu auras aussi la chance d’échanger avec d’autres parents. \nVoici les bienfaits que peuvent procurer le massage : \n\n– favorise l’attachement parent-enfant;\n– contribue à la détente du bébé et de ses parents;\n– facilite le sommeil de bébé et soulage ses petits maux;\n– stimule les systèmes digestif\, nerveux et circulatoire du bébé.\n\n\nMatériel requis : piqué\, couverture\, petite serviette\, jouet préféré de votre bébé\, huile de pépins de raisin\, d’amande douce ou d’olive \nHabillement suggéré : vêtements confortables
URL:https://familleacoeur.qc.ca/evenement/massage-bebe-automne-session-2/2023-12-15/
CATEGORIES:Activités
ATTACH;FMTTYPE=image/jpeg:https://familleacoeur.qc.ca/wp-content/uploads/2021/02/massage-bebe1.jpg
END:VEVENT
BEGIN:VEVENT
DTSTART;TZID=America/Toronto:20231205T190000
DTEND;TZID=America/Toronto:20231205T210000
DTSTAMP:20260424T055448
CREATED:20230619T170106Z
LAST-MODIFIED:20230830T163905Z
UID:10000341-1701802800-1701810000@familleacoeur.qc.ca
SUMMARY:Groupe de soutien au deuil périnatal - automne
DESCRIPTION:Que ce soit en début de grossesse\, durant la grossesse\, à l’accouchement ou dans les premiers mois de vie de votre enfant\, le décès d’un petit être est toujours un moment difficile à traverser. Vous vivez un deuil périnatal\, vous vous sentez seul(e)\, incompris(e) et perdu(e). C’est vraiment normal et vous n’êtes pas seul(e) à vivre toute cette vague d’émotions. \nGratuit pour les membres. \n\n\nRéservation obligatoire auprès de Geneviève Boileau\n\n\n\n\n\nPar courriel : crp@familleacoeur.qc.ca\nPar téléphone : 450 346-1734\, poste 233
URL:https://familleacoeur.qc.ca/evenement/groupe-de-soutien-au-deuil-perinatal-automne/2023-12-05/
CATEGORIES:Services
ATTACH;FMTTYPE=image/jpeg:https://familleacoeur.qc.ca/wp-content/uploads/2021/02/deuil-perinatal-1.jpg
END:VEVENT
BEGIN:VEVENT
DTSTART;TZID=America/Toronto:20231201T110000
DTEND;TZID=America/Toronto:20231201T120000
DTSTAMP:20260424T055448
CREATED:20230828T153522Z
LAST-MODIFIED:20231011T171706Z
UID:10000335-1701428400-1701432000@familleacoeur.qc.ca
SUMMARY:Massage bébé - automne (session 2)
DESCRIPTION:Voici une belle façon d’apprendre à connaître ton bébé et de lui communiquer tout l’amour que tu lui portes grâce aux avantages du toucher. En plus de stimuler ton bébé et de relaxer avec lui\, tu auras aussi la chance d’échanger avec d’autres parents. \nVoici les bienfaits que peuvent procurer le massage : \n\n– favorise l’attachement parent-enfant;\n– contribue à la détente du bébé et de ses parents;\n– facilite le sommeil de bébé et soulage ses petits maux;\n– stimule les systèmes digestif\, nerveux et circulatoire du bébé.\n\n\nMatériel requis : piqué\, couverture\, petite serviette\, jouet préféré de votre bébé\, huile de pépins de raisin\, d’amande douce ou d’olive \nHabillement suggéré : vêtements confortables
URL:https://familleacoeur.qc.ca/evenement/massage-bebe-automne-session-2/2023-12-01/
CATEGORIES:Activités
ATTACH;FMTTYPE=image/jpeg:https://familleacoeur.qc.ca/wp-content/uploads/2021/02/massage-bebe1.jpg
END:VEVENT
BEGIN:VEVENT
DTSTART;TZID=America/Toronto:20231124T110000
DTEND;TZID=America/Toronto:20231124T120000
DTSTAMP:20260424T055448
CREATED:20230828T153522Z
LAST-MODIFIED:20231011T171706Z
UID:10000334-1700823600-1700827200@familleacoeur.qc.ca
SUMMARY:Massage bébé - automne (session 2)
DESCRIPTION:Voici une belle façon d’apprendre à connaître ton bébé et de lui communiquer tout l’amour que tu lui portes grâce aux avantages du toucher. En plus de stimuler ton bébé et de relaxer avec lui\, tu auras aussi la chance d’échanger avec d’autres parents. \nVoici les bienfaits que peuvent procurer le massage : \n\n– favorise l’attachement parent-enfant;\n– contribue à la détente du bébé et de ses parents;\n– facilite le sommeil de bébé et soulage ses petits maux;\n– stimule les systèmes digestif\, nerveux et circulatoire du bébé.\n\n\nMatériel requis : piqué\, couverture\, petite serviette\, jouet préféré de votre bébé\, huile de pépins de raisin\, d’amande douce ou d’olive \nHabillement suggéré : vêtements confortables
URL:https://familleacoeur.qc.ca/evenement/massage-bebe-automne-session-2/2023-11-24/
CATEGORIES:Activités
ATTACH;FMTTYPE=image/jpeg:https://familleacoeur.qc.ca/wp-content/uploads/2021/02/massage-bebe1.jpg
END:VEVENT
END:VCALENDAR