BEGIN:VCALENDAR
VERSION:2.0
PRODID:-//Famille à Coeur - ECPv6.2.2//NONSGML v1.0//EN
CALSCALE:GREGORIAN
METHOD:PUBLISH
X-WR-CALNAME:Famille à Coeur
X-ORIGINAL-URL:https://familleacoeur.qc.ca
X-WR-CALDESC:évènements pour Famille à Coeur
REFRESH-INTERVAL;VALUE=DURATION:PT1H
X-Robots-Tag:noindex
X-PUBLISHED-TTL:PT1H
BEGIN:VTIMEZONE
TZID:America/Toronto
BEGIN:DAYLIGHT
TZOFFSETFROM:-0500
TZOFFSETTO:-0400
TZNAME:EDT
DTSTART:20210314T070000
END:DAYLIGHT
BEGIN:STANDARD
TZOFFSETFROM:-0400
TZOFFSETTO:-0500
TZNAME:EST
DTSTART:20211107T060000
END:STANDARD
END:VTIMEZONE
BEGIN:VEVENT
DTSTART;TZID=America/Toronto:20211005T183000
DTEND;TZID=America/Toronto:20211005T203000
DTSTAMP:20260424T211121
CREATED:20210415T184411Z
LAST-MODIFIED:20210722T163857Z
UID:10000104-1633458600-1633465800@familleacoeur.qc.ca
SUMMARY:Habiletés sociales 1
DESCRIPTION:Pour les enfants de 6 à 12 ans ainsi que leurs parents. \n 
URL:https://familleacoeur.qc.ca/evenement/habiletes-sociales-1/2021-10-05/
CATEGORIES:Activités
ATTACH;FMTTYPE=image/jpeg:https://familleacoeur.qc.ca/wp-content/uploads/2021/04/habilites-sociales-2.jpg
END:VEVENT
BEGIN:VEVENT
DTSTART;TZID=America/Toronto:20210928T183000
DTEND;TZID=America/Toronto:20210928T203000
DTSTAMP:20260424T211121
CREATED:20210415T184411Z
LAST-MODIFIED:20210722T163857Z
UID:10000103-1632853800-1632861000@familleacoeur.qc.ca
SUMMARY:Habiletés sociales 1
DESCRIPTION:Pour les enfants de 6 à 12 ans ainsi que leurs parents. \n 
URL:https://familleacoeur.qc.ca/evenement/habiletes-sociales-1/2021-09-28/
CATEGORIES:Activités
ATTACH;FMTTYPE=image/jpeg:https://familleacoeur.qc.ca/wp-content/uploads/2021/04/habilites-sociales-2.jpg
END:VEVENT
BEGIN:VEVENT
DTSTART;TZID=America/Toronto:20210921T183000
DTEND;TZID=America/Toronto:20210921T203000
DTSTAMP:20260424T211121
CREATED:20210415T184411Z
LAST-MODIFIED:20210722T163857Z
UID:10000102-1632249000-1632256200@familleacoeur.qc.ca
SUMMARY:Habiletés sociales 1
DESCRIPTION:Pour les enfants de 6 à 12 ans ainsi que leurs parents. \n 
URL:https://familleacoeur.qc.ca/evenement/habiletes-sociales-1/2021-09-21/
CATEGORIES:Activités
ATTACH;FMTTYPE=image/jpeg:https://familleacoeur.qc.ca/wp-content/uploads/2021/04/habilites-sociales-2.jpg
END:VEVENT
BEGIN:VEVENT
DTSTART;TZID=America/Toronto:20210914T183000
DTEND;TZID=America/Toronto:20210914T203000
DTSTAMP:20260424T211121
CREATED:20210415T184411Z
LAST-MODIFIED:20210722T163857Z
UID:10000101-1631644200-1631651400@familleacoeur.qc.ca
SUMMARY:Habiletés sociales 1
DESCRIPTION:Pour les enfants de 6 à 12 ans ainsi que leurs parents. \n 
URL:https://familleacoeur.qc.ca/evenement/habiletes-sociales-1/2021-09-14/
CATEGORIES:Activités
ATTACH;FMTTYPE=image/jpeg:https://familleacoeur.qc.ca/wp-content/uploads/2021/04/habilites-sociales-2.jpg
END:VEVENT
BEGIN:VEVENT
DTSTART;TZID=America/Toronto:20210616T093000
DTEND;TZID=America/Toronto:20210616T103000
DTSTAMP:20260424T211121
CREATED:20210203T170418Z
LAST-MODIFIED:20210503T194100Z
UID:10000129-1623835800-1623839400@familleacoeur.qc.ca
SUMMARY:S'amuser en stimulant bébé
DESCRIPTION:Via la plateforme Zoom. \nCet atelier s’adresse aux parents avec leur(s) enfant(s) âgé(s) de 12 à 24 mois. \nLes ateliers de stimulation visent à découvrir les étapes de développement des enfants de 0 à 12 mois et de 12 à 24 mois. Chacun des ateliers est conçu de façon à pouvoir être reproduit à la maison avec des matériaux de récupération. Nous discuterons de la motricité fine et globale\, du développement socio-affectif\, du développement cognitif et langagier\, de l’autonomie et de la discipline\, le jeu\, les cinq sens\, la créativité et l’alimentation. Nous ferons des activités à chacun des ateliers et une fiche de jeu complémentaire sera remise aux participants.
URL:https://familleacoeur.qc.ca/evenement/samuser-en-stimulant-bebe/2021-06-16/
CATEGORIES:Activités
ATTACH;FMTTYPE=image/jpeg:https://familleacoeur.qc.ca/wp-content/uploads/2021/02/samuser-en-stimulant-bebe.jpg
END:VEVENT
BEGIN:VEVENT
DTSTART;TZID=America/Toronto:20210609T093000
DTEND;TZID=America/Toronto:20210609T103000
DTSTAMP:20260424T211121
CREATED:20210203T170418Z
LAST-MODIFIED:20210503T194100Z
UID:10000128-1623231000-1623234600@familleacoeur.qc.ca
SUMMARY:S'amuser en stimulant bébé
DESCRIPTION:Via la plateforme Zoom. \nCet atelier s’adresse aux parents avec leur(s) enfant(s) âgé(s) de 12 à 24 mois. \nLes ateliers de stimulation visent à découvrir les étapes de développement des enfants de 0 à 12 mois et de 12 à 24 mois. Chacun des ateliers est conçu de façon à pouvoir être reproduit à la maison avec des matériaux de récupération. Nous discuterons de la motricité fine et globale\, du développement socio-affectif\, du développement cognitif et langagier\, de l’autonomie et de la discipline\, le jeu\, les cinq sens\, la créativité et l’alimentation. Nous ferons des activités à chacun des ateliers et une fiche de jeu complémentaire sera remise aux participants.
URL:https://familleacoeur.qc.ca/evenement/samuser-en-stimulant-bebe/2021-06-09/
CATEGORIES:Activités
ATTACH;FMTTYPE=image/jpeg:https://familleacoeur.qc.ca/wp-content/uploads/2021/02/samuser-en-stimulant-bebe.jpg
END:VEVENT
BEGIN:VEVENT
DTSTART;TZID=America/Toronto:20210602T093000
DTEND;TZID=America/Toronto:20210602T103000
DTSTAMP:20260424T211121
CREATED:20210203T170418Z
LAST-MODIFIED:20210503T194100Z
UID:10000127-1622626200-1622629800@familleacoeur.qc.ca
SUMMARY:S'amuser en stimulant bébé
DESCRIPTION:Via la plateforme Zoom. \nCet atelier s’adresse aux parents avec leur(s) enfant(s) âgé(s) de 12 à 24 mois. \nLes ateliers de stimulation visent à découvrir les étapes de développement des enfants de 0 à 12 mois et de 12 à 24 mois. Chacun des ateliers est conçu de façon à pouvoir être reproduit à la maison avec des matériaux de récupération. Nous discuterons de la motricité fine et globale\, du développement socio-affectif\, du développement cognitif et langagier\, de l’autonomie et de la discipline\, le jeu\, les cinq sens\, la créativité et l’alimentation. Nous ferons des activités à chacun des ateliers et une fiche de jeu complémentaire sera remise aux participants.
URL:https://familleacoeur.qc.ca/evenement/samuser-en-stimulant-bebe/2021-06-02/
CATEGORIES:Activités
ATTACH;FMTTYPE=image/jpeg:https://familleacoeur.qc.ca/wp-content/uploads/2021/02/samuser-en-stimulant-bebe.jpg
END:VEVENT
BEGIN:VEVENT
DTSTART;TZID=America/Toronto:20210526T093000
DTEND;TZID=America/Toronto:20210526T103000
DTSTAMP:20260424T211121
CREATED:20210203T170418Z
LAST-MODIFIED:20210503T194100Z
UID:10000126-1622021400-1622025000@familleacoeur.qc.ca
SUMMARY:S'amuser en stimulant bébé
DESCRIPTION:Via la plateforme Zoom. \nCet atelier s’adresse aux parents avec leur(s) enfant(s) âgé(s) de 12 à 24 mois. \nLes ateliers de stimulation visent à découvrir les étapes de développement des enfants de 0 à 12 mois et de 12 à 24 mois. Chacun des ateliers est conçu de façon à pouvoir être reproduit à la maison avec des matériaux de récupération. Nous discuterons de la motricité fine et globale\, du développement socio-affectif\, du développement cognitif et langagier\, de l’autonomie et de la discipline\, le jeu\, les cinq sens\, la créativité et l’alimentation. Nous ferons des activités à chacun des ateliers et une fiche de jeu complémentaire sera remise aux participants.
URL:https://familleacoeur.qc.ca/evenement/samuser-en-stimulant-bebe/2021-05-26/
CATEGORIES:Activités
ATTACH;FMTTYPE=image/jpeg:https://familleacoeur.qc.ca/wp-content/uploads/2021/02/samuser-en-stimulant-bebe.jpg
END:VEVENT
BEGIN:VEVENT
DTSTART;TZID=America/Toronto:20210519T093000
DTEND;TZID=America/Toronto:20210519T103000
DTSTAMP:20260424T211121
CREATED:20210203T170418Z
LAST-MODIFIED:20210503T194100Z
UID:10000125-1621416600-1621420200@familleacoeur.qc.ca
SUMMARY:S'amuser en stimulant bébé
DESCRIPTION:Via la plateforme Zoom. \nCet atelier s’adresse aux parents avec leur(s) enfant(s) âgé(s) de 12 à 24 mois. \nLes ateliers de stimulation visent à découvrir les étapes de développement des enfants de 0 à 12 mois et de 12 à 24 mois. Chacun des ateliers est conçu de façon à pouvoir être reproduit à la maison avec des matériaux de récupération. Nous discuterons de la motricité fine et globale\, du développement socio-affectif\, du développement cognitif et langagier\, de l’autonomie et de la discipline\, le jeu\, les cinq sens\, la créativité et l’alimentation. Nous ferons des activités à chacun des ateliers et une fiche de jeu complémentaire sera remise aux participants.
URL:https://familleacoeur.qc.ca/evenement/samuser-en-stimulant-bebe/2021-05-19/
CATEGORIES:Activités
ATTACH;FMTTYPE=image/jpeg:https://familleacoeur.qc.ca/wp-content/uploads/2021/02/samuser-en-stimulant-bebe.jpg
END:VEVENT
BEGIN:VEVENT
DTSTART;TZID=America/Toronto:20210227T093000
DTEND;TZID=America/Toronto:20210227T103000
DTSTAMP:20260424T211121
CREATED:20210203T190235Z
LAST-MODIFIED:20210319T152117Z
UID:10000100-1614418200-1614421800@familleacoeur.qc.ca
SUMMARY:Papa et leurs enfants ont la bougeotte
DESCRIPTION:Nouveau \nVia la plate-forme Teams \nGratuit pour les membres \nPour les pères et enfants de 0 à 2 ans
URL:https://familleacoeur.qc.ca/evenement/papa-et-leurs-enfants-ont-la-bougeotte/2021-02-27/
CATEGORIES:Activités
ATTACH;FMTTYPE=image/jpeg:https://familleacoeur.qc.ca/wp-content/uploads/2021/02/bougeotte2.jpg
END:VEVENT
BEGIN:VEVENT
DTSTART;TZID=America/Toronto:20210220T093000
DTEND;TZID=America/Toronto:20210220T103000
DTSTAMP:20260424T211121
CREATED:20210203T190235Z
LAST-MODIFIED:20210319T152117Z
UID:10000099-1613813400-1613817000@familleacoeur.qc.ca
SUMMARY:Papa et leurs enfants ont la bougeotte
DESCRIPTION:Nouveau \nVia la plate-forme Teams \nGratuit pour les membres \nPour les pères et enfants de 0 à 2 ans
URL:https://familleacoeur.qc.ca/evenement/papa-et-leurs-enfants-ont-la-bougeotte/2021-02-20/
CATEGORIES:Activités
ATTACH;FMTTYPE=image/jpeg:https://familleacoeur.qc.ca/wp-content/uploads/2021/02/bougeotte2.jpg
END:VEVENT
BEGIN:VEVENT
DTSTART;TZID=America/Toronto:20210213T093000
DTEND;TZID=America/Toronto:20210213T103000
DTSTAMP:20260424T211121
CREATED:20210203T190235Z
LAST-MODIFIED:20210319T152117Z
UID:10000098-1613208600-1613212200@familleacoeur.qc.ca
SUMMARY:Papa et leurs enfants ont la bougeotte
DESCRIPTION:Nouveau \nVia la plate-forme Teams \nGratuit pour les membres \nPour les pères et enfants de 0 à 2 ans
URL:https://familleacoeur.qc.ca/evenement/papa-et-leurs-enfants-ont-la-bougeotte/2021-02-13/
CATEGORIES:Activités
ATTACH;FMTTYPE=image/jpeg:https://familleacoeur.qc.ca/wp-content/uploads/2021/02/bougeotte2.jpg
END:VEVENT
BEGIN:VEVENT
DTSTART;TZID=America/Toronto:20210206T093000
DTEND;TZID=America/Toronto:20210206T103000
DTSTAMP:20260424T211121
CREATED:20210203T190235Z
LAST-MODIFIED:20210319T152117Z
UID:10000097-1612603800-1612607400@familleacoeur.qc.ca
SUMMARY:Papa et leurs enfants ont la bougeotte
DESCRIPTION:Nouveau \nVia la plate-forme Teams \nGratuit pour les membres \nPour les pères et enfants de 0 à 2 ans
URL:https://familleacoeur.qc.ca/evenement/papa-et-leurs-enfants-ont-la-bougeotte/2021-02-06/
CATEGORIES:Activités
ATTACH;FMTTYPE=image/jpeg:https://familleacoeur.qc.ca/wp-content/uploads/2021/02/bougeotte2.jpg
END:VEVENT
END:VCALENDAR