BEGIN:VCALENDAR
VERSION:2.0
PRODID:-//Famille à Coeur - ECPv6.2.2//NONSGML v1.0//EN
CALSCALE:GREGORIAN
METHOD:PUBLISH
X-ORIGINAL-URL:https://familleacoeur.qc.ca
X-WR-CALDESC:évènements pour Famille à Coeur
REFRESH-INTERVAL;VALUE=DURATION:PT1H
X-Robots-Tag:noindex
X-PUBLISHED-TTL:PT1H
BEGIN:VTIMEZONE
TZID:America/Toronto
BEGIN:DAYLIGHT
TZOFFSETFROM:-0500
TZOFFSETTO:-0400
TZNAME:EDT
DTSTART:20250309T070000
END:DAYLIGHT
BEGIN:STANDARD
TZOFFSETFROM:-0400
TZOFFSETTO:-0500
TZNAME:EST
DTSTART:20251102T060000
END:STANDARD
BEGIN:DAYLIGHT
TZOFFSETFROM:-0500
TZOFFSETTO:-0400
TZNAME:EDT
DTSTART:20260308T070000
END:DAYLIGHT
BEGIN:STANDARD
TZOFFSETFROM:-0400
TZOFFSETTO:-0500
TZNAME:EST
DTSTART:20261101T060000
END:STANDARD
END:VTIMEZONE
BEGIN:VEVENT
DTSTART;TZID=America/Toronto:20260209T093000
DTEND;TZID=America/Toronto:20260209T113000
DTSTAMP:20260419T224048
CREATED:20241114T161909Z
LAST-MODIFIED:20260128T153315Z
UID:10002245-1770629400-1770636600@familleacoeur.qc.ca
SUMMARY:Langagibou
DESCRIPTION:L’atelier LANGAGIBOU invite le parent et son enfant à travailler le développement du langage. \nLe but est d’acquérir des stratégies langagières selon une approche personnalisée. \nLa rencontre est d’une durée de 2 heures assistée par deux accompagnatrices et divisée en quelques modules : causerie\, parcours dirigé\, activité de groupe structuré (thématique)\, collation et jeux libre(enfants) + causette (parents)\, histoire et départ. \nNote : Une pré-inscription est requise pour participer à l’atelier \nCOÛT : 90$ pour la session (revient à 10$ l’atelier)
URL:https://familleacoeur.qc.ca/evenement/langagibou-3/2026-02-09/
CATEGORIES:Activités
ATTACH;FMTTYPE=image/jpeg:https://familleacoeur.qc.ca/wp-content/uploads/2024/02/pexels-mart-production-7414905-scaled-e1708617596238.jpg
END:VEVENT
BEGIN:VEVENT
DTSTART;TZID=America/Toronto:20260209T090000
DTEND;TZID=America/Toronto:20260209T113000
DTSTAMP:20260419T224048
CREATED:20251110T193737Z
LAST-MODIFIED:20260105T154547Z
UID:10002440-1770627600-1770636600@familleacoeur.qc.ca
SUMMARY:Groupe de soutien « L'Éveil en douceur »
DESCRIPTION:Ce groupe de soutien et de prévention de la dépression post-partum s’adresse aux mères qui vivent des difficultés émotionnelles et/ou une dépression post-partum. \nIl y aura aussi une rencontre en couple un samedi durant la session. \nGratuit pour les membres
URL:https://familleacoeur.qc.ca/evenement/groupe-de-soutien-leveil-en-douceur-2-2/2026-02-09/
CATEGORIES:Activités
ATTACH;FMTTYPE=image/jpeg:https://familleacoeur.qc.ca/wp-content/uploads/2025/03/hand-5961660_1280.jpg
END:VEVENT
BEGIN:VEVENT
DTSTART;TZID=America/Toronto:20260206T093000
DTEND;TZID=America/Toronto:20260206T113000
DTSTAMP:20260419T224048
CREATED:20241114T161909Z
LAST-MODIFIED:20260128T153315Z
UID:10002244-1770370200-1770377400@familleacoeur.qc.ca
SUMMARY:Langagibou
DESCRIPTION:L’atelier LANGAGIBOU invite le parent et son enfant à travailler le développement du langage. \nLe but est d’acquérir des stratégies langagières selon une approche personnalisée. \nLa rencontre est d’une durée de 2 heures assistée par deux accompagnatrices et divisée en quelques modules : causerie\, parcours dirigé\, activité de groupe structuré (thématique)\, collation et jeux libre(enfants) + causette (parents)\, histoire et départ. \nNote : Une pré-inscription est requise pour participer à l’atelier \nCOÛT : 90$ pour la session (revient à 10$ l’atelier)
URL:https://familleacoeur.qc.ca/evenement/langagibou-3/2026-02-06/
CATEGORIES:Activités
ATTACH;FMTTYPE=image/jpeg:https://familleacoeur.qc.ca/wp-content/uploads/2024/02/pexels-mart-production-7414905-scaled-e1708617596238.jpg
END:VEVENT
BEGIN:VEVENT
DTSTART;TZID=America/Toronto:20260205T190000
DTEND;TZID=America/Toronto:20260205T210000
DTSTAMP:20260419T224048
CREATED:20251119T175004Z
LAST-MODIFIED:20251119T175004Z
UID:10001700-1770318000-1770325200@familleacoeur.qc.ca
SUMMARY:Relâche la soupape
DESCRIPTION:Nouveau \nAtelier offert aux hommes aux prises avec des émotions et croyances aux effets néfastes avec leur entourage. Famille à Cœur propose une démarche afin de rehausser et/ou consolider l’estime de soi des participants dans une perspective d’harmoniser leurs relations en général. \nUn service de garde est offert gratuitement aux participants\, sur réservation. \nPour connaître les prochaines dates\, consultez la page Facebook de Maison Oxygène Haut-Richelieu ou notre calendrier.
URL:https://familleacoeur.qc.ca/evenement/relache-de-la-soupape-2-3-2/2026-02-05/
CATEGORIES:Ateliers
ATTACH;FMTTYPE=image/jpeg:https://familleacoeur.qc.ca/wp-content/uploads/2021/02/relache-la-soupape2.jpg
END:VEVENT
BEGIN:VEVENT
DTSTART;TZID=America/Toronto:20260205T084500
DTEND;TZID=America/Toronto:20260205T113000
DTSTAMP:20260419T224048
CREATED:20260113T195752Z
LAST-MODIFIED:20260113T200401Z
UID:10002482-1770281100-1770291000@familleacoeur.qc.ca
SUMMARY:Groupe de soutien « L'Éveil en douceur »
DESCRIPTION:Ce groupe de soutien et de prévention de la dépression post-partum s’adresse aux mères qui vivent des difficultés émotionnelles et/ou une dépression post-partum. \nIl y aura aussi une rencontre en couple un samedi durant la session. \nGratuit pour les membres
URL:https://familleacoeur.qc.ca/evenement/groupe-de-soutien-leveil-en-douceur-3/2026-02-05/
CATEGORIES:Activités
ATTACH;FMTTYPE=image/jpeg:https://familleacoeur.qc.ca/wp-content/uploads/2025/03/hand-5961660_1280.jpg
END:VEVENT
BEGIN:VEVENT
DTSTART;TZID=America/Toronto:20260204T093000
DTEND;TZID=America/Toronto:20260204T113000
DTSTAMP:20260419T224048
CREATED:20251110T192342Z
LAST-MODIFIED:20260204T162930Z
UID:10002232-1770197400-1770204600@familleacoeur.qc.ca
SUMMARY:Café-jasette «Les Galipettes» pour parents et enfants de 2 à 5 ans
DESCRIPTION:Pour parents et enfants âgés de 2 à 5 ans. \nPour connaître les prochaines dates de rencontres pour la session à venir\, consultez la page Facebook de Famille à Cœur ou notre calendrier.
URL:https://familleacoeur.qc.ca/evenement/cafe-jasette-les-galipettes-pour-parents-et-enfants-de-2-a-5-ans/2026-02-04/
CATEGORIES:Activités
ATTACH;FMTTYPE=image/jpeg:https://familleacoeur.qc.ca/wp-content/uploads/2021/02/galipettes2.jpg
END:VEVENT
BEGIN:VEVENT
DTSTART;TZID=America/Toronto:20260203T183000
DTEND;TZID=America/Toronto:20260203T203000
DTSTAMP:20260419T224048
CREATED:20251119T174410Z
LAST-MODIFIED:20260121T201712Z
UID:10002338-1770143400-1770150600@familleacoeur.qc.ca
SUMMARY:Préparation prénatale de groupe
DESCRIPTION:Préparation prénatale pour mieux se préparer à l’accouchement. \nPour connaître les prochaines dates de rencontres pour la session à venir\, consultez la page Facebook de Famille à Cœur ou notre calendrier.
URL:https://familleacoeur.qc.ca/evenement/preparation-prenatale-de-groupe-printemps-3-2/2026-02-03/
CATEGORIES:Services
ATTACH;FMTTYPE=image/jpeg:https://familleacoeur.qc.ca/wp-content/uploads/2021/08/rencontres-prenatales-1.jpg
END:VEVENT
BEGIN:VEVENT
DTSTART;TZID=America/Toronto:20260203T090000
DTEND;TZID=America/Toronto:20260203T120000
DTSTAMP:20260419T224048
CREATED:20251110T192848Z
LAST-MODIFIED:20260204T163153Z
UID:10002429-1770109200-1770120000@familleacoeur.qc.ca
SUMMARY:Les mères... Entre-Nous !
DESCRIPTION:l’« Entre-Nous » est un local mis à la disposition des mères qui désirent rencontrer d’autres mères… \nC’est GRATUIT et sans inscription.
URL:https://familleacoeur.qc.ca/evenement/les-meres-entre-nous-le-matin-2-2-3/2026-02-03/
CATEGORIES:Services
ATTACH;FMTTYPE=image/jpeg:https://familleacoeur.qc.ca/wp-content/uploads/2023/08/Bedons_12mai2022_007.jpg
END:VEVENT
BEGIN:VEVENT
DTSTART;TZID=America/Toronto:20260202T093000
DTEND;TZID=America/Toronto:20260202T113000
DTSTAMP:20260419T224048
CREATED:20241114T161909Z
LAST-MODIFIED:20260128T153315Z
UID:10002243-1770024600-1770031800@familleacoeur.qc.ca
SUMMARY:Langagibou
DESCRIPTION:L’atelier LANGAGIBOU invite le parent et son enfant à travailler le développement du langage. \nLe but est d’acquérir des stratégies langagières selon une approche personnalisée. \nLa rencontre est d’une durée de 2 heures assistée par deux accompagnatrices et divisée en quelques modules : causerie\, parcours dirigé\, activité de groupe structuré (thématique)\, collation et jeux libre(enfants) + causette (parents)\, histoire et départ. \nNote : Une pré-inscription est requise pour participer à l’atelier \nCOÛT : 90$ pour la session (revient à 10$ l’atelier)
URL:https://familleacoeur.qc.ca/evenement/langagibou-3/2026-02-02/
CATEGORIES:Activités
ATTACH;FMTTYPE=image/jpeg:https://familleacoeur.qc.ca/wp-content/uploads/2024/02/pexels-mart-production-7414905-scaled-e1708617596238.jpg
END:VEVENT
BEGIN:VEVENT
DTSTART;TZID=America/Toronto:20260202T090000
DTEND;TZID=America/Toronto:20260202T113000
DTSTAMP:20260419T224048
CREATED:20251110T193737Z
LAST-MODIFIED:20260105T154547Z
UID:10002439-1770022800-1770031800@familleacoeur.qc.ca
SUMMARY:Groupe de soutien « L'Éveil en douceur »
DESCRIPTION:Ce groupe de soutien et de prévention de la dépression post-partum s’adresse aux mères qui vivent des difficultés émotionnelles et/ou une dépression post-partum. \nIl y aura aussi une rencontre en couple un samedi durant la session. \nGratuit pour les membres
URL:https://familleacoeur.qc.ca/evenement/groupe-de-soutien-leveil-en-douceur-2-2/2026-02-02/
CATEGORIES:Activités
ATTACH;FMTTYPE=image/jpeg:https://familleacoeur.qc.ca/wp-content/uploads/2025/03/hand-5961660_1280.jpg
END:VEVENT
BEGIN:VEVENT
DTSTART;TZID=America/Toronto:20260130T093000
DTEND;TZID=America/Toronto:20260130T113000
DTSTAMP:20260419T224048
CREATED:20241114T161909Z
LAST-MODIFIED:20260128T153315Z
UID:10002242-1769765400-1769772600@familleacoeur.qc.ca
SUMMARY:Langagibou
DESCRIPTION:L’atelier LANGAGIBOU invite le parent et son enfant à travailler le développement du langage. \nLe but est d’acquérir des stratégies langagières selon une approche personnalisée. \nLa rencontre est d’une durée de 2 heures assistée par deux accompagnatrices et divisée en quelques modules : causerie\, parcours dirigé\, activité de groupe structuré (thématique)\, collation et jeux libre(enfants) + causette (parents)\, histoire et départ. \nNote : Une pré-inscription est requise pour participer à l’atelier \nCOÛT : 90$ pour la session (revient à 10$ l’atelier)
URL:https://familleacoeur.qc.ca/evenement/langagibou-3/2026-01-30/
CATEGORIES:Activités
ATTACH;FMTTYPE=image/jpeg:https://familleacoeur.qc.ca/wp-content/uploads/2024/02/pexels-mart-production-7414905-scaled-e1708617596238.jpg
END:VEVENT
BEGIN:VEVENT
DTSTART;TZID=America/Toronto:20260129T084500
DTEND;TZID=America/Toronto:20260129T113000
DTSTAMP:20260419T224048
CREATED:20260113T195752Z
LAST-MODIFIED:20260113T200401Z
UID:10002481-1769676300-1769686200@familleacoeur.qc.ca
SUMMARY:Groupe de soutien « L'Éveil en douceur »
DESCRIPTION:Ce groupe de soutien et de prévention de la dépression post-partum s’adresse aux mères qui vivent des difficultés émotionnelles et/ou une dépression post-partum. \nIl y aura aussi une rencontre en couple un samedi durant la session. \nGratuit pour les membres
URL:https://familleacoeur.qc.ca/evenement/groupe-de-soutien-leveil-en-douceur-3/2026-01-29/
CATEGORIES:Activités
ATTACH;FMTTYPE=image/jpeg:https://familleacoeur.qc.ca/wp-content/uploads/2025/03/hand-5961660_1280.jpg
END:VEVENT
BEGIN:VEVENT
DTSTART;TZID=America/Toronto:20260128T093000
DTEND;TZID=America/Toronto:20260128T113000
DTSTAMP:20260419T224048
CREATED:20251110T192342Z
LAST-MODIFIED:20260204T162930Z
UID:10002231-1769592600-1769599800@familleacoeur.qc.ca
SUMMARY:Café-jasette «Les Galipettes» pour parents et enfants de 2 à 5 ans
DESCRIPTION:Pour parents et enfants âgés de 2 à 5 ans. \nPour connaître les prochaines dates de rencontres pour la session à venir\, consultez la page Facebook de Famille à Cœur ou notre calendrier.
URL:https://familleacoeur.qc.ca/evenement/cafe-jasette-les-galipettes-pour-parents-et-enfants-de-2-a-5-ans/2026-01-28/
CATEGORIES:Activités
ATTACH;FMTTYPE=image/jpeg:https://familleacoeur.qc.ca/wp-content/uploads/2021/02/galipettes2.jpg
END:VEVENT
BEGIN:VEVENT
DTSTART;TZID=America/Toronto:20260127T183000
DTEND;TZID=America/Toronto:20260127T203000
DTSTAMP:20260419T224048
CREATED:20251119T174410Z
LAST-MODIFIED:20260121T201712Z
UID:10002337-1769538600-1769545800@familleacoeur.qc.ca
SUMMARY:Préparation prénatale de groupe
DESCRIPTION:Préparation prénatale pour mieux se préparer à l’accouchement. \nPour connaître les prochaines dates de rencontres pour la session à venir\, consultez la page Facebook de Famille à Cœur ou notre calendrier.
URL:https://familleacoeur.qc.ca/evenement/preparation-prenatale-de-groupe-printemps-3-2/2026-01-27/
CATEGORIES:Services
ATTACH;FMTTYPE=image/jpeg:https://familleacoeur.qc.ca/wp-content/uploads/2021/08/rencontres-prenatales-1.jpg
END:VEVENT
BEGIN:VEVENT
DTSTART;TZID=America/Toronto:20260127T090000
DTEND;TZID=America/Toronto:20260127T120000
DTSTAMP:20260419T224048
CREATED:20251110T192848Z
LAST-MODIFIED:20260204T163153Z
UID:10002428-1769504400-1769515200@familleacoeur.qc.ca
SUMMARY:Les mères... Entre-Nous !
DESCRIPTION:l’« Entre-Nous » est un local mis à la disposition des mères qui désirent rencontrer d’autres mères… \nC’est GRATUIT et sans inscription.
URL:https://familleacoeur.qc.ca/evenement/les-meres-entre-nous-le-matin-2-2-3/2026-01-27/
CATEGORIES:Services
ATTACH;FMTTYPE=image/jpeg:https://familleacoeur.qc.ca/wp-content/uploads/2023/08/Bedons_12mai2022_007.jpg
END:VEVENT
BEGIN:VEVENT
DTSTART;TZID=America/Toronto:20260126T093000
DTEND;TZID=America/Toronto:20260126T113000
DTSTAMP:20260419T224048
CREATED:20241114T161909Z
LAST-MODIFIED:20260128T153315Z
UID:10002241-1769419800-1769427000@familleacoeur.qc.ca
SUMMARY:Langagibou
DESCRIPTION:L’atelier LANGAGIBOU invite le parent et son enfant à travailler le développement du langage. \nLe but est d’acquérir des stratégies langagières selon une approche personnalisée. \nLa rencontre est d’une durée de 2 heures assistée par deux accompagnatrices et divisée en quelques modules : causerie\, parcours dirigé\, activité de groupe structuré (thématique)\, collation et jeux libre(enfants) + causette (parents)\, histoire et départ. \nNote : Une pré-inscription est requise pour participer à l’atelier \nCOÛT : 90$ pour la session (revient à 10$ l’atelier)
URL:https://familleacoeur.qc.ca/evenement/langagibou-3/2026-01-26/
CATEGORIES:Activités
ATTACH;FMTTYPE=image/jpeg:https://familleacoeur.qc.ca/wp-content/uploads/2024/02/pexels-mart-production-7414905-scaled-e1708617596238.jpg
END:VEVENT
BEGIN:VEVENT
DTSTART;TZID=America/Toronto:20260126T090000
DTEND;TZID=America/Toronto:20260126T113000
DTSTAMP:20260419T224048
CREATED:20251110T193737Z
LAST-MODIFIED:20260105T154547Z
UID:10002438-1769418000-1769427000@familleacoeur.qc.ca
SUMMARY:Groupe de soutien « L'Éveil en douceur »
DESCRIPTION:Ce groupe de soutien et de prévention de la dépression post-partum s’adresse aux mères qui vivent des difficultés émotionnelles et/ou une dépression post-partum. \nIl y aura aussi une rencontre en couple un samedi durant la session. \nGratuit pour les membres
URL:https://familleacoeur.qc.ca/evenement/groupe-de-soutien-leveil-en-douceur-2-2/2026-01-26/
CATEGORIES:Activités
ATTACH;FMTTYPE=image/jpeg:https://familleacoeur.qc.ca/wp-content/uploads/2025/03/hand-5961660_1280.jpg
END:VEVENT
BEGIN:VEVENT
DTSTART;TZID=America/Toronto:20260123T093000
DTEND;TZID=America/Toronto:20260123T113000
DTSTAMP:20260419T224048
CREATED:20241114T161909Z
LAST-MODIFIED:20260128T153315Z
UID:10002240-1769160600-1769167800@familleacoeur.qc.ca
SUMMARY:Langagibou
DESCRIPTION:L’atelier LANGAGIBOU invite le parent et son enfant à travailler le développement du langage. \nLe but est d’acquérir des stratégies langagières selon une approche personnalisée. \nLa rencontre est d’une durée de 2 heures assistée par deux accompagnatrices et divisée en quelques modules : causerie\, parcours dirigé\, activité de groupe structuré (thématique)\, collation et jeux libre(enfants) + causette (parents)\, histoire et départ. \nNote : Une pré-inscription est requise pour participer à l’atelier \nCOÛT : 90$ pour la session (revient à 10$ l’atelier)
URL:https://familleacoeur.qc.ca/evenement/langagibou-3/2026-01-23/
CATEGORIES:Activités
ATTACH;FMTTYPE=image/jpeg:https://familleacoeur.qc.ca/wp-content/uploads/2024/02/pexels-mart-production-7414905-scaled-e1708617596238.jpg
END:VEVENT
BEGIN:VEVENT
DTSTART;TZID=America/Toronto:20260122T084500
DTEND;TZID=America/Toronto:20260122T113000
DTSTAMP:20260419T224048
CREATED:20260113T195752Z
LAST-MODIFIED:20260113T200401Z
UID:10002480-1769071500-1769081400@familleacoeur.qc.ca
SUMMARY:Groupe de soutien « L'Éveil en douceur »
DESCRIPTION:Ce groupe de soutien et de prévention de la dépression post-partum s’adresse aux mères qui vivent des difficultés émotionnelles et/ou une dépression post-partum. \nIl y aura aussi une rencontre en couple un samedi durant la session. \nGratuit pour les membres
URL:https://familleacoeur.qc.ca/evenement/groupe-de-soutien-leveil-en-douceur-3/2026-01-22/
CATEGORIES:Activités
ATTACH;FMTTYPE=image/jpeg:https://familleacoeur.qc.ca/wp-content/uploads/2025/03/hand-5961660_1280.jpg
END:VEVENT
BEGIN:VEVENT
DTSTART;TZID=America/Toronto:20260121T093000
DTEND;TZID=America/Toronto:20260121T113000
DTSTAMP:20260419T224048
CREATED:20251110T192342Z
LAST-MODIFIED:20260204T162930Z
UID:10002230-1768987800-1768995000@familleacoeur.qc.ca
SUMMARY:Café-jasette «Les Galipettes» pour parents et enfants de 2 à 5 ans
DESCRIPTION:Pour parents et enfants âgés de 2 à 5 ans. \nPour connaître les prochaines dates de rencontres pour la session à venir\, consultez la page Facebook de Famille à Cœur ou notre calendrier.
URL:https://familleacoeur.qc.ca/evenement/cafe-jasette-les-galipettes-pour-parents-et-enfants-de-2-a-5-ans/2026-01-21/
CATEGORIES:Activités
ATTACH;FMTTYPE=image/jpeg:https://familleacoeur.qc.ca/wp-content/uploads/2021/02/galipettes2.jpg
END:VEVENT
BEGIN:VEVENT
DTSTART;TZID=America/Toronto:20260120T183000
DTEND;TZID=America/Toronto:20260120T203000
DTSTAMP:20260419T224048
CREATED:20251119T174410Z
LAST-MODIFIED:20260121T201712Z
UID:10001763-1768933800-1768941000@familleacoeur.qc.ca
SUMMARY:Préparation prénatale de groupe
DESCRIPTION:Préparation prénatale pour mieux se préparer à l’accouchement. \nPour connaître les prochaines dates de rencontres pour la session à venir\, consultez la page Facebook de Famille à Cœur ou notre calendrier.
URL:https://familleacoeur.qc.ca/evenement/preparation-prenatale-de-groupe-printemps-3-2/2026-01-20/
CATEGORIES:Services
ATTACH;FMTTYPE=image/jpeg:https://familleacoeur.qc.ca/wp-content/uploads/2021/08/rencontres-prenatales-1.jpg
END:VEVENT
BEGIN:VEVENT
DTSTART;TZID=America/Toronto:20260120T090000
DTEND;TZID=America/Toronto:20260120T120000
DTSTAMP:20260419T224048
CREATED:20251110T192848Z
LAST-MODIFIED:20260204T163153Z
UID:10002427-1768899600-1768910400@familleacoeur.qc.ca
SUMMARY:Les mères... Entre-Nous !
DESCRIPTION:l’« Entre-Nous » est un local mis à la disposition des mères qui désirent rencontrer d’autres mères… \nC’est GRATUIT et sans inscription.
URL:https://familleacoeur.qc.ca/evenement/les-meres-entre-nous-le-matin-2-2-3/2026-01-20/
CATEGORIES:Services
ATTACH;FMTTYPE=image/jpeg:https://familleacoeur.qc.ca/wp-content/uploads/2023/08/Bedons_12mai2022_007.jpg
END:VEVENT
BEGIN:VEVENT
DTSTART;TZID=America/Toronto:20260119T090000
DTEND;TZID=America/Toronto:20260119T113000
DTSTAMP:20260419T224048
CREATED:20251110T193737Z
LAST-MODIFIED:20260105T154547Z
UID:10002437-1768813200-1768822200@familleacoeur.qc.ca
SUMMARY:Groupe de soutien « L'Éveil en douceur »
DESCRIPTION:Ce groupe de soutien et de prévention de la dépression post-partum s’adresse aux mères qui vivent des difficultés émotionnelles et/ou une dépression post-partum. \nIl y aura aussi une rencontre en couple un samedi durant la session. \nGratuit pour les membres
URL:https://familleacoeur.qc.ca/evenement/groupe-de-soutien-leveil-en-douceur-2-2/2026-01-19/
CATEGORIES:Activités
ATTACH;FMTTYPE=image/jpeg:https://familleacoeur.qc.ca/wp-content/uploads/2025/03/hand-5961660_1280.jpg
END:VEVENT
BEGIN:VEVENT
DTSTART;TZID=America/Toronto:20260115T084500
DTEND;TZID=America/Toronto:20260115T113000
DTSTAMP:20260419T224048
CREATED:20260113T195752Z
LAST-MODIFIED:20260113T200401Z
UID:10002479-1768466700-1768476600@familleacoeur.qc.ca
SUMMARY:Groupe de soutien « L'Éveil en douceur »
DESCRIPTION:Ce groupe de soutien et de prévention de la dépression post-partum s’adresse aux mères qui vivent des difficultés émotionnelles et/ou une dépression post-partum. \nIl y aura aussi une rencontre en couple un samedi durant la session. \nGratuit pour les membres
URL:https://familleacoeur.qc.ca/evenement/groupe-de-soutien-leveil-en-douceur-3/2026-01-15/
CATEGORIES:Activités
ATTACH;FMTTYPE=image/jpeg:https://familleacoeur.qc.ca/wp-content/uploads/2025/03/hand-5961660_1280.jpg
END:VEVENT
BEGIN:VEVENT
DTSTART;TZID=America/Toronto:20260114T093000
DTEND;TZID=America/Toronto:20260114T113000
DTSTAMP:20260419T224048
CREATED:20251110T192342Z
LAST-MODIFIED:20260204T162930Z
UID:10002229-1768383000-1768390200@familleacoeur.qc.ca
SUMMARY:Café-jasette «Les Galipettes» pour parents et enfants de 2 à 5 ans
DESCRIPTION:Pour parents et enfants âgés de 2 à 5 ans. \nPour connaître les prochaines dates de rencontres pour la session à venir\, consultez la page Facebook de Famille à Cœur ou notre calendrier.
URL:https://familleacoeur.qc.ca/evenement/cafe-jasette-les-galipettes-pour-parents-et-enfants-de-2-a-5-ans/2026-01-14/
CATEGORIES:Activités
ATTACH;FMTTYPE=image/jpeg:https://familleacoeur.qc.ca/wp-content/uploads/2021/02/galipettes2.jpg
END:VEVENT
BEGIN:VEVENT
DTSTART;TZID=America/Toronto:20260113T090000
DTEND;TZID=America/Toronto:20260113T120000
DTSTAMP:20260419T224048
CREATED:20251110T192848Z
LAST-MODIFIED:20260204T163153Z
UID:10002426-1768294800-1768305600@familleacoeur.qc.ca
SUMMARY:Les mères... Entre-Nous !
DESCRIPTION:l’« Entre-Nous » est un local mis à la disposition des mères qui désirent rencontrer d’autres mères… \nC’est GRATUIT et sans inscription.
URL:https://familleacoeur.qc.ca/evenement/les-meres-entre-nous-le-matin-2-2-3/2026-01-13/
CATEGORIES:Services
ATTACH;FMTTYPE=image/jpeg:https://familleacoeur.qc.ca/wp-content/uploads/2023/08/Bedons_12mai2022_007.jpg
END:VEVENT
BEGIN:VEVENT
DTSTART;TZID=America/Toronto:20260112T090000
DTEND;TZID=America/Toronto:20260112T113000
DTSTAMP:20260419T224048
CREATED:20251110T193737Z
LAST-MODIFIED:20260105T154547Z
UID:10001987-1768208400-1768217400@familleacoeur.qc.ca
SUMMARY:Groupe de soutien « L'Éveil en douceur »
DESCRIPTION:Ce groupe de soutien et de prévention de la dépression post-partum s’adresse aux mères qui vivent des difficultés émotionnelles et/ou une dépression post-partum. \nIl y aura aussi une rencontre en couple un samedi durant la session. \nGratuit pour les membres
URL:https://familleacoeur.qc.ca/evenement/groupe-de-soutien-leveil-en-douceur-2-2/2026-01-12/
CATEGORIES:Activités
ATTACH;FMTTYPE=image/jpeg:https://familleacoeur.qc.ca/wp-content/uploads/2025/03/hand-5961660_1280.jpg
END:VEVENT
BEGIN:VEVENT
DTSTART;TZID=America/Toronto:20251218T093000
DTEND;TZID=America/Toronto:20251218T113000
DTSTAMP:20260419T224048
CREATED:20250813T185343Z
LAST-MODIFIED:20250813T185440Z
UID:10002005-1766050200-1766057400@familleacoeur.qc.ca
SUMMARY:Les p’tits matins bedons poupons
DESCRIPTION:Cette activité s’adresse aux parents d’enfants de 0 (grossesse) à 2 ans. Les p’tits matins bedons poupons se déroulent de 9 h 30 à 11 h 30 à tous les jeudis. Le but est de permettre à ces parents de rencontrer d’autres parents\, afin d’échanger et d’en apprendre sur des sujets en lien direct avec leur réalité commune\, accompagnés de leur poupon. À l’occasion nous avons des invités qui viennent discuter de différents sujets tels que la nutrition (DME)\, ostéopathie\, massothérapie pour bébé\, etc. \nGratuit pour les membres.
URL:https://familleacoeur.qc.ca/evenement/les-ptits-matins-bedons-poupons-ete-2-2-2-2/2025-12-18/
CATEGORIES:Activités,Services
ATTACH;FMTTYPE=image/jpeg:https://familleacoeur.qc.ca/wp-content/uploads/2021/02/bedons-poupons.jpg
END:VEVENT
BEGIN:VEVENT
DTSTART;TZID=America/Toronto:20251217T093000
DTEND;TZID=America/Toronto:20251217T113000
DTSTAMP:20260419T224048
CREATED:20250820T153220Z
LAST-MODIFIED:20250820T153751Z
UID:10002090-1765963800-1765971000@familleacoeur.qc.ca
SUMMARY:Café-jasette «Les Galipettes» pour parents et enfants de 2 à 5 ans
DESCRIPTION:Pour parents et enfants âgés de 2 à 5 ans. \nPour connaître les prochaines dates de rencontres pour la session à venir\, consultez la page Facebook de Famille à Cœur ou notre calendrier.
URL:https://familleacoeur.qc.ca/evenement/cafe-jasette-les-galipettes-pour-parents-et-enfants-de-2-a-5-ans-2-2-2-2/2025-12-17/
CATEGORIES:Activités
ATTACH;FMTTYPE=image/jpeg:https://familleacoeur.qc.ca/wp-content/uploads/2021/02/galipettes2.jpg
END:VEVENT
BEGIN:VEVENT
DTSTART;TZID=America/Toronto:20251211T093000
DTEND;TZID=America/Toronto:20251211T113000
DTSTAMP:20260419T224048
CREATED:20250813T185343Z
LAST-MODIFIED:20250813T185440Z
UID:10002004-1765445400-1765452600@familleacoeur.qc.ca
SUMMARY:Les p’tits matins bedons poupons
DESCRIPTION:Cette activité s’adresse aux parents d’enfants de 0 (grossesse) à 2 ans. Les p’tits matins bedons poupons se déroulent de 9 h 30 à 11 h 30 à tous les jeudis. Le but est de permettre à ces parents de rencontrer d’autres parents\, afin d’échanger et d’en apprendre sur des sujets en lien direct avec leur réalité commune\, accompagnés de leur poupon. À l’occasion nous avons des invités qui viennent discuter de différents sujets tels que la nutrition (DME)\, ostéopathie\, massothérapie pour bébé\, etc. \nGratuit pour les membres.
URL:https://familleacoeur.qc.ca/evenement/les-ptits-matins-bedons-poupons-ete-2-2-2-2/2025-12-11/
CATEGORIES:Activités,Services
ATTACH;FMTTYPE=image/jpeg:https://familleacoeur.qc.ca/wp-content/uploads/2021/02/bedons-poupons.jpg
END:VEVENT
END:VCALENDAR