BEGIN:VCALENDAR
VERSION:2.0
PRODID:-//Famille à Coeur - ECPv6.2.2//NONSGML v1.0//EN
CALSCALE:GREGORIAN
METHOD:PUBLISH
X-ORIGINAL-URL:https://familleacoeur.qc.ca
X-WR-CALDESC:évènements pour Famille à Coeur
REFRESH-INTERVAL;VALUE=DURATION:PT1H
X-Robots-Tag:noindex
X-PUBLISHED-TTL:PT1H
BEGIN:VTIMEZONE
TZID:America/Toronto
BEGIN:DAYLIGHT
TZOFFSETFROM:-0500
TZOFFSETTO:-0400
TZNAME:EDT
DTSTART:20250309T070000
END:DAYLIGHT
BEGIN:STANDARD
TZOFFSETFROM:-0400
TZOFFSETTO:-0500
TZNAME:EST
DTSTART:20251102T060000
END:STANDARD
BEGIN:DAYLIGHT
TZOFFSETFROM:-0500
TZOFFSETTO:-0400
TZNAME:EDT
DTSTART:20260308T070000
END:DAYLIGHT
BEGIN:STANDARD
TZOFFSETFROM:-0400
TZOFFSETTO:-0500
TZNAME:EST
DTSTART:20261101T060000
END:STANDARD
END:VTIMEZONE
BEGIN:VEVENT
DTSTART;TZID=America/Toronto:20260114T093000
DTEND;TZID=America/Toronto:20260114T113000
DTSTAMP:20260420T012843
CREATED:20251110T192342Z
LAST-MODIFIED:20260204T162930Z
UID:10002229-1768383000-1768390200@familleacoeur.qc.ca
SUMMARY:Café-jasette «Les Galipettes» pour parents et enfants de 2 à 5 ans
DESCRIPTION:Pour parents et enfants âgés de 2 à 5 ans. \nPour connaître les prochaines dates de rencontres pour la session à venir\, consultez la page Facebook de Famille à Cœur ou notre calendrier.
URL:https://familleacoeur.qc.ca/evenement/cafe-jasette-les-galipettes-pour-parents-et-enfants-de-2-a-5-ans/2026-01-14/
CATEGORIES:Activités
ATTACH;FMTTYPE=image/jpeg:https://familleacoeur.qc.ca/wp-content/uploads/2021/02/galipettes2.jpg
END:VEVENT
BEGIN:VEVENT
DTSTART;TZID=America/Toronto:20260113T090000
DTEND;TZID=America/Toronto:20260113T120000
DTSTAMP:20260420T012843
CREATED:20251110T192848Z
LAST-MODIFIED:20260204T163153Z
UID:10002426-1768294800-1768305600@familleacoeur.qc.ca
SUMMARY:Les mères... Entre-Nous !
DESCRIPTION:l’« Entre-Nous » est un local mis à la disposition des mères qui désirent rencontrer d’autres mères… \nC’est GRATUIT et sans inscription.
URL:https://familleacoeur.qc.ca/evenement/les-meres-entre-nous-le-matin-2-2-3/2026-01-13/
CATEGORIES:Services
ATTACH;FMTTYPE=image/jpeg:https://familleacoeur.qc.ca/wp-content/uploads/2023/08/Bedons_12mai2022_007.jpg
END:VEVENT
BEGIN:VEVENT
DTSTART;TZID=America/Toronto:20260112T090000
DTEND;TZID=America/Toronto:20260112T113000
DTSTAMP:20260420T012843
CREATED:20251110T193737Z
LAST-MODIFIED:20260105T154547Z
UID:10001987-1768208400-1768217400@familleacoeur.qc.ca
SUMMARY:Groupe de soutien « L'Éveil en douceur »
DESCRIPTION:Ce groupe de soutien et de prévention de la dépression post-partum s’adresse aux mères qui vivent des difficultés émotionnelles et/ou une dépression post-partum. \nIl y aura aussi une rencontre en couple un samedi durant la session. \nGratuit pour les membres
URL:https://familleacoeur.qc.ca/evenement/groupe-de-soutien-leveil-en-douceur-2-2/2026-01-12/
CATEGORIES:Activités
ATTACH;FMTTYPE=image/jpeg:https://familleacoeur.qc.ca/wp-content/uploads/2025/03/hand-5961660_1280.jpg
END:VEVENT
BEGIN:VEVENT
DTSTART;TZID=America/Toronto:20251218T093000
DTEND;TZID=America/Toronto:20251218T113000
DTSTAMP:20260420T012843
CREATED:20250813T185343Z
LAST-MODIFIED:20250813T185440Z
UID:10002005-1766050200-1766057400@familleacoeur.qc.ca
SUMMARY:Les p’tits matins bedons poupons
DESCRIPTION:Cette activité s’adresse aux parents d’enfants de 0 (grossesse) à 2 ans. Les p’tits matins bedons poupons se déroulent de 9 h 30 à 11 h 30 à tous les jeudis. Le but est de permettre à ces parents de rencontrer d’autres parents\, afin d’échanger et d’en apprendre sur des sujets en lien direct avec leur réalité commune\, accompagnés de leur poupon. À l’occasion nous avons des invités qui viennent discuter de différents sujets tels que la nutrition (DME)\, ostéopathie\, massothérapie pour bébé\, etc. \nGratuit pour les membres.
URL:https://familleacoeur.qc.ca/evenement/les-ptits-matins-bedons-poupons-ete-2-2-2-2/2025-12-18/
CATEGORIES:Activités,Services
ATTACH;FMTTYPE=image/jpeg:https://familleacoeur.qc.ca/wp-content/uploads/2021/02/bedons-poupons.jpg
END:VEVENT
BEGIN:VEVENT
DTSTART;TZID=America/Toronto:20251217T093000
DTEND;TZID=America/Toronto:20251217T113000
DTSTAMP:20260420T012843
CREATED:20250820T153220Z
LAST-MODIFIED:20250820T153751Z
UID:10002090-1765963800-1765971000@familleacoeur.qc.ca
SUMMARY:Café-jasette «Les Galipettes» pour parents et enfants de 2 à 5 ans
DESCRIPTION:Pour parents et enfants âgés de 2 à 5 ans. \nPour connaître les prochaines dates de rencontres pour la session à venir\, consultez la page Facebook de Famille à Cœur ou notre calendrier.
URL:https://familleacoeur.qc.ca/evenement/cafe-jasette-les-galipettes-pour-parents-et-enfants-de-2-a-5-ans-2-2-2-2/2025-12-17/
CATEGORIES:Activités
ATTACH;FMTTYPE=image/jpeg:https://familleacoeur.qc.ca/wp-content/uploads/2021/02/galipettes2.jpg
END:VEVENT
BEGIN:VEVENT
DTSTART;TZID=America/Toronto:20251211T093000
DTEND;TZID=America/Toronto:20251211T113000
DTSTAMP:20260420T012843
CREATED:20250813T185343Z
LAST-MODIFIED:20250813T185440Z
UID:10002004-1765445400-1765452600@familleacoeur.qc.ca
SUMMARY:Les p’tits matins bedons poupons
DESCRIPTION:Cette activité s’adresse aux parents d’enfants de 0 (grossesse) à 2 ans. Les p’tits matins bedons poupons se déroulent de 9 h 30 à 11 h 30 à tous les jeudis. Le but est de permettre à ces parents de rencontrer d’autres parents\, afin d’échanger et d’en apprendre sur des sujets en lien direct avec leur réalité commune\, accompagnés de leur poupon. À l’occasion nous avons des invités qui viennent discuter de différents sujets tels que la nutrition (DME)\, ostéopathie\, massothérapie pour bébé\, etc. \nGratuit pour les membres.
URL:https://familleacoeur.qc.ca/evenement/les-ptits-matins-bedons-poupons-ete-2-2-2-2/2025-12-11/
CATEGORIES:Activités,Services
ATTACH;FMTTYPE=image/jpeg:https://familleacoeur.qc.ca/wp-content/uploads/2021/02/bedons-poupons.jpg
END:VEVENT
BEGIN:VEVENT
DTSTART;TZID=America/Toronto:20251210T093000
DTEND;TZID=America/Toronto:20251210T113000
DTSTAMP:20260420T012843
CREATED:20250820T153220Z
LAST-MODIFIED:20250820T153751Z
UID:10002089-1765359000-1765366200@familleacoeur.qc.ca
SUMMARY:Café-jasette «Les Galipettes» pour parents et enfants de 2 à 5 ans
DESCRIPTION:Pour parents et enfants âgés de 2 à 5 ans. \nPour connaître les prochaines dates de rencontres pour la session à venir\, consultez la page Facebook de Famille à Cœur ou notre calendrier.
URL:https://familleacoeur.qc.ca/evenement/cafe-jasette-les-galipettes-pour-parents-et-enfants-de-2-a-5-ans-2-2-2-2/2025-12-10/
CATEGORIES:Activités
ATTACH;FMTTYPE=image/jpeg:https://familleacoeur.qc.ca/wp-content/uploads/2021/02/galipettes2.jpg
END:VEVENT
BEGIN:VEVENT
DTSTART;TZID=America/Toronto:20251205T130000
DTEND;TZID=America/Toronto:20251205T160000
DTSTAMP:20260420T012843
CREATED:20250919T133409Z
LAST-MODIFIED:20250919T133847Z
UID:10002188-1764939600-1764950400@familleacoeur.qc.ca
SUMMARY:1/2 pédago (6-12 ans) - Bingo & Brico
DESCRIPTION:Un après-midi d’activités réservé aux enfants de 6 à 12 ans \n\nBingo & surprises\nChocolat chaud\nFabrication d’une figurine pain d’épice en feutrine\nCréation d’une lanterne de noël\nCréation de cartes de noël\n\n 
URL:https://familleacoeur.qc.ca/evenement/1-2-pedago-6-12-ans-bingo-brico/
CATEGORIES:Activités
ATTACH;FMTTYPE=image/jpeg:https://familleacoeur.qc.ca/wp-content/uploads/2025/09/pool-7318132_1280.jpg
END:VEVENT
BEGIN:VEVENT
DTSTART;TZID=America/Toronto:20251204T093000
DTEND;TZID=America/Toronto:20251204T113000
DTSTAMP:20260420T012843
CREATED:20250813T185343Z
LAST-MODIFIED:20250813T185440Z
UID:10002003-1764840600-1764847800@familleacoeur.qc.ca
SUMMARY:Les p’tits matins bedons poupons
DESCRIPTION:Cette activité s’adresse aux parents d’enfants de 0 (grossesse) à 2 ans. Les p’tits matins bedons poupons se déroulent de 9 h 30 à 11 h 30 à tous les jeudis. Le but est de permettre à ces parents de rencontrer d’autres parents\, afin d’échanger et d’en apprendre sur des sujets en lien direct avec leur réalité commune\, accompagnés de leur poupon. À l’occasion nous avons des invités qui viennent discuter de différents sujets tels que la nutrition (DME)\, ostéopathie\, massothérapie pour bébé\, etc. \nGratuit pour les membres.
URL:https://familleacoeur.qc.ca/evenement/les-ptits-matins-bedons-poupons-ete-2-2-2-2/2025-12-04/
CATEGORIES:Activités,Services
ATTACH;FMTTYPE=image/jpeg:https://familleacoeur.qc.ca/wp-content/uploads/2021/02/bedons-poupons.jpg
END:VEVENT
BEGIN:VEVENT
DTSTART;TZID=America/Toronto:20251203T180000
DTEND;TZID=America/Toronto:20251203T200000
DTSTAMP:20260420T012843
CREATED:20250919T135825Z
LAST-MODIFIED:20250919T135933Z
UID:10002195-1764784800-1764792000@familleacoeur.qc.ca
SUMMARY:Parler pour que les enfants écoutent\, écouter pour que les enfants parlent
DESCRIPTION:Description : Ce programme est conçu pour permettre à votre famille de vivre des relations plus harmonieuses. Échelonné sur 8 rencontres\, il sera question de présence\, de leadership\, de communication\, d’écoute\, d’attention et de beauté du moment présent. Ces ateliers ont pour objectif d’aider les parents à développer divers outils en passant par six thèmes : \n1. Accueillir les sentiments pénibles \n2. Susciter la coopération \n3. Remplacer la punition \n4. Encourager l’autonomie \n5. Compliments et estime de soi \n6. Aider les enfants à se dégager des rôles
URL:https://familleacoeur.qc.ca/evenement/parler-pour-que-les-enfants-ecoutent-ecouter-pour-que-les-enfants-parlent-2-2/2025-12-03/
CATEGORIES:Ateliers
ATTACH;FMTTYPE=image/jpeg:https://familleacoeur.qc.ca/wp-content/uploads/2021/02/parler-ecouter2.jpg
END:VEVENT
BEGIN:VEVENT
DTSTART;TZID=America/Toronto:20251203T093000
DTEND;TZID=America/Toronto:20251203T113000
DTSTAMP:20260420T012843
CREATED:20250820T153220Z
LAST-MODIFIED:20250820T153751Z
UID:10002088-1764754200-1764761400@familleacoeur.qc.ca
SUMMARY:Café-jasette «Les Galipettes» pour parents et enfants de 2 à 5 ans
DESCRIPTION:Pour parents et enfants âgés de 2 à 5 ans. \nPour connaître les prochaines dates de rencontres pour la session à venir\, consultez la page Facebook de Famille à Cœur ou notre calendrier.
URL:https://familleacoeur.qc.ca/evenement/cafe-jasette-les-galipettes-pour-parents-et-enfants-de-2-a-5-ans-2-2-2-2/2025-12-03/
CATEGORIES:Activités
ATTACH;FMTTYPE=image/jpeg:https://familleacoeur.qc.ca/wp-content/uploads/2021/02/galipettes2.jpg
END:VEVENT
BEGIN:VEVENT
DTSTART;TZID=America/Toronto:20251201T183000
DTEND;TZID=America/Toronto:20251201T203000
DTSTAMP:20260420T012843
CREATED:20241118T184224Z
LAST-MODIFIED:20251125T140300Z
UID:10001662-1764613800-1764621000@familleacoeur.qc.ca
SUMMARY:Félicitation ! (Une rencontre spéciale pour les parents qui viennent tout juste d'apprendre la nouvelle grossesse)
DESCRIPTION:Soirée Félicitation ! (Groupe différent chaque mois) \nUne rencontre spéciale pour les parents qui viennent tout juste d’apprendre la nouvelle grossesse. Plusieurs sujets seront abordés lors de cette soirée.
URL:https://familleacoeur.qc.ca/evenement/felicitation-une-rencontre-speciale-pour-les-parents-qui-viennent-tout-juste-dapprendre-la-nouvelle-grossesse/
CATEGORIES:Activités
ATTACH;FMTTYPE=image/jpeg:https://familleacoeur.qc.ca/wp-content/uploads/2024/11/pregnancy-5360826_1280.jpg
END:VEVENT
BEGIN:VEVENT
DTSTART;TZID=America/Toronto:20251129T090000
DTEND;TZID=America/Toronto:20251129T120000
DTSTAMP:20260420T012843
CREATED:20251103T165426Z
LAST-MODIFIED:20251103T165502Z
UID:10002213-1764406800-1764417600@familleacoeur.qc.ca
SUMMARY:Premier pas vers la culture ! Parce que la curiosité commence tôt.
DESCRIPTION:Cet événement gratuit s’adresse spécialement aux 0-5 ans \nDans le cadre de l’entente de développement culturel financée par le ministère de la culture et des communications\, la ville de Saint-Jean-sur-Richelieu\, en collaboration avec Famille à Cœur\, invite les tout-petits à explorer différentes disciplines artistiques telles que la musique\, les arts visuels\, le théâtre et la danse. \nSous la forme d’un brunch festif\, la programmation proposera des stations d’exploration. L’ambiance sera à la fête au centre d’art\, alors qu’une ambiance plus calme sera proposée à la Maison Epiphany. \n29 novembre de 9h à 12h \nAu Domaine Trinity
URL:https://familleacoeur.qc.ca/evenement/premier-pas-vers-la-culture-parce-que-la-curiosite-commence-tot/
ATTACH;FMTTYPE=image/png:https://familleacoeur.qc.ca/wp-content/uploads/2025/11/COVER-FB.png
END:VEVENT
BEGIN:VEVENT
DTSTART;TZID=America/Toronto:20251127T093000
DTEND;TZID=America/Toronto:20251127T113000
DTSTAMP:20260420T012843
CREATED:20250813T185343Z
LAST-MODIFIED:20250813T185440Z
UID:10002002-1764235800-1764243000@familleacoeur.qc.ca
SUMMARY:Les p’tits matins bedons poupons
DESCRIPTION:Cette activité s’adresse aux parents d’enfants de 0 (grossesse) à 2 ans. Les p’tits matins bedons poupons se déroulent de 9 h 30 à 11 h 30 à tous les jeudis. Le but est de permettre à ces parents de rencontrer d’autres parents\, afin d’échanger et d’en apprendre sur des sujets en lien direct avec leur réalité commune\, accompagnés de leur poupon. À l’occasion nous avons des invités qui viennent discuter de différents sujets tels que la nutrition (DME)\, ostéopathie\, massothérapie pour bébé\, etc. \nGratuit pour les membres.
URL:https://familleacoeur.qc.ca/evenement/les-ptits-matins-bedons-poupons-ete-2-2-2-2/2025-11-27/
CATEGORIES:Activités,Services
ATTACH;FMTTYPE=image/jpeg:https://familleacoeur.qc.ca/wp-content/uploads/2021/02/bedons-poupons.jpg
END:VEVENT
BEGIN:VEVENT
DTSTART;TZID=America/Toronto:20251126T180000
DTEND;TZID=America/Toronto:20251126T200000
DTSTAMP:20260420T012843
CREATED:20250919T135825Z
LAST-MODIFIED:20250919T135933Z
UID:10002194-1764180000-1764187200@familleacoeur.qc.ca
SUMMARY:Parler pour que les enfants écoutent\, écouter pour que les enfants parlent
DESCRIPTION:Description : Ce programme est conçu pour permettre à votre famille de vivre des relations plus harmonieuses. Échelonné sur 8 rencontres\, il sera question de présence\, de leadership\, de communication\, d’écoute\, d’attention et de beauté du moment présent. Ces ateliers ont pour objectif d’aider les parents à développer divers outils en passant par six thèmes : \n1. Accueillir les sentiments pénibles \n2. Susciter la coopération \n3. Remplacer la punition \n4. Encourager l’autonomie \n5. Compliments et estime de soi \n6. Aider les enfants à se dégager des rôles
URL:https://familleacoeur.qc.ca/evenement/parler-pour-que-les-enfants-ecoutent-ecouter-pour-que-les-enfants-parlent-2-2/2025-11-26/
CATEGORIES:Ateliers
ATTACH;FMTTYPE=image/jpeg:https://familleacoeur.qc.ca/wp-content/uploads/2021/02/parler-ecouter2.jpg
END:VEVENT
BEGIN:VEVENT
DTSTART;TZID=America/Toronto:20251126T093000
DTEND;TZID=America/Toronto:20251126T113000
DTSTAMP:20260420T012843
CREATED:20250820T153220Z
LAST-MODIFIED:20250820T153751Z
UID:10002087-1764149400-1764156600@familleacoeur.qc.ca
SUMMARY:Café-jasette «Les Galipettes» pour parents et enfants de 2 à 5 ans
DESCRIPTION:Pour parents et enfants âgés de 2 à 5 ans. \nPour connaître les prochaines dates de rencontres pour la session à venir\, consultez la page Facebook de Famille à Cœur ou notre calendrier.
URL:https://familleacoeur.qc.ca/evenement/cafe-jasette-les-galipettes-pour-parents-et-enfants-de-2-a-5-ans-2-2-2-2/2025-11-26/
CATEGORIES:Activités
ATTACH;FMTTYPE=image/jpeg:https://familleacoeur.qc.ca/wp-content/uploads/2021/02/galipettes2.jpg
END:VEVENT
BEGIN:VEVENT
DTSTART;TZID=America/Toronto:20251123T093000
DTEND;TZID=America/Toronto:20251123T113000
DTSTAMP:20260420T012843
CREATED:20250813T172255Z
LAST-MODIFIED:20250820T154005Z
UID:10002099-1763890200-1763897400@familleacoeur.qc.ca
SUMMARY:Langagibou
DESCRIPTION:L’atelier LANGAGIBOU invite le parent et son enfant à travailler le développement du langage. \nLe but est d’acquérir des stratégies langagières selon une approche personnalisée. \nLa rencontre est d’une durée de 2 heures assistée par deux accompagnatrices et divisée en quelques modules : causerie\, parcours dirigé\, activité de groupe structuré (thématique)\, collation et jeux libre(enfants) + causette (parents)\, histoire et départ. \nNote : Une pré-inscription est requise pour participer à l’atelier \nCOÛT : 90$ pour la session (revient à 10$ l’atelier)
URL:https://familleacoeur.qc.ca/evenement/langagibou-3-2/2025-11-23/
CATEGORIES:Activités
ATTACH;FMTTYPE=image/jpeg:https://familleacoeur.qc.ca/wp-content/uploads/2024/02/pexels-mart-production-7414905-scaled-e1708617596238.jpg
END:VEVENT
BEGIN:VEVENT
DTSTART;TZID=America/Toronto:20251122T090000
DTEND;TZID=America/Toronto:20251122T160000
DTSTAMP:20260420T012843
CREATED:20251110T181136Z
LAST-MODIFIED:20251110T181313Z
UID:10002199-1763802000-1763827200@familleacoeur.qc.ca
SUMMARY:Marathon de lecture
DESCRIPTION:LIEU : Famille à Coeur\, 130 rue St-Georges\, St-Jean-sur-Richelieu\, J3B 2S8 \nCOÛT : Gratuit \nDATE : 22 novembre 2025 \nHEURES : de 11h à 19h \nHoraire des ateliers (Inscription obligatoire aux ateliers) \n11h00 Accueil des participants\, remise des fiches de comptabilisation des pages \n12h00 Activité boîtes à histoires \n13h00 Atelier conte et raconte \n14h00 Atelier signets Origami  + 1er tirage \n15h00 Heure du conte 0-5 ans \n16h00 Atelier bande dessinée \n17h00 Souper\, annoncer le nombre de pages lues jusqu’à maintenant + 2 ème tirage \n18h00 Heure du conte 6-8 ans \n19h00 Fin du Marathon
URL:https://familleacoeur.qc.ca/evenement/marathon-de-lecture/
CATEGORIES:Activités
ATTACH;FMTTYPE=image/jpeg:https://familleacoeur.qc.ca/wp-content/uploads/2025/10/MarathonLecture_2025_STANByTL.jpg
END:VEVENT
BEGIN:VEVENT
DTSTART;TZID=America/Toronto:20251121T130000
DTEND;TZID=America/Toronto:20251121T160000
DTSTAMP:20260420T012843
CREATED:20250919T135141Z
LAST-MODIFIED:20250919T135235Z
UID:10002190-1763730000-1763740800@familleacoeur.qc.ca
SUMMARY:1/2 pédago (6-12 ans) - "Glow in the dark"
DESCRIPTION:Un après-midi d’activités réservé aux enfants de 6 à 12 ans \n\nPeinture dans le noir avec lumière black lights\nCréation d’une balle rebondissante\nEt +\n\n  \n10 $ par enfant \n  \n  \n 
URL:https://familleacoeur.qc.ca/evenement/1-2-pedago-6-12-ans-glow-in-the-dark/
CATEGORIES:Activités
ATTACH;FMTTYPE=image/jpeg:https://familleacoeur.qc.ca/wp-content/uploads/2025/05/pexels-roseleon-3231775.jpg
END:VEVENT
BEGIN:VEVENT
DTSTART;TZID=America/Toronto:20251120T093000
DTEND;TZID=America/Toronto:20251120T120000
DTSTAMP:20260420T012843
CREATED:20251017T141703Z
LAST-MODIFIED:20251110T180848Z
UID:10002201-1763631000-1763640000@familleacoeur.qc.ca
SUMMARY:Journée mondiale de l'Enfance - Machin Chouette
DESCRIPTION:Pour souligner la Journée mondiale de l’enfant du 20 novembre\, vous êtes invités à une activité toute spéciale pour l’occasion. \nLIEU : Centre d’amusement au Machin Chouette  \nHORAIRE : de 9h30 à 12h00  \nÂGE : Enfants de 0-5 ans accompagnés de leurs parents \nINSCRIPTION : 450 346-1734 du 20 octobre au 18 novembre à 12h00. \nLes places sont limitées !
URL:https://familleacoeur.qc.ca/evenement/journee-mondiale-de-lenfance-machin-chouette/
CATEGORIES:Activités
ATTACH;FMTTYPE=image/jpeg:https://familleacoeur.qc.ca/wp-content/uploads/2025/10/MachinChouette.jpg
END:VEVENT
BEGIN:VEVENT
DTSTART;TZID=America/Toronto:20251120T093000
DTEND;TZID=America/Toronto:20251120T113000
DTSTAMP:20260420T012843
CREATED:20250813T185343Z
LAST-MODIFIED:20250813T185440Z
UID:10002001-1763631000-1763638200@familleacoeur.qc.ca
SUMMARY:Les p’tits matins bedons poupons
DESCRIPTION:Cette activité s’adresse aux parents d’enfants de 0 (grossesse) à 2 ans. Les p’tits matins bedons poupons se déroulent de 9 h 30 à 11 h 30 à tous les jeudis. Le but est de permettre à ces parents de rencontrer d’autres parents\, afin d’échanger et d’en apprendre sur des sujets en lien direct avec leur réalité commune\, accompagnés de leur poupon. À l’occasion nous avons des invités qui viennent discuter de différents sujets tels que la nutrition (DME)\, ostéopathie\, massothérapie pour bébé\, etc. \nGratuit pour les membres.
URL:https://familleacoeur.qc.ca/evenement/les-ptits-matins-bedons-poupons-ete-2-2-2-2/2025-11-20/
CATEGORIES:Activités,Services
ATTACH;FMTTYPE=image/jpeg:https://familleacoeur.qc.ca/wp-content/uploads/2021/02/bedons-poupons.jpg
END:VEVENT
BEGIN:VEVENT
DTSTART;TZID=America/Toronto:20251119T180000
DTEND;TZID=America/Toronto:20251119T200000
DTSTAMP:20260420T012843
CREATED:20250919T135825Z
LAST-MODIFIED:20250919T135933Z
UID:10002193-1763575200-1763582400@familleacoeur.qc.ca
SUMMARY:Parler pour que les enfants écoutent\, écouter pour que les enfants parlent
DESCRIPTION:Description : Ce programme est conçu pour permettre à votre famille de vivre des relations plus harmonieuses. Échelonné sur 8 rencontres\, il sera question de présence\, de leadership\, de communication\, d’écoute\, d’attention et de beauté du moment présent. Ces ateliers ont pour objectif d’aider les parents à développer divers outils en passant par six thèmes : \n1. Accueillir les sentiments pénibles \n2. Susciter la coopération \n3. Remplacer la punition \n4. Encourager l’autonomie \n5. Compliments et estime de soi \n6. Aider les enfants à se dégager des rôles
URL:https://familleacoeur.qc.ca/evenement/parler-pour-que-les-enfants-ecoutent-ecouter-pour-que-les-enfants-parlent-2-2/2025-11-19/
CATEGORIES:Ateliers
ATTACH;FMTTYPE=image/jpeg:https://familleacoeur.qc.ca/wp-content/uploads/2021/02/parler-ecouter2.jpg
END:VEVENT
BEGIN:VEVENT
DTSTART;TZID=America/Toronto:20251119T093000
DTEND;TZID=America/Toronto:20251119T113000
DTSTAMP:20260420T012843
CREATED:20250820T153220Z
LAST-MODIFIED:20250820T153751Z
UID:10002086-1763544600-1763551800@familleacoeur.qc.ca
SUMMARY:Café-jasette «Les Galipettes» pour parents et enfants de 2 à 5 ans
DESCRIPTION:Pour parents et enfants âgés de 2 à 5 ans. \nPour connaître les prochaines dates de rencontres pour la session à venir\, consultez la page Facebook de Famille à Cœur ou notre calendrier.
URL:https://familleacoeur.qc.ca/evenement/cafe-jasette-les-galipettes-pour-parents-et-enfants-de-2-a-5-ans-2-2-2-2/2025-11-19/
CATEGORIES:Activités
ATTACH;FMTTYPE=image/jpeg:https://familleacoeur.qc.ca/wp-content/uploads/2021/02/galipettes2.jpg
END:VEVENT
BEGIN:VEVENT
DTSTART;TZID=America/Toronto:20251116T093000
DTEND;TZID=America/Toronto:20251116T113000
DTSTAMP:20260420T012843
CREATED:20250813T172255Z
LAST-MODIFIED:20250820T154005Z
UID:10002098-1763285400-1763292600@familleacoeur.qc.ca
SUMMARY:Langagibou
DESCRIPTION:L’atelier LANGAGIBOU invite le parent et son enfant à travailler le développement du langage. \nLe but est d’acquérir des stratégies langagières selon une approche personnalisée. \nLa rencontre est d’une durée de 2 heures assistée par deux accompagnatrices et divisée en quelques modules : causerie\, parcours dirigé\, activité de groupe structuré (thématique)\, collation et jeux libre(enfants) + causette (parents)\, histoire et départ. \nNote : Une pré-inscription est requise pour participer à l’atelier \nCOÛT : 90$ pour la session (revient à 10$ l’atelier)
URL:https://familleacoeur.qc.ca/evenement/langagibou-3-2/2025-11-16/
CATEGORIES:Activités
ATTACH;FMTTYPE=image/jpeg:https://familleacoeur.qc.ca/wp-content/uploads/2024/02/pexels-mart-production-7414905-scaled-e1708617596238.jpg
END:VEVENT
BEGIN:VEVENT
DTSTART;TZID=America/Toronto:20251113T093000
DTEND;TZID=America/Toronto:20251113T113000
DTSTAMP:20260420T012843
CREATED:20250813T185343Z
LAST-MODIFIED:20250813T185440Z
UID:10002000-1763026200-1763033400@familleacoeur.qc.ca
SUMMARY:Les p’tits matins bedons poupons
DESCRIPTION:Cette activité s’adresse aux parents d’enfants de 0 (grossesse) à 2 ans. Les p’tits matins bedons poupons se déroulent de 9 h 30 à 11 h 30 à tous les jeudis. Le but est de permettre à ces parents de rencontrer d’autres parents\, afin d’échanger et d’en apprendre sur des sujets en lien direct avec leur réalité commune\, accompagnés de leur poupon. À l’occasion nous avons des invités qui viennent discuter de différents sujets tels que la nutrition (DME)\, ostéopathie\, massothérapie pour bébé\, etc. \nGratuit pour les membres.
URL:https://familleacoeur.qc.ca/evenement/les-ptits-matins-bedons-poupons-ete-2-2-2-2/2025-11-13/
CATEGORIES:Activités,Services
ATTACH;FMTTYPE=image/jpeg:https://familleacoeur.qc.ca/wp-content/uploads/2021/02/bedons-poupons.jpg
END:VEVENT
BEGIN:VEVENT
DTSTART;TZID=America/Toronto:20251112T180000
DTEND;TZID=America/Toronto:20251112T200000
DTSTAMP:20260420T012843
CREATED:20250919T135825Z
LAST-MODIFIED:20250919T135933Z
UID:10002192-1762970400-1762977600@familleacoeur.qc.ca
SUMMARY:Parler pour que les enfants écoutent\, écouter pour que les enfants parlent
DESCRIPTION:Description : Ce programme est conçu pour permettre à votre famille de vivre des relations plus harmonieuses. Échelonné sur 8 rencontres\, il sera question de présence\, de leadership\, de communication\, d’écoute\, d’attention et de beauté du moment présent. Ces ateliers ont pour objectif d’aider les parents à développer divers outils en passant par six thèmes : \n1. Accueillir les sentiments pénibles \n2. Susciter la coopération \n3. Remplacer la punition \n4. Encourager l’autonomie \n5. Compliments et estime de soi \n6. Aider les enfants à se dégager des rôles
URL:https://familleacoeur.qc.ca/evenement/parler-pour-que-les-enfants-ecoutent-ecouter-pour-que-les-enfants-parlent-2-2/2025-11-12/
CATEGORIES:Ateliers
ATTACH;FMTTYPE=image/jpeg:https://familleacoeur.qc.ca/wp-content/uploads/2021/02/parler-ecouter2.jpg
END:VEVENT
BEGIN:VEVENT
DTSTART;TZID=America/Toronto:20251112T093000
DTEND;TZID=America/Toronto:20251112T113000
DTSTAMP:20260420T012843
CREATED:20250820T153220Z
LAST-MODIFIED:20250820T153751Z
UID:10002085-1762939800-1762947000@familleacoeur.qc.ca
SUMMARY:Café-jasette «Les Galipettes» pour parents et enfants de 2 à 5 ans
DESCRIPTION:Pour parents et enfants âgés de 2 à 5 ans. \nPour connaître les prochaines dates de rencontres pour la session à venir\, consultez la page Facebook de Famille à Cœur ou notre calendrier.
URL:https://familleacoeur.qc.ca/evenement/cafe-jasette-les-galipettes-pour-parents-et-enfants-de-2-a-5-ans-2-2-2-2/2025-11-12/
CATEGORIES:Activités
ATTACH;FMTTYPE=image/jpeg:https://familleacoeur.qc.ca/wp-content/uploads/2021/02/galipettes2.jpg
END:VEVENT
BEGIN:VEVENT
DTSTART;TZID=America/Toronto:20251109T093000
DTEND;TZID=America/Toronto:20251109T113000
DTSTAMP:20260420T012843
CREATED:20250813T172255Z
LAST-MODIFIED:20250820T154005Z
UID:10002097-1762680600-1762687800@familleacoeur.qc.ca
SUMMARY:Langagibou
DESCRIPTION:L’atelier LANGAGIBOU invite le parent et son enfant à travailler le développement du langage. \nLe but est d’acquérir des stratégies langagières selon une approche personnalisée. \nLa rencontre est d’une durée de 2 heures assistée par deux accompagnatrices et divisée en quelques modules : causerie\, parcours dirigé\, activité de groupe structuré (thématique)\, collation et jeux libre(enfants) + causette (parents)\, histoire et départ. \nNote : Une pré-inscription est requise pour participer à l’atelier \nCOÛT : 90$ pour la session (revient à 10$ l’atelier)
URL:https://familleacoeur.qc.ca/evenement/langagibou-3-2/2025-11-09/
CATEGORIES:Activités
ATTACH;FMTTYPE=image/jpeg:https://familleacoeur.qc.ca/wp-content/uploads/2024/02/pexels-mart-production-7414905-scaled-e1708617596238.jpg
END:VEVENT
BEGIN:VEVENT
DTSTART;TZID=America/Toronto:20251108T100000
DTEND;TZID=America/Toronto:20251108T110000
DTSTAMP:20260420T012843
CREATED:20251022T151045Z
LAST-MODIFIED:20251022T151045Z
UID:10002131-1762596000-1762599600@familleacoeur.qc.ca
SUMMARY:Éveil à la lecture
DESCRIPTION:La lecture a plusieurs bienfaits sur le développement de l’enfant (langage\, créativité\, confiance en soi…) L’éveil à la lecture est une bonne façon de créer de précieux moments avec vos petits en se basant sur une lecture interactive et enrichie. Nous allons bouger\, faire participer les petits et les grands durant la lecture\, créer des personnages et tout un monde. À vos livres! Prêt? Partez !! \nL’atelier s’adresse aux parents avec leurs enfants de 0 à 24 mois.
URL:https://familleacoeur.qc.ca/evenement/eveil-a-la-lecture-2-2/2025-11-08/
CATEGORIES:Ateliers
ATTACH;FMTTYPE=image/jpeg:https://familleacoeur.qc.ca/wp-content/uploads/2025/05/pexels-rdne-6182277-scaled.jpg
END:VEVENT
BEGIN:VEVENT
DTSTART;TZID=America/Toronto:20251107T130000
DTEND;TZID=America/Toronto:20251107T160000
DTSTAMP:20260420T012843
CREATED:20250919T134631Z
LAST-MODIFIED:20250919T134631Z
UID:10002189-1762520400-1762531200@familleacoeur.qc.ca
SUMMARY:1/2 pédago (6-12 ans) - Atelier de cuisine sucré
DESCRIPTION:Un après-midi d’activités réservé aux enfants de 6 à 12 ans. \n\nAtelier de cuisine\nRecette de boule d’énergie\nCake pop\nBrochette de tanghulu\n\n  \n10 $ par enfant \n 
URL:https://familleacoeur.qc.ca/evenement/1-2-pedago-6-12-ans-atelier-de-cuisine-sucre/
ATTACH;FMTTYPE=image/jpeg:https://familleacoeur.qc.ca/wp-content/uploads/2025/09/20241212-SEA-Tanghulu-MelatiCitrawireja-Hero2-06-81c06d38bf2f48e8911911cc99a4300d.jpg
END:VEVENT
END:VCALENDAR